BEGIN:VCALENDAR
VERSION:2.0
PRODID:-//The Chronicles Of PiercingKen - ECPv6.15.20//NONSGML v1.0//EN
CALSCALE:GREGORIAN
METHOD:PUBLISH
X-ORIGINAL-URL:https://www.piercingken.com
X-WR-CALDESC:Events for The Chronicles Of PiercingKen
REFRESH-INTERVAL;VALUE=DURATION:PT1H
X-Robots-Tag:noindex
X-PUBLISHED-TTL:PT1H
BEGIN:VTIMEZONE
TZID:America/New_York
BEGIN:DAYLIGHT
TZOFFSETFROM:-0500
TZOFFSETTO:-0400
TZNAME:EDT
DTSTART:20180311T070000
END:DAYLIGHT
BEGIN:STANDARD
TZOFFSETFROM:-0400
TZOFFSETTO:-0500
TZNAME:EST
DTSTART:20181104T060000
END:STANDARD
BEGIN:DAYLIGHT
TZOFFSETFROM:-0500
TZOFFSETTO:-0400
TZNAME:EDT
DTSTART:20190310T070000
END:DAYLIGHT
BEGIN:STANDARD
TZOFFSETFROM:-0400
TZOFFSETTO:-0500
TZNAME:EST
DTSTART:20191103T060000
END:STANDARD
BEGIN:DAYLIGHT
TZOFFSETFROM:-0500
TZOFFSETTO:-0400
TZNAME:EDT
DTSTART:20200308T070000
END:DAYLIGHT
BEGIN:STANDARD
TZOFFSETFROM:-0400
TZOFFSETTO:-0500
TZNAME:EST
DTSTART:20201101T060000
END:STANDARD
END:VTIMEZONE
BEGIN:VEVENT
DTSTART;VALUE=DATE:20190908
DTEND;VALUE=DATE:20190909
DTSTAMP:20260425T123814
CREATED:20190706T130058Z
LAST-MODIFIED:20190707T013151Z
UID:40407-1567900800-1567987199@www.piercingken.com
SUMMARY:RuPaul's DragCon @Javits Center
DESCRIPTION:RuPaul’s DragCon is the first convention celebrating drag\, queer culture\, & self-expression!   \n \nLike this:Like Loading...
URL:https://www.piercingken.com/event/rupauls-dragcon-javits-center-3/
LOCATION:Jacob K. Javits Convention Center\, 655 W 34th St.\, New York\,\, NY\, 10001\, United States
CATEGORIES:Convention
END:VEVENT
BEGIN:VEVENT
DTSTART;VALUE=DATE:20190921
DTEND;VALUE=DATE:20190922
DTSTAMP:20260425T123814
CREATED:20190718T200029Z
LAST-MODIFIED:20190718T202412Z
UID:40588-1569024000-1569110399@www.piercingken.com
SUMMARY:Sexual Health Expo @ Brooklyn Expo Center
DESCRIPTION:Per the website\, SHE is a groundbreaking event dedicated to promoting sexual health and wellness\, Sexual Health Expo (SHE) is an upscale event that puts a stylish touch on sex-ed. Anchored by exclusive workshops hosted by the nation’s top “sexperts” and exhibition halls featuring cutting-edge pleasure product brands.  While General Admission is free after registering\, a VIP experience puts you in front of the line and gives you a goodie bag. \n \nLike this:Like Loading...
URL:https://www.piercingken.com/event/sexual-health-expo-brooklyn-expo-center/
LOCATION:Brooklyn Expo Center\, 72 Noble Street\, Brooklyn\, NY\, 11222\, United States
CATEGORIES:Convention
END:VEVENT
BEGIN:VEVENT
DTSTART;VALUE=DATE:20190922
DTEND;VALUE=DATE:20190923
DTSTAMP:20260425T123814
CREATED:20190718T203039Z
LAST-MODIFIED:20190718T202448Z
UID:40589-1569110400-1569196799@www.piercingken.com
SUMMARY:Sexual Health Expo @ Brooklyn Expo Center
DESCRIPTION:Per the website\, SHE is a groundbreaking event dedicated to promoting sexual health and wellness\, Sexual Health Expo (SHE) is an upscale event that puts a stylish touch on sex-ed. Anchored by exclusive workshops hosted by the nation’s top “sexperts” and exhibition halls featuring cutting-edge pleasure product brands.  While General Admission is free after registering\, a VIP experience puts you in front of the line and gives you a goodie bag. \n \nLike this:Like Loading...
URL:https://www.piercingken.com/event/sexual-health-expo-brooklyn-expo-center-2/
LOCATION:Brooklyn Expo Center\, 72 Noble Street\, Brooklyn\, NY\, 11222\, United States
CATEGORIES:Convention
END:VEVENT
BEGIN:VEVENT
DTSTART;VALUE=DATE:20191003
DTEND;VALUE=DATE:20191004
DTSTAMP:20260425T123814
CREATED:20190509T130020Z
LAST-MODIFIED:20241002T013924Z
UID:39504-1570060800-1570147199@www.piercingken.com
SUMMARY:New York Comic Con @ Javits Center
DESCRIPTION:It’s the biggest Pop Culture event to happen each year in NYC and it’s time to dive deep into the hyper activity that is the New York Comic Con. Be sure to bring your verified badge to get right in and enjoy the time for one or all four days.  \n \nLike this:Like Loading...
URL:https://www.piercingken.com/event/new-york-comic-con-javits-center-12/
LOCATION:Jacob K. Javits Convention Center\, 655 W 34th St.\, New York\,\, NY\, 10001\, United States
CATEGORIES:Convention
END:VEVENT
BEGIN:VEVENT
DTSTART;VALUE=DATE:20191004
DTEND;VALUE=DATE:20191005
DTSTAMP:20260425T123814
CREATED:20190509T131501Z
LAST-MODIFIED:20241002T013839Z
UID:39506-1570147200-1570233599@www.piercingken.com
SUMMARY:New York Comic Con @ Javits Center
DESCRIPTION:It’s the biggest Pop Culture event to happen each year in NYC and it’s time to dive deep into the hyper activity that is the New York Comic Con. Be sure to bring your verified badge to get right in and enjoy the time for one or all four days.  \n \nLike this:Like Loading...
URL:https://www.piercingken.com/event/new-york-comic-con-javits-center-11/
LOCATION:Jacob K. Javits Convention Center\, 655 W 34th St.\, New York\,\, NY\, 10001\, United States
CATEGORIES:Convention
END:VEVENT
BEGIN:VEVENT
DTSTART;VALUE=DATE:20191005
DTEND;VALUE=DATE:20191006
DTSTAMP:20260425T123814
CREATED:20190509T133004Z
LAST-MODIFIED:20241002T013737Z
UID:39507-1570233600-1570319999@www.piercingken.com
SUMMARY:New York Comic Con @ Javits Center
DESCRIPTION:It’s the biggest Pop Culture event to happen each year in NYC and it’s time to dive deep into the hyper activity that is the New York Comic Con. Be sure to bring your verified badge to get right in and enjoy the time for one or all four days.  \n \nLike this:Like Loading...
URL:https://www.piercingken.com/event/new-york-comic-con-javits-center-10/
LOCATION:Jacob K. Javits Convention Center\, 655 W 34th St.\, New York\,\, NY\, 10001\, United States
CATEGORIES:Convention
END:VEVENT
BEGIN:VEVENT
DTSTART;VALUE=DATE:20191006
DTEND;VALUE=DATE:20191007
DTSTAMP:20260425T123814
CREATED:20190509T134529Z
LAST-MODIFIED:20241002T013654Z
UID:39505-1570320000-1570406399@www.piercingken.com
SUMMARY:New York Comic Con @ Javits Center
DESCRIPTION:It’s the biggest Pop Culture event to happen each year in NYC and it’s time to dive deep into the hyper activity that is the New York Comic Con. Be sure to bring your verified badge to get right in and enjoy the time for one or all four days.  \n \nLike this:Like Loading...
URL:https://www.piercingken.com/event/new-york-comic-con-javits-center-9/
LOCATION:Jacob K. Javits Convention Center\, 655 W 34th St.\, New York\,\, NY\, 10001\, United States
CATEGORIES:Convention
END:VEVENT
BEGIN:VEVENT
DTSTART;VALUE=DATE:20191015
DTEND;VALUE=DATE:20191016
DTSTAMP:20260425T123814
CREATED:20190707T120048Z
LAST-MODIFIED:20190708T040925Z
UID:40429-1571097600-1571183999@www.piercingken.com
SUMMARY:Mondo NYC @ The Williamsburg Hotel
DESCRIPTION:Mondo NYC is a four day conference and live music festival that will surely be igniting music and technology.  Check out the official link in this listing for the programming scheduled for each day and enjoy the possibilities. \n \nLike this:Like Loading...
URL:https://www.piercingken.com/event/mondo-nyc-the-williamsburg-hotel/
LOCATION:Williamsburg Hotel\, 96 Wythe Avenue\, Brooklyn\, NY\, 11249\, United States
CATEGORIES:Convention
END:VEVENT
BEGIN:VEVENT
DTSTART;VALUE=DATE:20191016
DTEND;VALUE=DATE:20191017
DTSTAMP:20260425T123814
CREATED:20190707T121504Z
LAST-MODIFIED:20190708T041051Z
UID:40430-1571184000-1571270399@www.piercingken.com
SUMMARY:Mondo NYC @ The Williamsburg Hotel
DESCRIPTION:Mondo NYC is a four day conference and live music festival that will surely be igniting music and technology.  Check out the official link in this listing for the programming scheduled for each day and enjoy the possibilities. \n \nLike this:Like Loading...
URL:https://www.piercingken.com/event/mondo-nyc-the-williamsburg-hotel-2/
LOCATION:Williamsburg Hotel\, 96 Wythe Avenue\, Brooklyn\, NY\, 11249\, United States
CATEGORIES:Convention
END:VEVENT
BEGIN:VEVENT
DTSTART;VALUE=DATE:20191017
DTEND;VALUE=DATE:20191018
DTSTAMP:20260425T123814
CREATED:20190707T123029Z
LAST-MODIFIED:20190708T042014Z
UID:40431-1571270400-1571356799@www.piercingken.com
SUMMARY:Mondo NYC @ The Williamsburg Hotel
DESCRIPTION:Mondo NYC is a four day conference and live music festival that will surely be igniting music and technology.  Check out the official link in this listing for the programming scheduled for each day and enjoy the possibilities. \n \nLike this:Like Loading...
URL:https://www.piercingken.com/event/mondo-nyc-the-williamsburg-hotel-3/
LOCATION:Williamsburg Hotel\, 96 Wythe Avenue\, Brooklyn\, NY\, 11249\, United States
CATEGORIES:Convention
END:VEVENT
BEGIN:VEVENT
DTSTART;VALUE=DATE:20191018
DTEND;VALUE=DATE:20191019
DTSTAMP:20260425T123814
CREATED:20190707T124516Z
LAST-MODIFIED:20190708T041913Z
UID:40432-1571356800-1571443199@www.piercingken.com
SUMMARY:Mondo NYC @ The Williamsburg Hotel
DESCRIPTION:Mondo NYC is a four day conference and live music festival that will surely be igniting music and technology.  Check out the official link in this listing for the programming scheduled for each day and enjoy the possibilities. \n \nLike this:Like Loading...
URL:https://www.piercingken.com/event/mondo-nyc-the-williamsburg-hotel-4/
LOCATION:Williamsburg Hotel\, 96 Wythe Avenue\, Brooklyn\, NY\, 11249\, United States
CATEGORIES:Convention
END:VEVENT
BEGIN:VEVENT
DTSTART;VALUE=DATE:20191024
DTEND;VALUE=DATE:20191025
DTSTAMP:20260425T123814
CREATED:20190927T120010Z
LAST-MODIFIED:20190927T233845Z
UID:41422-1571875200-1571961599@www.piercingken.com
SUMMARY:Photoplus Expo @ Jacob Javits Center
DESCRIPTION:The annual Photoplus Expo is here and is the place to discover and test some of the latest and greatest developments in photography.  Don’t miss it if you are a simple hobbyist or a working professional. \n \nLike this:Like Loading...
URL:https://www.piercingken.com/event/photoplus-expo-jacob-javits-center/
LOCATION:Jacob K. Javits Convention Center\, 655 W 34th St.\, New York\,\, NY\, 10001\, United States
CATEGORIES:Convention
END:VEVENT
BEGIN:VEVENT
DTSTART;VALUE=DATE:20191025
DTEND;VALUE=DATE:20191026
DTSTAMP:20260425T123814
CREATED:20190927T123011Z
LAST-MODIFIED:20190927T234008Z
UID:41423-1571961600-1572047999@www.piercingken.com
SUMMARY:Photoplus Expo @ Jacob Javits Center
DESCRIPTION:The annual Photoplus Expo is here and is the place to discover and test some of the latest and greatest developments in photography.  Don’t miss it if you are a simple hobbyist or a working professional. \n \nLike this:Like Loading...
URL:https://www.piercingken.com/event/photoplus-expo-jacob-javits-center-2/
LOCATION:Jacob K. Javits Convention Center\, 655 W 34th St.\, New York\,\, NY\, 10001\, United States
CATEGORIES:Convention
END:VEVENT
BEGIN:VEVENT
DTSTART;TZID=America/New_York:20191025T170000
DTEND;TZID=America/New_York:20191025T220000
DTSTAMP:20260425T123814
CREATED:20190917T120057Z
LAST-MODIFIED:20241015T161430Z
UID:41338-1572022800-1572040800@www.piercingken.com
SUMMARY:eXXXotica Expo @ New Jersey Convention and Exposition Center
DESCRIPTION:The 2019 eXXXotica Expo is here and is the place to meet your favorite adult performers and cam models along with so much more. Come on out if you are daring and over the age of 18 🙂 \n \nLike this:Like Loading...
URL:https://www.piercingken.com/event/exxxotica-expo-new-jersey-convention-and-exposition-center-7/
LOCATION:New Jersey Convention and Exposition Center\, 97 Sunfield Ave\, Edison\, NY\, 08837\, United States
CATEGORIES:Convention
END:VEVENT
BEGIN:VEVENT
DTSTART;TZID=America/New_York:20191025T180000
DTEND;TZID=America/New_York:20191025T233000
DTSTAMP:20260425T123814
CREATED:20191001T120037Z
LAST-MODIFIED:20191026T145629Z
UID:41507-1572026400-1572046200@www.piercingken.com
SUMMARY:Chiller Theatre @ Hilton Parsippany
DESCRIPTION:It’s that time again my fiends\, as the Chiller Theatre is back and taking over the Hilton Parsippany for three days.  Come out and meet scores of celebrities and purchase some memorabilia.  You know you wanna.  More details on the pricing can be found on their link in this listing.   \n \nLike this:Like Loading...
URL:https://www.piercingken.com/event/chiller-theatre-hilton-parsippany/
LOCATION:Hilton Parsippany Hotel\, One Hilton Court\, Parsippany\,\, NJ\, 07054\, United States
CATEGORIES:Convention
END:VEVENT
BEGIN:VEVENT
DTSTART;VALUE=DATE:20191026
DTEND;VALUE=DATE:20191027
DTSTAMP:20260425T123814
CREATED:20190927T130014Z
LAST-MODIFIED:20190927T233942Z
UID:41424-1572048000-1572134399@www.piercingken.com
SUMMARY:Photoplus Expo @ Jacob Javits Center
DESCRIPTION:The annual Photoplus Expo is here and is the place to discover and test some of the latest and greatest developments in photography.  Don’t miss it if you are a simple hobbyist or a working professional. \n \nLike this:Like Loading...
URL:https://www.piercingken.com/event/photoplus-expo-jacob-javits-center-3/
LOCATION:Jacob K. Javits Convention Center\, 655 W 34th St.\, New York\,\, NY\, 10001\, United States
CATEGORIES:Convention
END:VEVENT
BEGIN:VEVENT
DTSTART;VALUE=DATE:20191026
DTEND;VALUE=DATE:20191027
DTSTAMP:20260425T123814
CREATED:20191001T123036Z
LAST-MODIFIED:20191026T145617Z
UID:41508-1572048000-1572134399@www.piercingken.com
SUMMARY:Chiller Theatre @ Hilton Parsippany
DESCRIPTION:It’s that time again my fiends\, as the Chiller Theatre is back and taking over the Hilton Parsippany for three days.  Come out and meet scores of celebrities and purchase some memorabilia.  You know you wanna.  More details on the pricing can be found on their link in this listing.   \n \nLike this:Like Loading...
URL:https://www.piercingken.com/event/chiller-theatre-hilton-parsippany-2/
LOCATION:Hilton Parsippany Hotel\, One Hilton Court\, Parsippany\,\, NJ\, 07054\, United States
CATEGORIES:Convention
END:VEVENT
BEGIN:VEVENT
DTSTART;TZID=America/New_York:20191026T130000
DTEND;TZID=America/New_York:20191026T220000
DTSTAMP:20260425T123814
CREATED:20190917T123058Z
LAST-MODIFIED:20241015T161440Z
UID:41339-1572094800-1572127200@www.piercingken.com
SUMMARY:eXXXotica Expo @ New Jersey Convention and Exposition Center
DESCRIPTION:The 2019 eXXXotica Expo is here and is the place to meet your favorite adult performers and cam models along with so much more. Come on out if you are daring and over the age of 18 🙂 \n \nLike this:Like Loading...
URL:https://www.piercingken.com/event/exxxotica-expo-new-jersey-convention-and-exposition-center-8/
LOCATION:New Jersey Convention and Exposition Center\, 97 Sunfield Ave\, Edison\, NY\, 08837\, United States
CATEGORIES:Convention
END:VEVENT
BEGIN:VEVENT
DTSTART;VALUE=DATE:20191027
DTEND;VALUE=DATE:20191028
DTSTAMP:20260425T123814
CREATED:20191001T130031Z
LAST-MODIFIED:20191026T145604Z
UID:41509-1572134400-1572220799@www.piercingken.com
SUMMARY:Chiller Theatre @ Hilton Parsippany
DESCRIPTION:It’s that time again my fiends\, as the Chiller Theatre is back and taking over the Hilton Parsippany for three days.  Come out and meet scores of celebrities and purchase some memorabilia.  You know you wanna.  More details on the pricing can be found on their link in this listing.   \n \nLike this:Like Loading...
URL:https://www.piercingken.com/event/chiller-theatre-hilton-parsippany-3/
LOCATION:Hilton Parsippany Hotel\, One Hilton Court\, Parsippany\,\, NJ\, 07054\, United States
CATEGORIES:Convention
END:VEVENT
BEGIN:VEVENT
DTSTART;TZID=America/New_York:20191027T130000
DTEND;TZID=America/New_York:20191027T180000
DTSTAMP:20260425T123814
CREATED:20190917T130001Z
LAST-MODIFIED:20241015T161449Z
UID:41340-1572181200-1572199200@www.piercingken.com
SUMMARY:eXXXotica Expo @ New Jersey Convention and Exposition Center
DESCRIPTION:The 2019 eXXXotica Expo is here and is the place to meet your favorite adult performers and cam models along with so much more. Come on out if you are daring and over the age of 18 🙂 \n \nLike this:Like Loading...
URL:https://www.piercingken.com/event/exxxotica-expo-new-jersey-convention-and-exposition-center-9/
LOCATION:New Jersey Convention and Exposition Center\, 97 Sunfield Ave\, Edison\, NY\, 08837\, United States
CATEGORIES:Convention
END:VEVENT
BEGIN:VEVENT
DTSTART;VALUE=DATE:20191108
DTEND;VALUE=DATE:20191109
DTSTAMP:20260425T123814
CREATED:20191101T120005Z
LAST-MODIFIED:20191110T035951Z
UID:41694-1573171200-1573257599@www.piercingken.com
SUMMARY:ChristmasCon @ NJ Expo Center
DESCRIPTION:Christmas Con is a first of its kind convention…think Comic Con meets small town Holiday Festival.  Stroll through our “Christmas Market”\, where you can buy one of a kind holiday gifts\, handmade decorations and festive Holiday treats\, all by local artisans.  Our “Town Square” welcomes you with Santa himself under a big Christmas Tree.  \n \nLike this:Like Loading...
URL:https://www.piercingken.com/event/christmascon-nj-expo-center/
LOCATION:New Jersey Convention and Exposition Center\, 97 Sunfield Ave\, Edison\, NY\, 08837\, United States
CATEGORIES:Convention
END:VEVENT
BEGIN:VEVENT
DTSTART;VALUE=DATE:20191109
DTEND;VALUE=DATE:20191110
DTSTAMP:20260425T123814
CREATED:20191101T123058Z
LAST-MODIFIED:20191110T040248Z
UID:41695-1573257600-1573343999@www.piercingken.com
SUMMARY:ChristmasCon @ NJ Expo Center
DESCRIPTION:Christmas Con is a first of its kind convention…think Comic Con meets small town Holiday Festival.  Stroll through our “Christmas Market”\, where you can buy one of a kind holiday gifts\, handmade decorations and festive Holiday treats\, all by local artisans.  Our “Town Square” welcomes you with Santa himself under a big Christmas Tree.  \n \nLike this:Like Loading...
URL:https://www.piercingken.com/event/christmascon-nj-expo-center-2/
LOCATION:New Jersey Convention and Exposition Center\, 97 Sunfield Ave\, Edison\, NY\, 08837\, United States
CATEGORIES:Convention
END:VEVENT
BEGIN:VEVENT
DTSTART;VALUE=DATE:20191110
DTEND;VALUE=DATE:20191111
DTSTAMP:20260425T123814
CREATED:20191101T130018Z
LAST-MODIFIED:20191110T040335Z
UID:41696-1573344000-1573430399@www.piercingken.com
SUMMARY:ChristmasCon @ NJ Expo Center
DESCRIPTION:Christmas Con is a first of its kind convention…think Comic Con meets small town Holiday Festival.  Stroll through our “Christmas Market”\, where you can buy one of a kind holiday gifts\, handmade decorations and festive Holiday treats\, all by local artisans.  Our “Town Square” welcomes you with Santa himself under a big Christmas Tree.  \n \nLike this:Like Loading...
URL:https://www.piercingken.com/event/christmascon-nj-expo-center-3/
LOCATION:New Jersey Convention and Exposition Center\, 97 Sunfield Ave\, Edison\, NY\, 08837\, United States
CATEGORIES:Convention
END:VEVENT
BEGIN:VEVENT
DTSTART;VALUE=DATE:20191115
DTEND;VALUE=DATE:20191116
DTSTAMP:20260425T123814
CREATED:20190509T140023Z
LAST-MODIFIED:20220921T025543Z
UID:39518-1573776000-1573862399@www.piercingken.com
SUMMARY:Anime NYC @ Javits Center
DESCRIPTION:New York’s going crazy for all things Japanese with this celebration of Manga\, Anime\, and Cosplaying amazing characters. Come out and enjoy yourself. You know you want to… \n \nLike this:Like Loading...
URL:https://www.piercingken.com/event/anime-nyc-javits-center/
LOCATION:Jacob K. Javits Convention Center\, 655 W 34th St.\, New York\,\, NY\, 10001\, United States
CATEGORIES:Convention
END:VEVENT
BEGIN:VEVENT
DTSTART;VALUE=DATE:20191116
DTEND;VALUE=DATE:20191117
DTSTAMP:20260425T123814
CREATED:20190509T141547Z
LAST-MODIFIED:20220921T025557Z
UID:39519-1573862400-1573948799@www.piercingken.com
SUMMARY:Anime NYC @ Javits Center
DESCRIPTION:New York’s going crazy for all things Japanese with this celebration of Manga\, Anime\, and Cosplaying amazing characters. Come out and enjoy yourself. You know you want to… \n \nLike this:Like Loading...
URL:https://www.piercingken.com/event/anime-nyc-javits-center-2/
LOCATION:Jacob K. Javits Convention Center\, 655 W 34th St.\, New York\,\, NY\, 10001\, United States
CATEGORIES:Convention
END:VEVENT
BEGIN:VEVENT
DTSTART;VALUE=DATE:20191117
DTEND;VALUE=DATE:20191118
DTSTAMP:20260425T123814
CREATED:20190509T143025Z
LAST-MODIFIED:20220921T025615Z
UID:39520-1573948800-1574035199@www.piercingken.com
SUMMARY:Anime NYC @ Javits Center
DESCRIPTION:New York’s going crazy for all things Japanese with this celebration of Manga\, Anime\, and Cosplaying amazing characters. Come out and enjoy yourself. You know you want to… \n \nLike this:Like Loading...
URL:https://www.piercingken.com/event/anime-nyc-javits-center-3/
LOCATION:Jacob K. Javits Convention Center\, 655 W 34th St.\, New York\,\, NY\, 10001\, United States
CATEGORIES:Convention
END:VEVENT
BEGIN:VEVENT
DTSTART;VALUE=DATE:20191122
DTEND;VALUE=DATE:20191123
DTSTAMP:20260425T123814
CREATED:20190922T120029Z
LAST-MODIFIED:20190922T162016Z
UID:41372-1574380800-1574467199@www.piercingken.com
SUMMARY:Wintercon @ Resorts World Casino
DESCRIPTION:If you haven’t gotten your recommended Geek quota\, then the Winter Con is the place to be this weekend to sate your required diet of the stuff. This year the event is celebrating the 20th Anniversary of “Farscape”. This awesome convention offers vendors\, cosplay and collectibles and lots and lots of guests and panels. Don’t miss it if you know what’s good for you. There are numerous pass options to choose from. \n \nLike this:Like Loading...
URL:https://www.piercingken.com/event/wintercon-resorts-world-casino-6/
LOCATION:Resorts World Casino\, 110-00 Rockaway Blvd.\, South Ozone Park\, NY\, 11420\, United States
CATEGORIES:Convention
END:VEVENT
BEGIN:VEVENT
DTSTART;VALUE=DATE:20191123
DTEND;VALUE=DATE:20191124
DTSTAMP:20260425T123814
CREATED:20190922T123027Z
LAST-MODIFIED:20190922T162026Z
UID:41373-1574467200-1574553599@www.piercingken.com
SUMMARY:Wintercon @ Resorts World Casino
DESCRIPTION:If you haven’t gotten your recommended Geek quota\, then the Winter Con is the place to be this weekend to sate your required diet of the stuff. This year the event is celebrating the 20th Anniversary of “Farscape”. This awesome convention offers vendors\, cosplay and collectibles and lots and lots of guests and panels. Don’t miss it if you know what’s good for you. There are numerous pass options to choose from. \n \nLike this:Like Loading...
URL:https://www.piercingken.com/event/wintercon-resorts-world-casino-7/
LOCATION:Resorts World Casino\, 110-00 Rockaway Blvd.\, South Ozone Park\, NY\, 11420\, United States
CATEGORIES:Convention
END:VEVENT
BEGIN:VEVENT
DTSTART;VALUE=DATE:20191124
DTEND;VALUE=DATE:20191125
DTSTAMP:20260425T123814
CREATED:20190922T130026Z
LAST-MODIFIED:20190922T162035Z
UID:41374-1574553600-1574639999@www.piercingken.com
SUMMARY:Wintercon @ Resorts World Casino
DESCRIPTION:If you haven’t gotten your recommended Geek quota\, then the Winter Con is the place to be this weekend to sate your required diet of the stuff. This year the event is celebrating the 20th Anniversary of “Farscape”. This awesome convention offers vendors\, cosplay and collectibles and lots and lots of guests and panels. Don’t miss it if you know what’s good for you. There are numerous pass options to choose from. \n \nLike this:Like Loading...
URL:https://www.piercingken.com/event/wintercon-resorts-world-casino-8/
LOCATION:Resorts World Casino\, 110-00 Rockaway Blvd.\, South Ozone Park\, NY\, 11420\, United States
CATEGORIES:Convention
END:VEVENT
BEGIN:VEVENT
DTSTART;VALUE=DATE:20191206
DTEND;VALUE=DATE:20191207
DTSTAMP:20260425T123814
CREATED:20190627T140040Z
LAST-MODIFIED:20190627T203733Z
UID:40273-1575590400-1575676799@www.piercingken.com
SUMMARY:Progressive International Motorcycle Show @ Jacob Javits Center
DESCRIPTION:For three days\, lovers of the motorcycle can see the latest and greatest offerings.  Don’t miss out on the fun and the chance to enjoy a number of cool activities and educational presentations. \n \nLike this:Like Loading...
URL:https://www.piercingken.com/event/progressive-international-motorcycle-show-jacob-javits-center-4/
LOCATION:Jacob K. Javits Convention Center\, 655 W 34th St.\, New York\,\, NY\, 10001\, United States
CATEGORIES:Convention
END:VEVENT
END:VCALENDAR