BEGIN:VCALENDAR
VERSION:2.0
PRODID:-//The Chronicles Of PiercingKen - ECPv6.15.20//NONSGML v1.0//EN
CALSCALE:GREGORIAN
METHOD:PUBLISH
X-WR-CALNAME:The Chronicles Of PiercingKen
X-ORIGINAL-URL:https://www.piercingken.com
X-WR-CALDESC:Events for The Chronicles Of PiercingKen
REFRESH-INTERVAL;VALUE=DURATION:PT1H
X-Robots-Tag:noindex
X-PUBLISHED-TTL:PT1H
BEGIN:VTIMEZONE
TZID:America/New_York
BEGIN:DAYLIGHT
TZOFFSETFROM:-0500
TZOFFSETTO:-0400
TZNAME:EDT
DTSTART:20250309T070000
END:DAYLIGHT
BEGIN:STANDARD
TZOFFSETFROM:-0400
TZOFFSETTO:-0500
TZNAME:EST
DTSTART:20251102T060000
END:STANDARD
BEGIN:DAYLIGHT
TZOFFSETFROM:-0500
TZOFFSETTO:-0400
TZNAME:EDT
DTSTART:20260308T070000
END:DAYLIGHT
BEGIN:STANDARD
TZOFFSETFROM:-0400
TZOFFSETTO:-0500
TZNAME:EST
DTSTART:20261101T060000
END:STANDARD
BEGIN:DAYLIGHT
TZOFFSETFROM:-0500
TZOFFSETTO:-0400
TZNAME:EDT
DTSTART:20270314T070000
END:DAYLIGHT
BEGIN:STANDARD
TZOFFSETFROM:-0400
TZOFFSETTO:-0500
TZNAME:EST
DTSTART:20271107T060000
END:STANDARD
END:VTIMEZONE
BEGIN:VEVENT
DTSTART;VALUE=DATE:20260517
DTEND;VALUE=DATE:20260518
DTSTAMP:20260423T225922
CREATED:20260315T120056Z
LAST-MODIFIED:20260315T134602Z
UID:62109-1778976000-1779062399@www.piercingken.com
SUMMARY:ICFF @ Javits Center
DESCRIPTION:“ICFF” is North America’s leading platform for contemporary furniture design.  If design is a part of your daily routine  and business then you need to be in attendance at the International Contemporary Furniture Fair.  This industry only trade show will find the general public keeping tuned to their favorite lifestyle blogs and social media profiles along with the fairs official website along with those who are exhibiting.  \n \nLike this:Like Loading...
URL:https://www.piercingken.com/event/icff-javits-center-10/
LOCATION:Jacob K. Javits Convention Center\, 655 W 34th St.\, New York\,\, NY\, 10001\, United States
CATEGORIES:Trade Show
END:VEVENT
BEGIN:VEVENT
DTSTART;VALUE=DATE:20260518
DTEND;VALUE=DATE:20260519
DTSTAMP:20260423T225922
CREATED:20260315T121534Z
LAST-MODIFIED:20260315T134618Z
UID:62110-1779062400-1779148799@www.piercingken.com
SUMMARY:ICFF @ Javits Center
DESCRIPTION:“ICFF” is North America’s leading platform for contemporary furniture design.  If design is a part of your daily routine  and business then you need to be in attendance at the International Contemporary Furniture Fair.  This industry only trade show will find the general public keeping tuned to their favorite lifestyle blogs and social media profiles along with the fairs official website along with those who are exhibiting.  \n \nLike this:Like Loading...
URL:https://www.piercingken.com/event/icff-javits-center-11/
LOCATION:Jacob K. Javits Convention Center\, 655 W 34th St.\, New York\,\, NY\, 10001\, United States
CATEGORIES:Trade Show
END:VEVENT
BEGIN:VEVENT
DTSTART;VALUE=DATE:20260519
DTEND;VALUE=DATE:20260520
DTSTAMP:20260423T225922
CREATED:20260315T123028Z
LAST-MODIFIED:20260315T134656Z
UID:62111-1779148800-1779235199@www.piercingken.com
SUMMARY:ICFF @ Javits Center
DESCRIPTION:“ICFF” is North America’s leading platform for contemporary furniture design.  If design is a part of your daily routine  and business then you need to be in attendance at the International Contemporary Furniture Fair.  This industry only trade show will find the general public keeping tuned to their favorite lifestyle blogs and social media profiles along with the fairs official website along with those who are exhibiting.  \n \nLike this:Like Loading...
URL:https://www.piercingken.com/event/icff-javits-center-12/
LOCATION:Jacob K. Javits Convention Center\, 655 W 34th St.\, New York\,\, NY\, 10001\, United States
CATEGORIES:Trade Show
END:VEVENT
BEGIN:VEVENT
DTSTART;VALUE=DATE:20260609
DTEND;VALUE=DATE:20260610
DTSTAMP:20260423T225922
CREATED:20260313T120040Z
LAST-MODIFIED:20260314T005922Z
UID:62066-1780963200-1781049599@www.piercingken.com
SUMMARY:Bar Convent Brooklyn @ Industry City
DESCRIPTION:The Bar Convent Brooklyn returns to Industry City and is the premier two-day trade show and educational event for the bar and beverage industry.  Since its a trade show\, the general public may not attend but can watch the reveals on their official site and social media profiles. \n \nLike this:Like Loading...
URL:https://www.piercingken.com/event/bar-convent-brooklyn-industry-city-3/
LOCATION:Industry City\, 220-36th Street\, Brooklyn\, NY\, 11232\, United States
CATEGORIES:Trade Show
END:VEVENT
BEGIN:VEVENT
DTSTART;VALUE=DATE:20260610
DTEND;VALUE=DATE:20260611
DTSTAMP:20260423T225922
CREATED:20260313T121541Z
LAST-MODIFIED:20260314T005934Z
UID:62067-1781049600-1781135999@www.piercingken.com
SUMMARY:Bar Convent Brooklyn @ Industry City
DESCRIPTION:The Bar Convent Brooklyn returns to Industry City and is the premier two-day trade show and educational event for the bar and beverage industry.  Since its a trade show\, the general public may not attend but can watch the reveals on their official site and social media profiles. \n \nLike this:Like Loading...
URL:https://www.piercingken.com/event/bar-convent-brooklyn-industry-city-4/
LOCATION:Industry City\, 220-36th Street\, Brooklyn\, NY\, 11232\, United States
CATEGORIES:Trade Show
END:VEVENT
BEGIN:VEVENT
DTSTART;VALUE=DATE:20260930
DTEND;VALUE=DATE:20261001
DTSTAMP:20260423T225922
CREATED:20260311T120040Z
LAST-MODIFIED:20260421T224414Z
UID:62053-1790726400-1790812799@www.piercingken.com
SUMMARY:White Label Expo @ Javits Center
DESCRIPTION:The White Label Expo has returned and will once again present their trade show in New York City. \nLike this:Like Loading...
URL:https://www.piercingken.com/event/white-label-expo-javits-center/
LOCATION:NY
CATEGORIES:Trade Show
END:VEVENT
BEGIN:VEVENT
DTSTART;VALUE=DATE:20261001
DTEND;VALUE=DATE:20261002
DTSTAMP:20260423T225922
CREATED:20260311T121543Z
LAST-MODIFIED:20260421T224405Z
UID:62054-1790812800-1790899199@www.piercingken.com
SUMMARY:White Label Expo @ Javits
DESCRIPTION:The White Label Expo has returned and will once again present their trade show in New York City. \nLike this:Like Loading...
URL:https://www.piercingken.com/event/white-label-expo-javits/
LOCATION:NY
CATEGORIES:Trade Show
END:VEVENT
END:VCALENDAR