BEGIN:VCALENDAR
VERSION:2.0
PRODID:-//The Chronicles Of PiercingKen - ECPv6.15.20//NONSGML v1.0//EN
CALSCALE:GREGORIAN
METHOD:PUBLISH
X-ORIGINAL-URL:https://www.piercingken.com
X-WR-CALDESC:Events for The Chronicles Of PiercingKen
REFRESH-INTERVAL;VALUE=DURATION:PT1H
X-Robots-Tag:noindex
X-PUBLISHED-TTL:PT1H
BEGIN:VTIMEZONE
TZID:America/New_York
BEGIN:DAYLIGHT
TZOFFSETFROM:-0500
TZOFFSETTO:-0400
TZNAME:EDT
DTSTART:20240310T070000
END:DAYLIGHT
BEGIN:STANDARD
TZOFFSETFROM:-0400
TZOFFSETTO:-0500
TZNAME:EST
DTSTART:20241103T060000
END:STANDARD
BEGIN:DAYLIGHT
TZOFFSETFROM:-0500
TZOFFSETTO:-0400
TZNAME:EDT
DTSTART:20250309T070000
END:DAYLIGHT
BEGIN:STANDARD
TZOFFSETFROM:-0400
TZOFFSETTO:-0500
TZNAME:EST
DTSTART:20251102T060000
END:STANDARD
BEGIN:DAYLIGHT
TZOFFSETFROM:-0500
TZOFFSETTO:-0400
TZNAME:EDT
DTSTART:20260308T070000
END:DAYLIGHT
BEGIN:STANDARD
TZOFFSETFROM:-0400
TZOFFSETTO:-0500
TZNAME:EST
DTSTART:20261101T060000
END:STANDARD
END:VTIMEZONE
BEGIN:VEVENT
DTSTART;VALUE=DATE:20250324
DTEND;VALUE=DATE:20250325
DTSTAMP:20260421T070157
CREATED:20250322T130057Z
LAST-MODIFIED:20250326T143024Z
UID:58523-1742774400-1742860799@www.piercingken.com
SUMMARY:International Esthetics\, Cosmetics & Spa Conference @ Javits Center
DESCRIPTION:The International Esthetics\, Cosmetics & Spa Conference will take over the Javits Center for three days and if you are in this industry then you must investigate this trade show.  It’s running in tandem with the International Beauty Show and badge holders of one show will be permitted to investigate the other event. \nLike this:Like Loading...
URL:https://www.piercingken.com/event/international-esthetics-cosmetics-spa-conference-javits-center-2/
LOCATION:Jacob K. Javits Convention Center\, 655 W 34th St.\, New York\,\, NY\, 10001\, United States
CATEGORIES:Trade Show
END:VEVENT
BEGIN:VEVENT
DTSTART;TZID=America/New_York:20250324T100000
DTEND;TZID=America/New_York:20250324T170000
DTSTAMP:20260421T070157
CREATED:20250302T131544Z
LAST-MODIFIED:20250323T141106Z
UID:58499-1742810400-1742835600@www.piercingken.com
SUMMARY:New York Restaurant Show @ Javits Center
DESCRIPTION:The New York Restaurant Show returns to the Javits Center under its new branding from the International Foodservice and Restaurant Show of New York and this trade show is the place to be if you are in the business itself or just looking to investigate such a life.  Here you’ll be able to find the latest tools\, accessories and find professional services that will help you thrive.  It’s a full day of amazing networking as well.  Don’t miss out if this is your world.   \n \nLike this:Like Loading...
URL:https://www.piercingken.com/event/new-york-restaurant-show-javits-center-2/
LOCATION:Jacob K. Javits Convention Center\, 655 W 34th St.\, New York\,\, NY\, 10001\, United States
CATEGORIES:Trade Show
END:VEVENT
BEGIN:VEVENT
DTSTART;TZID=America/New_York:20250324T100000
DTEND;TZID=America/New_York:20250324T170000
DTSTAMP:20260421T070157
CREATED:20250302T140052Z
LAST-MODIFIED:20250323T143150Z
UID:58502-1742810400-1742835600@www.piercingken.com
SUMMARY:CoffeeFest @ Javits Center
DESCRIPTION:The CoffeeFest returns to the Javits Center and will be your one-stop trade show shop if you are in the business of serving peoples need for that wonderful elixir known as coffee.  There’s connected exhibitors\, accessories and professional services that will help your business run smoothly and if you are new and just investigating these waters you’ll leave with a wealth of knowledge.   \n \nLike this:Like Loading...
URL:https://www.piercingken.com/event/coffeefest-javits-center-5/
LOCATION:Jacob K. Javits Convention Center\, 655 W 34th St.\, New York\,\, NY\, 10001\, United States
CATEGORIES:Trade Show
END:VEVENT
BEGIN:VEVENT
DTSTART;VALUE=DATE:20250325
DTEND;VALUE=DATE:20250326
DTSTAMP:20260421T070157
CREATED:20250322T131559Z
LAST-MODIFIED:20250326T143006Z
UID:58524-1742860800-1742947199@www.piercingken.com
SUMMARY:International Esthetics\, Cosmetics & Spa Conference @ Javits Center
DESCRIPTION:The International Esthetics\, Cosmetics & Spa Conference will take over the Javits Center for three days and if you are in this industry then you must investigate this trade show.  It’s running in tandem with the International Beauty Show and badge holders of one show will be permitted to investigate the other event. \nLike this:Like Loading...
URL:https://www.piercingken.com/event/international-esthetics-cosmetics-spa-conference-javits-center-3/
LOCATION:Jacob K. Javits Convention Center\, 655 W 34th St.\, New York\,\, NY\, 10001\, United States
CATEGORIES:Trade Show
END:VEVENT
BEGIN:VEVENT
DTSTART;VALUE=DATE:20250325
DTEND;VALUE=DATE:20250326
DTSTAMP:20260421T070157
CREATED:20250322T123046Z
LAST-MODIFIED:20250326T142339Z
UID:58521-1742860800-1742947199@www.piercingken.com
SUMMARY:International Beauty Show @ Javits Center
DESCRIPTION:The International Beauty Show will take over the Javits Center for three days and if you are in this industry then you must investigate this trade show.  It’s running in tandem with the International Esthetics\, Cosmetics and Spa Conference and badge holders of one show will be permitted to investigate the other event. \n \nLike this:Like Loading...
URL:https://www.piercingken.com/event/international-beauty-show-javits-center-3/
LOCATION:Jacob K. Javits Convention Center\, 655 W 34th St.\, New York\,\, NY\, 10001\, United States
CATEGORIES:Trade Show
END:VEVENT
BEGIN:VEVENT
DTSTART;TZID=America/New_York:20250325T100000
DTEND;TZID=America/New_York:20250325T160000
DTSTAMP:20260421T070157
CREATED:20250302T133047Z
LAST-MODIFIED:20250323T140942Z
UID:58500-1742896800-1742918400@www.piercingken.com
SUMMARY:New York Restaurant Show @ Javits Center
DESCRIPTION:The New York Restaurant Show returns to the Javits Center under its new branding from the International Foodservice and Restaurant Show of New York and this trade show is the place to be if you are in the business itself or just looking to investigate such a life.  Here you’ll be able to find the latest tools\, accessories and find professional services that will help you thrive.  It’s a full day of amazing networking as well.  Don’t miss out if this is your world.   \n \nLike this:Like Loading...
URL:https://www.piercingken.com/event/new-york-restaurant-show-javits-center-3/
LOCATION:Jacob K. Javits Convention Center\, 655 W 34th St.\, New York\,\, NY\, 10001\, United States
CATEGORIES:Trade Show
END:VEVENT
BEGIN:VEVENT
DTSTART;TZID=America/New_York:20250325T100000
DTEND;TZID=America/New_York:20250325T160000
DTSTAMP:20260421T070157
CREATED:20250302T141555Z
LAST-MODIFIED:20250323T143201Z
UID:58503-1742896800-1742918400@www.piercingken.com
SUMMARY:CoffeeFest @ Javits Center
DESCRIPTION:The CoffeeFest returns to the Javits Center and will be your one-stop trade show shop if you are in the business of serving peoples need for that wonderful elixir known as coffee.  There’s connected exhibitors\, accessories and professional services that will help your business run smoothly and if you are new and just investigating these waters you’ll leave with a wealth of knowledge.   \n \nLike this:Like Loading...
URL:https://www.piercingken.com/event/coffeefest-javits-center-6/
LOCATION:Jacob K. Javits Convention Center\, 655 W 34th St.\, New York\,\, NY\, 10001\, United States
CATEGORIES:Trade Show
END:VEVENT
BEGIN:VEVENT
DTSTART;VALUE=DATE:20250418
DTEND;VALUE=DATE:20250419
DTSTAMP:20260421T070157
CREATED:20250314T120040Z
LAST-MODIFIED:20250314T213728Z
UID:58409-1744934400-1745020799@www.piercingken.com
SUMMARY:New York International Auto Show @ Javits Center
DESCRIPTION:The New York International Auto Show is celebrating its 125th Anniversary and will be taking over the Javits Center for 10 full days.  This hybrid trade show and consumer event will be the place to be to see the latest and greatest from the worlds auto manufacturers if you are looking to upgrade your wheels.  It’s also a fun family outing with numerous attractions and things to experience.  Don’t miss out. \n \nLike this:Like Loading...
URL:https://www.piercingken.com/event/new-york-international-auto-show-javits-center-61/
LOCATION:Jacob K. Javits Convention Center\, 655 W 34th St.\, New York\,\, NY\, 10001\, United States
CATEGORIES:Trade Show
END:VEVENT
BEGIN:VEVENT
DTSTART;VALUE=DATE:20250419
DTEND;VALUE=DATE:20250420
DTSTAMP:20260421T070157
CREATED:20250314T121528Z
LAST-MODIFIED:20250314T213750Z
UID:58411-1745020800-1745107199@www.piercingken.com
SUMMARY:New York International Auto Show @ Javits Center
DESCRIPTION:The New York International Auto Show is celebrating its 125th Anniversary and will be taking over the Javits Center for 10 full days.  This hybrid trade show and consumer event will be the place to be to see the latest and greatest from the worlds auto manufacturers if you are looking to upgrade your wheels.  It’s also a fun family outing with numerous attractions and things to experience.  Don’t miss out. \n \nLike this:Like Loading...
URL:https://www.piercingken.com/event/new-york-international-auto-show-javits-center-62/
LOCATION:Jacob K. Javits Convention Center\, 655 W 34th St.\, New York\,\, NY\, 10001\, United States
CATEGORIES:Trade Show
END:VEVENT
BEGIN:VEVENT
DTSTART;VALUE=DATE:20250420
DTEND;VALUE=DATE:20250421
DTSTAMP:20260421T070157
CREATED:20250314T123057Z
LAST-MODIFIED:20250314T213844Z
UID:58412-1745107200-1745193599@www.piercingken.com
SUMMARY:New York International Auto Show @ Javits Center
DESCRIPTION:The New York International Auto Show is celebrating its 125th Anniversary and will be taking over the Javits Center for 10 full days.  This hybrid trade show and consumer event will be the place to be to see the latest and greatest from the worlds auto manufacturers if you are looking to upgrade your wheels.  It’s also a fun family outing with numerous attractions and things to experience.  Don’t miss out. \n \nLike this:Like Loading...
URL:https://www.piercingken.com/event/new-york-international-auto-show-javits-center-63/
LOCATION:Jacob K. Javits Convention Center\, 655 W 34th St.\, New York\,\, NY\, 10001\, United States
CATEGORIES:Trade Show
END:VEVENT
BEGIN:VEVENT
DTSTART;VALUE=DATE:20250421
DTEND;VALUE=DATE:20250422
DTSTAMP:20260421T070157
CREATED:20250314T124534Z
LAST-MODIFIED:20250314T213913Z
UID:58413-1745193600-1745279999@www.piercingken.com
SUMMARY:New York International Auto Show @ Javits Center
DESCRIPTION:The New York International Auto Show is celebrating its 125th Anniversary and will be taking over the Javits Center for 10 full days.  This hybrid trade show and consumer event will be the place to be to see the latest and greatest from the worlds auto manufacturers if you are looking to upgrade your wheels.  It’s also a fun family outing with numerous attractions and things to experience.  Don’t miss out. \n \nLike this:Like Loading...
URL:https://www.piercingken.com/event/new-york-international-auto-show-javits-center-64/
LOCATION:Jacob K. Javits Convention Center\, 655 W 34th St.\, New York\,\, NY\, 10001\, United States
CATEGORIES:Trade Show
END:VEVENT
BEGIN:VEVENT
DTSTART;VALUE=DATE:20250422
DTEND;VALUE=DATE:20250423
DTSTAMP:20260421T070157
CREATED:20250314T130051Z
LAST-MODIFIED:20250314T214013Z
UID:58414-1745280000-1745366399@www.piercingken.com
SUMMARY:New York International Auto Show @ Javits Center
DESCRIPTION:The New York International Auto Show is celebrating its 125th Anniversary and will be taking over the Javits Center for 10 full days.  This hybrid trade show and consumer event will be the place to be to see the latest and greatest from the worlds auto manufacturers if you are looking to upgrade your wheels.  It’s also a fun family outing with numerous attractions and things to experience.  Don’t miss out. \n \nLike this:Like Loading...
URL:https://www.piercingken.com/event/new-york-international-auto-show-javits-center-65/
LOCATION:Jacob K. Javits Convention Center\, 655 W 34th St.\, New York\,\, NY\, 10001\, United States
CATEGORIES:Trade Show
END:VEVENT
BEGIN:VEVENT
DTSTART;VALUE=DATE:20250423
DTEND;VALUE=DATE:20250424
DTSTAMP:20260421T070157
CREATED:20250314T131521Z
LAST-MODIFIED:20250314T214037Z
UID:58415-1745366400-1745452799@www.piercingken.com
SUMMARY:New York International Auto Show @ Javits Center
DESCRIPTION:The New York International Auto Show is celebrating its 125th Anniversary and will be taking over the Javits Center for 10 full days.  This hybrid trade show and consumer event will be the place to be to see the latest and greatest from the worlds auto manufacturers if you are looking to upgrade your wheels.  It’s also a fun family outing with numerous attractions and things to experience.  Don’t miss out. \n \nLike this:Like Loading...
URL:https://www.piercingken.com/event/new-york-international-auto-show-javits-center-66/
LOCATION:Jacob K. Javits Convention Center\, 655 W 34th St.\, New York\,\, NY\, 10001\, United States
CATEGORIES:Trade Show
END:VEVENT
BEGIN:VEVENT
DTSTART;VALUE=DATE:20250424
DTEND;VALUE=DATE:20250425
DTSTAMP:20260421T070157
CREATED:20250314T133038Z
LAST-MODIFIED:20250314T214159Z
UID:58416-1745452800-1745539199@www.piercingken.com
SUMMARY:New York International Auto Show @ Javits Center
DESCRIPTION:The New York International Auto Show is celebrating its 125th Anniversary and will be taking over the Javits Center for 10 full days.  This hybrid trade show and consumer event will be the place to be to see the latest and greatest from the worlds auto manufacturers if you are looking to upgrade your wheels.  It’s also a fun family outing with numerous attractions and things to experience.  Don’t miss out. \n \nLike this:Like Loading...
URL:https://www.piercingken.com/event/new-york-international-auto-show-javits-center-67/
LOCATION:Jacob K. Javits Convention Center\, 655 W 34th St.\, New York\,\, NY\, 10001\, United States
CATEGORIES:Trade Show
END:VEVENT
BEGIN:VEVENT
DTSTART;VALUE=DATE:20250425
DTEND;VALUE=DATE:20250426
DTSTAMP:20260421T070157
CREATED:20250314T134553Z
LAST-MODIFIED:20250314T214219Z
UID:58417-1745539200-1745625599@www.piercingken.com
SUMMARY:New York International Auto Show @ Javits Center
DESCRIPTION:The New York International Auto Show is celebrating its 125th Anniversary and will be taking over the Javits Center for 10 full days.  This hybrid trade show and consumer event will be the place to be to see the latest and greatest from the worlds auto manufacturers if you are looking to upgrade your wheels.  It’s also a fun family outing with numerous attractions and things to experience.  Don’t miss out. \n \nLike this:Like Loading...
URL:https://www.piercingken.com/event/new-york-international-auto-show-javits-center-68/
LOCATION:Jacob K. Javits Convention Center\, 655 W 34th St.\, New York\,\, NY\, 10001\, United States
CATEGORIES:Trade Show
END:VEVENT
BEGIN:VEVENT
DTSTART;VALUE=DATE:20250426
DTEND;VALUE=DATE:20250427
DTSTAMP:20260421T070157
CREATED:20250314T140016Z
LAST-MODIFIED:20250314T213634Z
UID:58418-1745625600-1745711999@www.piercingken.com
SUMMARY:New York International Auto Show @ Javits Center
DESCRIPTION:The New York International Auto Show is celebrating its 125th Anniversary and will be taking over the Javits Center for 10 full days.  This hybrid trade show and consumer event will be the place to be to see the latest and greatest from the worlds auto manufacturers if you are looking to upgrade your wheels.  It’s also a fun family outing with numerous attractions and things to experience.  Don’t miss out. \n \nLike this:Like Loading...
URL:https://www.piercingken.com/event/new-york-international-auto-show-javits-center-69/
LOCATION:Jacob K. Javits Convention Center\, 655 W 34th St.\, New York\,\, NY\, 10001\, United States
CATEGORIES:Trade Show
END:VEVENT
BEGIN:VEVENT
DTSTART;VALUE=DATE:20250427
DTEND;VALUE=DATE:20250428
DTSTAMP:20260421T070157
CREATED:20250314T141534Z
LAST-MODIFIED:20250314T213558Z
UID:58419-1745712000-1745798399@www.piercingken.com
SUMMARY:New York International Auto Show @ Javits Center
DESCRIPTION:The New York International Auto Show is celebrating its 125th Anniversary and will be taking over the Javits Center for 10 full days.  This hybrid trade show and consumer event will be the place to be to see the latest and greatest from the worlds auto manufacturers if you are looking to upgrade your wheels.  It’s also a fun family outing with numerous attractions and things to experience.  Don’t miss out. \n \nLike this:Like Loading...
URL:https://www.piercingken.com/event/new-york-international-auto-show-javits-center-70/
LOCATION:Jacob K. Javits Convention Center\, 655 W 34th St.\, New York\,\, NY\, 10001\, United States
CATEGORIES:Trade Show
END:VEVENT
BEGIN:VEVENT
DTSTART;VALUE=DATE:20250518
DTEND;VALUE=DATE:20250519
DTSTAMP:20260421T070157
CREATED:20250501T120009Z
LAST-MODIFIED:20260315T133646Z
UID:58964-1747526400-1747612799@www.piercingken.com
SUMMARY:ICFF @ Javits Center
DESCRIPTION:“ICFF” is North America’s leading platform for contemporary furniture design.  If design is a part of your daily routine  and business then you need to be in attendance at the International Contemporary Furniture Fair.  This industry only trade show will find the general public keeping tuned to their favorite lifestyle blogs and social media profiles along with the fairs official website along with those who are exhibiting.  \n \nLike this:Like Loading...
URL:https://www.piercingken.com/event/icff-javits-center-7/
LOCATION:Jacob K. Javits Convention Center\, 655 W 34th St.\, New York\,\, NY\, 10001\, United States
CATEGORIES:Trade Show
END:VEVENT
BEGIN:VEVENT
DTSTART;VALUE=DATE:20250519
DTEND;VALUE=DATE:20250520
DTSTAMP:20260421T070157
CREATED:20250501T121508Z
LAST-MODIFIED:20260315T133738Z
UID:58965-1747612800-1747699199@www.piercingken.com
SUMMARY:ICFF @ Javits Center
DESCRIPTION:“ICFF” is North America’s leading platform for contemporary furniture design.  If design is a part of your daily routine  and business then you need to be in attendance at the International Contemporary Furniture Fair.  This industry only trade show will find the general public keeping tuned to their favorite lifestyle blogs and social media profiles along with the fairs official website along with those who are exhibiting.  \n \nLike this:Like Loading...
URL:https://www.piercingken.com/event/icff-javits-center-8/
LOCATION:Jacob K. Javits Convention Center\, 655 W 34th St.\, New York\,\, NY\, 10001\, United States
CATEGORIES:Trade Show
END:VEVENT
BEGIN:VEVENT
DTSTART;VALUE=DATE:20250520
DTEND;VALUE=DATE:20250521
DTSTAMP:20260421T070157
CREATED:20250501T123043Z
LAST-MODIFIED:20260315T134221Z
UID:58966-1747699200-1747785599@www.piercingken.com
SUMMARY:ICFF @ Javits Center
DESCRIPTION:“ICFF” is North America’s leading platform for contemporary furniture design.  If design is a part of your daily routine  and business then you need to be in attendance at the International Contemporary Furniture Fair.  This industry only trade show will find the general public keeping tuned to their favorite lifestyle blogs and social media profiles along with the fairs official website along with those who are exhibiting.  \n \nLike this:Like Loading...
URL:https://www.piercingken.com/event/icff-javits-center-9/
LOCATION:Jacob K. Javits Convention Center\, 655 W 34th St.\, New York\,\, NY\, 10001\, United States
CATEGORIES:Trade Show
END:VEVENT
BEGIN:VEVENT
DTSTART;VALUE=DATE:20250520
DTEND;VALUE=DATE:20250521
DTSTAMP:20260421T070157
CREATED:20250503T120028Z
LAST-MODIFIED:20250520T023625Z
UID:58970-1747699200-1747785599@www.piercingken.com
SUMMARY:MD&M East @ Javits Center
DESCRIPTION:The MD&M East trade show will take over a section of the Javits Center for three days and according to their website this is 6 Expos Under 1 Roof.  It’s here you’ll find the latest and greatest in MedTech\, Robotics\, Packaging\, Design & Manufacturing\, Plastics and Quality.  It’s the largest design & manufacturing event in the East Coast. \n \nLike this:Like Loading...
URL:https://www.piercingken.com/event/mdm-east-javits-center/
LOCATION:Jacob K. Javits Convention Center\, 655 W 34th St.\, New York\,\, NY\, 10001\, United States
CATEGORIES:Trade Show
END:VEVENT
BEGIN:VEVENT
DTSTART;VALUE=DATE:20250521
DTEND;VALUE=DATE:20250522
DTSTAMP:20260421T070157
CREATED:20250503T121520Z
LAST-MODIFIED:20250520T023705Z
UID:58971-1747785600-1747871999@www.piercingken.com
SUMMARY:MD&M East @ Javits Center
DESCRIPTION:The MD&M East trade show will take over a section of the Javits Center for three days and according to their website this is 6 Expos Under 1 Roof.  It’s here you’ll find the latest and greatest in MedTech\, Robotics\, Packaging\, Design & Manufacturing\, Plastics and Quality.  It’s the largest design & manufacturing event in the East Coast. \n \nLike this:Like Loading...
URL:https://www.piercingken.com/event/mdm-east-javits-center-2/
LOCATION:Jacob K. Javits Convention Center\, 655 W 34th St.\, New York\,\, NY\, 10001\, United States
CATEGORIES:Trade Show
END:VEVENT
BEGIN:VEVENT
DTSTART;TZID=America/New_York:20250521T080000
DTEND;TZID=America/New_York:20250521T170000
DTSTAMP:20260421T070157
CREATED:20250503T130026Z
LAST-MODIFIED:20250523T010429Z
UID:58986-1747814400-1747846800@www.piercingken.com
SUMMARY:Agentforce World Tour NYC @ Javits Center
DESCRIPTION:The website says that “The Agentforce World Tour is a global\, in-person event series hosted by Salesforce in major cities around the world. It’s a free\, full-day event that allows attendees to explore the latest Salesforce innovations\, connect with experts\, and network with industry peers. The tour focuses on showcasing how Salesforce’s platform\, including Agentforce\, can help businesses work smarter and deliver better customer and employee experiences”.  If this is your industry track\, you’re going to want to attend and network away. \n  \nLike this:Like Loading...
URL:https://www.piercingken.com/event/agentforce-world-tour-nyc-javits-center-2/
LOCATION:Jacob K. Javits Convention Center\, 655 W 34th St.\, New York\,\, NY\, 10001\, United States
CATEGORIES:Trade Show
END:VEVENT
BEGIN:VEVENT
DTSTART;VALUE=DATE:20250522
DTEND;VALUE=DATE:20250523
DTSTAMP:20260421T070157
CREATED:20250503T123030Z
LAST-MODIFIED:20250520T023817Z
UID:58972-1747872000-1747958399@www.piercingken.com
SUMMARY:MD&M East @ Javits Center
DESCRIPTION:The MD&M East trade show will take over a section of the Javits Center for three days and according to their website this is 6 Expos Under 1 Roof.  It’s here you’ll find the latest and greatest in MedTech\, Robotics\, Packaging\, Design & Manufacturing\, Plastics and Quality.  It’s the largest design & manufacturing event in the East Coast. \n \nLike this:Like Loading...
URL:https://www.piercingken.com/event/mdm-east-javits-center-3/
LOCATION:Jacob K. Javits Convention Center\, 655 W 34th St.\, New York\,\, NY\, 10001\, United States
CATEGORIES:Trade Show
END:VEVENT
BEGIN:VEVENT
DTSTART;VALUE=DATE:20250529
DTEND;VALUE=DATE:20250530
DTSTAMP:20260421T070157
CREATED:20250502T120050Z
LAST-MODIFIED:20250530T134632Z
UID:59089-1748476800-1748563199@www.piercingken.com
SUMMARY:International Franchise Expo @ Javits Center
DESCRIPTION:The International Franchise Expo is the place to learn more about a wealth of franchise opportunities or even secure additional services for your existing franchise.  If this is something on your personal agenda\, this publicly accessible trade show is the place to explore. \n \nLike this:Like Loading...
URL:https://www.piercingken.com/event/international-franchise-expo-javits-center-18/
LOCATION:Jacob K. Javits Convention Center\, 655 W 34th St.\, New York\,\, NY\, 10001\, United States
CATEGORIES:Trade Show
END:VEVENT
BEGIN:VEVENT
DTSTART;VALUE=DATE:20250530
DTEND;VALUE=DATE:20250531
DTSTAMP:20260421T070157
CREATED:20250502T121547Z
LAST-MODIFIED:20250530T134559Z
UID:59087-1748563200-1748649599@www.piercingken.com
SUMMARY:International Franchise Expo @ Javits Center
DESCRIPTION:The International Franchise Expo is the place to learn more about a wealth of franchise opportunities or even secure additional services for your existing franchise.  If this is something on your personal agenda\, this publicly accessible trade show is the place to explore. \n \nLike this:Like Loading...
URL:https://www.piercingken.com/event/international-franchise-expo-javits-center-19/
LOCATION:Jacob K. Javits Convention Center\, 655 W 34th St.\, New York\,\, NY\, 10001\, United States
CATEGORIES:Trade Show
END:VEVENT
BEGIN:VEVENT
DTSTART;VALUE=DATE:20250531
DTEND;VALUE=DATE:20250601
DTSTAMP:20260421T070157
CREATED:20250502T123050Z
LAST-MODIFIED:20250530T134549Z
UID:59088-1748649600-1748735999@www.piercingken.com
SUMMARY:International Franchise Expo @ Javits Center
DESCRIPTION:The International Franchise Expo is the place to learn more about a wealth of franchise opportunities or even secure additional services for your existing franchise.  If this is something on your personal agenda\, this publicly accessible trade show is the place to explore. \n \nLike this:Like Loading...
URL:https://www.piercingken.com/event/international-franchise-expo-javits-center-20/
LOCATION:Jacob K. Javits Convention Center\, 655 W 34th St.\, New York\,\, NY\, 10001\, United States
CATEGORIES:Trade Show
END:VEVENT
BEGIN:VEVENT
DTSTART;VALUE=DATE:20250604
DTEND;VALUE=DATE:20250605
DTSTAMP:20260421T070157
CREATED:20250317T120010Z
LAST-MODIFIED:20250317T200125Z
UID:58450-1748995200-1749081599@www.piercingken.com
SUMMARY:Cannabis Means Business @ Javits Center
DESCRIPTION:The Cannabis Means Business trade show arrives at the Javits Center for its annual conference and expo.  This is directly for those in the cannabis and cannabis adjacent industry but those interested in the business may also attend.  Formerly known as the CWCB Expo\, they rebranded last year in and announcement we shared HERE. Several pricing tiers are available based on your overall needs on the link in this listing. \n \nLike this:Like Loading...
URL:https://www.piercingken.com/event/cannabis-means-business-javits-center/
LOCATION:Jacob K. Javits Convention Center\, 655 W 34th St.\, New York\,\, NY\, 10001\, United States
CATEGORIES:Trade Show
END:VEVENT
BEGIN:VEVENT
DTSTART;VALUE=DATE:20250605
DTEND;VALUE=DATE:20250606
DTSTAMP:20260421T070157
CREATED:20250317T121527Z
LAST-MODIFIED:20250317T200217Z
UID:58451-1749081600-1749167999@www.piercingken.com
SUMMARY:Cannabis Means Business @ Javits Center
DESCRIPTION:The Cannabis Means Business trade show arrives at the Javits Center for its annual conference and expo.  This is directly for those in the cannabis and cannabis adjacent industry but those interested in the business may also attend.  Formerly known as the CWCB Expo\, they rebranded last year in and announcement we shared HERE. Several pricing tiers are available based on your overall needs on the link in this listing. \n \nLike this:Like Loading...
URL:https://www.piercingken.com/event/cannabis-means-business-javits-center-2/
LOCATION:Jacob K. Javits Convention Center\, 655 W 34th St.\, New York\,\, NY\, 10001\, United States
CATEGORIES:Trade Show
END:VEVENT
BEGIN:VEVENT
DTSTART;VALUE=DATE:20250610
DTEND;VALUE=DATE:20250611
DTSTAMP:20260421T070157
CREATED:20250601T120037Z
LAST-MODIFIED:20260314T005745Z
UID:62064-1749513600-1749599999@www.piercingken.com
SUMMARY:Bar Convent Brooklyn @ Industry City
DESCRIPTION:According to research\, the Bar Convent Brooklyn is the premier two-day trade show and educational event for the bar and beverage industry.  Since its a trade show\, the general public may not attend but can watch the reveals on their official site and social media profiles. \n   \nLike this:Like Loading...
URL:https://www.piercingken.com/event/bar-convent-brooklyn-industry-city/
LOCATION:Industry City\, 220-36th Street\, Brooklyn\, NY\, 11232\, United States
CATEGORIES:Trade Show
END:VEVENT
END:VCALENDAR