BEGIN:VCALENDAR
VERSION:2.0
PRODID:-//The Chronicles Of PiercingKen - ECPv6.15.20//NONSGML v1.0//EN
CALSCALE:GREGORIAN
METHOD:PUBLISH
X-WR-CALNAME:The Chronicles Of PiercingKen
X-ORIGINAL-URL:https://www.piercingken.com
X-WR-CALDESC:Events for The Chronicles Of PiercingKen
REFRESH-INTERVAL;VALUE=DURATION:PT1H
X-Robots-Tag:noindex
X-PUBLISHED-TTL:PT1H
BEGIN:VTIMEZONE
TZID:America/New_York
BEGIN:DAYLIGHT
TZOFFSETFROM:-0500
TZOFFSETTO:-0400
TZNAME:EDT
DTSTART:20160313T070000
END:DAYLIGHT
BEGIN:STANDARD
TZOFFSETFROM:-0400
TZOFFSETTO:-0500
TZNAME:EST
DTSTART:20161106T060000
END:STANDARD
BEGIN:DAYLIGHT
TZOFFSETFROM:-0500
TZOFFSETTO:-0400
TZNAME:EDT
DTSTART:20170312T070000
END:DAYLIGHT
BEGIN:STANDARD
TZOFFSETFROM:-0400
TZOFFSETTO:-0500
TZNAME:EST
DTSTART:20171105T060000
END:STANDARD
BEGIN:DAYLIGHT
TZOFFSETFROM:-0500
TZOFFSETTO:-0400
TZNAME:EDT
DTSTART:20180311T070000
END:DAYLIGHT
BEGIN:STANDARD
TZOFFSETFROM:-0400
TZOFFSETTO:-0500
TZNAME:EST
DTSTART:20181104T060000
END:STANDARD
END:VTIMEZONE
BEGIN:VEVENT
DTSTART;TZID=America/New_York:20171017T200000
DTEND;TZID=America/New_York:20171017T200000
DTSTAMP:20260421T100013
CREATED:20170812T161926Z
LAST-MODIFIED:20170831T181022Z
UID:30701-1508270400-1508270400@www.piercingken.com
SUMMARY:Bruce Springsteen @ Walter Kerr Theatre
DESCRIPTION:“The Boss” is on Broadway. Fans don’t want to miss the legendary performers first-ever residency show. Bruce will discuss his life and personal stories with guitar and piano.  \n \nLike this:Like Loading...
URL:https://www.piercingken.com/event/bruce-springsteen-walter-kerr-theatre-10/
LOCATION:Walter Kerr Theatre\, 219 W 48th St\, New York\, NY\, 10036\, United States
CATEGORIES:Concert
END:VEVENT
BEGIN:VEVENT
DTSTART;TZID=America/New_York:20171018T200000
DTEND;TZID=America/New_York:20171018T200000
DTSTAMP:20260421T100013
CREATED:20170812T163125Z
LAST-MODIFIED:20170831T181039Z
UID:30702-1508356800-1508356800@www.piercingken.com
SUMMARY:Bruce Springsteen @ Walter Kerr Theatre
DESCRIPTION:“The Boss” is on Broadway. Fans don’t want to miss the legendary performers first-ever residency show. Bruce will discuss his life and personal stories with guitar and piano.  \n \nLike this:Like Loading...
URL:https://www.piercingken.com/event/bruce-springsteen-walter-kerr-theatre-11/
LOCATION:Walter Kerr Theatre\, 219 W 48th St\, New York\, NY\, 10036\, United States
CATEGORIES:Concert
END:VEVENT
BEGIN:VEVENT
DTSTART;TZID=America/New_York:20171018T200000
DTEND;TZID=America/New_York:20171018T230000
DTSTAMP:20260421T100013
CREATED:20171003T034316Z
LAST-MODIFIED:20171003T034334Z
UID:31181-1508356800-1508367600@www.piercingken.com
SUMMARY:"The Blair Witch Project" Free Screening @ Brooklyn Bazaar
DESCRIPTION:This screening takes place in the Main Ballroom! Seating is first come first served. Restaurant and bar open before\, during and after the movie! \n“Found video footage tells the tale of three film students (Heather Donahue\, Joshua Leonard\, Michael C. Williams) who’ve traveled to a small town to collect documentary footage about the Blair Witch\, a legendary local murderer. Over the course of several days\, the students interview townspeople and gather clues to support the tale’s veracity. But the project takes a frightening turn when the students lose their way in the woods and begin hearing horrific noises.” \nRegister for this event via the provided link below. \nLike this:Like Loading...
URL:https://www.piercingken.com/event/the-blair-witch-project-free-screening-brooklyn-bazaar/
LOCATION:Brooklyn Bazaar\, 150 Greenpoint Avenue\, Brooklyn\, NY\, 11222\, United States
CATEGORIES:Film Opening
END:VEVENT
BEGIN:VEVENT
DTSTART;VALUE=DATE:20171019
DTEND;VALUE=DATE:20171020
DTSTAMP:20260421T100013
CREATED:20171004T000018Z
LAST-MODIFIED:20171004T000018Z
UID:31229-1508371200-1508457599@www.piercingken.com
SUMMARY:“Scared In Jersey” @ PNC Bank Arts Center
DESCRIPTION:The legend of the Jersey Devil comes to life during the Halloween season with “Scared In Jersey”\, a multi-faceted experience at the PNC Bank Arts Center in Holmdel\, NJ. Be there and prepare to be scared. \n \nLike this:Like Loading...
URL:https://www.piercingken.com/event/scared-in-jersey-pnc-bank-arts-center-9/
LOCATION:PNC Bank Arts Center\, Exit 116 & Garden State Parkway\, Holmdel\, NJ\, 07733\, United States
CATEGORIES:Festival - Fair
END:VEVENT
BEGIN:VEVENT
DTSTART;TZID=America/New_York:20171019T200000
DTEND;TZID=America/New_York:20171019T200000
DTSTAMP:20260421T100013
CREATED:20170812T163227Z
LAST-MODIFIED:20170831T181046Z
UID:30703-1508443200-1508443200@www.piercingken.com
SUMMARY:Bruce Springsteen @ Walter Kerr Theatre
DESCRIPTION:“The Boss” is on Broadway. Fans don’t want to miss the legendary performers first-ever residency show. Bruce will discuss his life and personal stories with guitar and piano.  \n \nLike this:Like Loading...
URL:https://www.piercingken.com/event/bruce-springsteen-walter-kerr-theatre-12/
LOCATION:Walter Kerr Theatre\, 219 W 48th St\, New York\, NY\, 10036\, United States
CATEGORIES:Concert
END:VEVENT
BEGIN:VEVENT
DTSTART;VALUE=DATE:20171020
DTEND;VALUE=DATE:20171021
DTSTAMP:20260421T100013
CREATED:20171004T000117Z
LAST-MODIFIED:20171004T000529Z
UID:31230-1508457600-1508543999@www.piercingken.com
SUMMARY:“Scared In Jersey” @ PNC Bank Arts Center
DESCRIPTION:The legend of the Jersey Devil comes to life during the Halloween season with “Scared In Jersey”\, a multi-faceted experience at the PNC Bank Arts Center in Holmdel\, NJ. Be there and prepare to be scared. \n \nLike this:Like Loading...
URL:https://www.piercingken.com/event/scared-in-jersey-pnc-bank-arts-center-10/
LOCATION:PNC Bank Arts Center\, Exit 116 & Garden State Parkway\, Holmdel\, NJ\, 07733\, United States
CATEGORIES:Festival - Fair
END:VEVENT
BEGIN:VEVENT
DTSTART;TZID=America/New_York:20171020T200000
DTEND;TZID=America/New_York:20171020T200000
DTSTAMP:20260421T100013
CREATED:20170609T004227Z
LAST-MODIFIED:20170609T004227Z
UID:29507-1508529600-1508529600@www.piercingken.com
SUMMARY:Billy Joel @ Madison Square Garden
DESCRIPTION:Billy Joel performs as a part of his monthly residency at NYC’s own Madison Square Garden. This will be a night full of singalong hits for sure so don’t miss out if you can snag a ticket. The numbers keep climbing for this record-breaking residency. \n \nLike this:Like Loading...
URL:https://www.piercingken.com/event/billy-joel-madison-square-garden-9/
LOCATION:Madison Square Garden\, 4 Pennsylvania Plaza\, New York\, NY\, 10001\, United States
CATEGORIES:Concert
END:VEVENT
BEGIN:VEVENT
DTSTART;TZID=America/New_York:20171020T200000
DTEND;TZID=America/New_York:20171020T200000
DTSTAMP:20260421T100013
CREATED:20170812T164228Z
LAST-MODIFIED:20170831T181053Z
UID:30699-1508529600-1508529600@www.piercingken.com
SUMMARY:Bruce Springsteen @ Walter Kerr Theatre
DESCRIPTION:“The Boss” is on Broadway. Fans don’t want to miss the legendary performers first-ever residency show. Bruce will discuss his life and personal stories with guitar and piano.  \n \nLike this:Like Loading...
URL:https://www.piercingken.com/event/bruce-springsteen-walter-kerr-theatre-13/
LOCATION:Walter Kerr Theatre\, 219 W 48th St\, New York\, NY\, 10036\, United States
CATEGORIES:Concert
END:VEVENT
BEGIN:VEVENT
DTSTART;VALUE=DATE:20171021
DTEND;VALUE=DATE:20171022
DTSTAMP:20260421T100013
CREATED:20171004T000130Z
LAST-MODIFIED:20171004T000626Z
UID:31239-1508544000-1508630399@www.piercingken.com
SUMMARY:“Scared In Jersey” @ PNC Bank Arts Center
DESCRIPTION:The legend of the Jersey Devil comes to life during the Halloween season with “Scared In Jersey”\, a multi-faceted experience at the PNC Bank Arts Center in Holmdel\, NJ. Be there and prepare to be scared. \n \nLike this:Like Loading...
URL:https://www.piercingken.com/event/scared-in-jersey-pnc-bank-arts-center-11/
LOCATION:PNC Bank Arts Center\, Exit 116 & Garden State Parkway\, Holmdel\, NJ\, 07733\, United States
CATEGORIES:Festival - Fair
END:VEVENT
BEGIN:VEVENT
DTSTART;TZID=America/New_York:20171021T200000
DTEND;TZID=America/New_York:20171021T200000
DTSTAMP:20260421T100013
CREATED:20170812T164518Z
LAST-MODIFIED:20170831T181101Z
UID:30721-1508616000-1508616000@www.piercingken.com
SUMMARY:Bruce Springsteen @ Walter Kerr Theatre
DESCRIPTION:“The Boss” is on Broadway. Fans don’t want to miss the legendary performers first-ever residency show. Bruce will discuss his life and personal stories with guitar and piano.  \n \nLike this:Like Loading...
URL:https://www.piercingken.com/event/bruce-springsteen-walter-kerr-theatre-14/
LOCATION:Walter Kerr Theatre\, 219 W 48th St\, New York\, NY\, 10036\, United States
CATEGORIES:Concert
END:VEVENT
BEGIN:VEVENT
DTSTART;VALUE=DATE:20171022
DTEND;VALUE=DATE:20171023
DTSTAMP:20260421T100013
CREATED:20171004T000141Z
LAST-MODIFIED:20171004T000709Z
UID:31240-1508630400-1508716799@www.piercingken.com
SUMMARY:“Scared In Jersey” @ PNC Bank Arts Center
DESCRIPTION:The legend of the Jersey Devil comes to life during the Halloween season with “Scared In Jersey”\, a multi-faceted experience at the PNC Bank Arts Center in Holmdel\, NJ. Be there and prepare to be scared. \n \nLike this:Like Loading...
URL:https://www.piercingken.com/event/scared-in-jersey-pnc-bank-arts-center-12/
LOCATION:PNC Bank Arts Center\, Exit 116 & Garden State Parkway\, Holmdel\, NJ\, 07733\, United States
CATEGORIES:Festival - Fair
END:VEVENT
BEGIN:VEVENT
DTSTART;TZID=America/New_York:20171024T200000
DTEND;TZID=America/New_York:20171024T200000
DTSTAMP:20260421T100013
CREATED:20170812T175037Z
LAST-MODIFIED:20170831T181118Z
UID:30720-1508875200-1508875200@www.piercingken.com
SUMMARY:Bruce Springsteen @ Walter Kerr Theatre
DESCRIPTION:“The Boss” is on Broadway. Fans don’t want to miss the legendary performers first-ever residency show. Bruce will discuss his life and personal stories with guitar and piano.  \n \nLike this:Like Loading...
URL:https://www.piercingken.com/event/bruce-springsteen-walter-kerr-theatre-15/
LOCATION:Walter Kerr Theatre\, 219 W 48th St\, New York\, NY\, 10036\, United States
CATEGORIES:Concert
END:VEVENT
BEGIN:VEVENT
DTSTART;VALUE=DATE:20171025
DTEND;VALUE=DATE:20171026
DTSTAMP:20260421T100013
CREATED:20170725T033552Z
LAST-MODIFIED:20170725T033553Z
UID:30599-1508889600-1508975999@www.piercingken.com
SUMMARY:PDN Photoplus Expo @ Jacob K. Javits Center
DESCRIPTION:The PDN Photoplus Expo begins today at the Javits Center.  The conferences begin today and run until 10/28 while the Expo Floor will open on 10/26. \n \nLike this:Like Loading...
URL:https://www.piercingken.com/event/pdn-photoplus-expo-jacob-k-javits-center/
LOCATION:Jacob K. Javits Convention Center\, 655 W 34th St.\, New York\,\, NY\, 10001\, United States
CATEGORIES:Convention
END:VEVENT
BEGIN:VEVENT
DTSTART;TZID=America/New_York:20171025T200000
DTEND;TZID=America/New_York:20171025T200000
DTSTAMP:20260421T100013
CREATED:20170812T175316Z
LAST-MODIFIED:20170831T181124Z
UID:30722-1508961600-1508961600@www.piercingken.com
SUMMARY:Bruce Springsteen @ Walter Kerr Theatre
DESCRIPTION:“The Boss” is on Broadway. Fans don’t want to miss the legendary performers first-ever residency show. Bruce will discuss his life and personal stories with guitar and piano.  \n \nLike this:Like Loading...
URL:https://www.piercingken.com/event/bruce-springsteen-walter-kerr-theatre-16/
LOCATION:Walter Kerr Theatre\, 219 W 48th St\, New York\, NY\, 10036\, United States
CATEGORIES:Concert
END:VEVENT
BEGIN:VEVENT
DTSTART;TZID=America/New_York:20171025T200000
DTEND;TZID=America/New_York:20171025T230000
DTSTAMP:20260421T100013
CREATED:20171003T043808Z
LAST-MODIFIED:20171003T043808Z
UID:31182-1508961600-1508972400@www.piercingken.com
SUMMARY:"The Texas Chainsaw Massacre" Free Screening @ Brooklyn Bazaar
DESCRIPTION:This screening takes place in the Main Ballroom! Seating is first come first served. Restaurant and bar open before\, during and after the movie! \n“When Sally (Marilyn Burns) hears that her grandfather’s grave may have been vandalized\, she and her paraplegic brother\, Franklin (Paul A. Partain)\, set out with their friends to investigate. After a detour to their family’s old farmhouse\, they discover a group of crazed\, murderous outcasts living next door. As the group is attacked one by one by the chainsaw-wielding Leatherface (Gunnar Hansen)\, who wears a mask of human skin\, the survivors must do everything they can to escape.” \nRegister for this event via the provided link below. \nLike this:Like Loading...
URL:https://www.piercingken.com/event/the-texas-chainsaw-massacre-free-screening-brooklyn-bazaar/
LOCATION:NY
CATEGORIES:Film Opening
END:VEVENT
BEGIN:VEVENT
DTSTART;VALUE=DATE:20171026
DTEND;VALUE=DATE:20171027
DTSTAMP:20260421T100013
CREATED:20170725T033750Z
LAST-MODIFIED:20170725T033917Z
UID:30600-1508976000-1509062399@www.piercingken.com
SUMMARY:PDN Photoplus Expo @ Jacob K. Javits Center
DESCRIPTION:The PDN Photoplus Expo is happening for the next three days at the Javits Center.  Get yourself a ticket if you are photographically inclined. \n \nLike this:Like Loading...
URL:https://www.piercingken.com/event/pdn-photoplus-expo-jacob-k-javits-center-2/
LOCATION:Jacob K. Javits Convention Center\, 655 W 34th St.\, New York\,\, NY\, 10001\, United States
CATEGORIES:Convention
END:VEVENT
BEGIN:VEVENT
DTSTART;VALUE=DATE:20171026
DTEND;VALUE=DATE:20171027
DTSTAMP:20260421T100013
CREATED:20171004T000207Z
LAST-MODIFIED:20171004T000747Z
UID:31241-1508976000-1509062399@www.piercingken.com
SUMMARY:“Scared In Jersey” @ PNC Bank Arts Center
DESCRIPTION:The legend of the Jersey Devil comes to life during the Halloween season with “Scared In Jersey”\, a multi-faceted experience at the PNC Bank Arts Center in Holmdel\, NJ. Be there and prepare to be scared. \n \nLike this:Like Loading...
URL:https://www.piercingken.com/event/scared-in-jersey-pnc-bank-arts-center-13/
LOCATION:PNC Bank Arts Center\, Exit 116 & Garden State Parkway\, Holmdel\, NJ\, 07733\, United States
CATEGORIES:Festival - Fair
END:VEVENT
BEGIN:VEVENT
DTSTART;TZID=America/New_York:20171026T200000
DTEND;TZID=America/New_York:20171026T200000
DTSTAMP:20260421T100013
CREATED:20170812T180535Z
LAST-MODIFIED:20170831T181129Z
UID:30729-1509048000-1509048000@www.piercingken.com
SUMMARY:Bruce Springsteen @ Walter Kerr Theatre
DESCRIPTION:“The Boss” is on Broadway. Fans don’t want to miss the legendary performers first-ever residency show. Bruce will discuss his life and personal stories with guitar and piano.  \n \nLike this:Like Loading...
URL:https://www.piercingken.com/event/bruce-springsteen-walter-kerr-theatre-17/
LOCATION:Walter Kerr Theatre\, 219 W 48th St\, New York\, NY\, 10036\, United States
CATEGORIES:Concert
END:VEVENT
BEGIN:VEVENT
DTSTART;VALUE=DATE:20171027
DTEND;VALUE=DATE:20171028
DTSTAMP:20260421T100013
CREATED:20170725T033805Z
LAST-MODIFIED:20170725T033921Z
UID:30601-1509062400-1509148799@www.piercingken.com
SUMMARY:PDN Photoplus Expo @ Jacob K. Javits Center
DESCRIPTION:The PDN Photoplus Expo is happening for the next three days at the Javits Center.  Get yourself a ticket if you are photographically inclined. \n \nLike this:Like Loading...
URL:https://www.piercingken.com/event/pdn-photoplus-expo-jacob-k-javits-center-3/
LOCATION:Jacob K. Javits Convention Center\, 655 W 34th St.\, New York\,\, NY\, 10001\, United States
CATEGORIES:Convention
END:VEVENT
BEGIN:VEVENT
DTSTART;VALUE=DATE:20171027
DTEND;VALUE=DATE:20171028
DTSTAMP:20260421T100013
CREATED:20171004T000216Z
LAST-MODIFIED:20171004T001211Z
UID:31242-1509062400-1509148799@www.piercingken.com
SUMMARY:“Scared In Jersey” @ PNC Bank Arts Center
DESCRIPTION:The legend of the Jersey Devil comes to life during the Halloween season with “Scared In Jersey”\, a multi-faceted experience at the PNC Bank Arts Center in Holmdel\, NJ. Be there and prepare to be scared. \n \nLike this:Like Loading...
URL:https://www.piercingken.com/event/scared-in-jersey-pnc-bank-arts-center-14/
LOCATION:PNC Bank Arts Center\, Exit 116 & Garden State Parkway\, Holmdel\, NJ\, 07733\, United States
CATEGORIES:Festival - Fair
END:VEVENT
BEGIN:VEVENT
DTSTART;TZID=America/New_York:20171027T200000
DTEND;TZID=America/New_York:20171027T200000
DTSTAMP:20260421T100013
CREATED:20170812T180601Z
LAST-MODIFIED:20170831T182340Z
UID:30730-1509134400-1509134400@www.piercingken.com
SUMMARY:Bruce Springsteen @ Walter Kerr Theatre
DESCRIPTION:“The Boss” is on Broadway. Fans don’t want to miss the legendary performers first-ever residency show. Bruce will discuss his life and personal stories with guitar and piano.  \n \nLike this:Like Loading...
URL:https://www.piercingken.com/event/bruce-springsteen-walter-kerr-theatre-18/
LOCATION:Walter Kerr Theatre\, 219 W 48th St\, New York\, NY\, 10036\, United States
CATEGORIES:Concert
END:VEVENT
BEGIN:VEVENT
DTSTART;VALUE=DATE:20171028
DTEND;VALUE=DATE:20171029
DTSTAMP:20260421T100013
CREATED:20170725T033812Z
LAST-MODIFIED:20170725T033925Z
UID:30602-1509148800-1509235199@www.piercingken.com
SUMMARY:PDN Photoplus Expo @ Jacob K. Javits Center
DESCRIPTION:The PDN Photoplus Expo is happening for the next three days at the Javits Center.  Get yourself a ticket if you are photographically inclined. \n \nLike this:Like Loading...
URL:https://www.piercingken.com/event/pdn-photoplus-expo-jacob-k-javits-center-4/
LOCATION:Jacob K. Javits Convention Center\, 655 W 34th St.\, New York\,\, NY\, 10001\, United States
CATEGORIES:Convention
END:VEVENT
BEGIN:VEVENT
DTSTART;VALUE=DATE:20171028
DTEND;VALUE=DATE:20171029
DTSTAMP:20260421T100013
CREATED:20171004T000228Z
LAST-MODIFIED:20171004T001246Z
UID:31243-1509148800-1509235199@www.piercingken.com
SUMMARY:“Scared In Jersey” @ PNC Bank Arts Center
DESCRIPTION:The legend of the Jersey Devil comes to life during the Halloween season with “Scared In Jersey”\, a multi-faceted experience at the PNC Bank Arts Center in Holmdel\, NJ. Be there and prepare to be scared. \n \nLike this:Like Loading...
URL:https://www.piercingken.com/event/scared-in-jersey-pnc-bank-arts-center-15/
LOCATION:PNC Bank Arts Center\, Exit 116 & Garden State Parkway\, Holmdel\, NJ\, 07733\, United States
CATEGORIES:Festival - Fair
END:VEVENT
BEGIN:VEVENT
DTSTART;TZID=America/New_York:20171028T200000
DTEND;TZID=America/New_York:20171028T200000
DTSTAMP:20260421T100013
CREATED:20170812T180757Z
LAST-MODIFIED:20170831T182348Z
UID:30731-1509220800-1509220800@www.piercingken.com
SUMMARY:Bruce Springsteen @ Walter Kerr Theatre
DESCRIPTION:“The Boss” is on Broadway. Fans don’t want to miss the legendary performers first-ever residency show. Bruce will discuss his life and personal stories with guitar and piano.  \n \nLike this:Like Loading...
URL:https://www.piercingken.com/event/bruce-springsteen-walter-kerr-theatre-19/
LOCATION:Walter Kerr Theatre\, 219 W 48th St\, New York\, NY\, 10036\, United States
CATEGORIES:Concert
END:VEVENT
BEGIN:VEVENT
DTSTART;VALUE=DATE:20171029
DTEND;VALUE=DATE:20171030
DTSTAMP:20260421T100013
CREATED:20171004T000242Z
LAST-MODIFIED:20171004T001343Z
UID:31244-1509235200-1509321599@www.piercingken.com
SUMMARY:“Scared In Jersey” @ PNC Bank Arts Center
DESCRIPTION:The legend of the Jersey Devil comes to life during the Halloween season with “Scared In Jersey”\, a multi-faceted experience at the PNC Bank Arts Center in Holmdel\, NJ. Be there and prepare to be scared. \n \nLike this:Like Loading...
URL:https://www.piercingken.com/event/scared-in-jersey-pnc-bank-arts-center-16/
LOCATION:PNC Bank Arts Center\, Exit 116 & Garden State Parkway\, Holmdel\, NJ\, 07733\, United States
CATEGORIES:Festival - Fair
END:VEVENT
BEGIN:VEVENT
DTSTART;VALUE=DATE:20171031
DTEND;VALUE=DATE:20171101
DTSTAMP:20260421T100013
CREATED:20171004T001141Z
LAST-MODIFIED:20171004T001351Z
UID:31253-1509408000-1509494399@www.piercingken.com
SUMMARY:“Scared In Jersey” @ PNC Bank Arts Center
DESCRIPTION:The legend of the Jersey Devil comes to life during the Halloween season with “Scared In Jersey”\, a multi-faceted experience at the PNC Bank Arts Center in Holmdel\, NJ. Be there and prepare to be scared. \n \nLike this:Like Loading...
URL:https://www.piercingken.com/event/scared-in-jersey-pnc-bank-arts-center-17/
LOCATION:PNC Bank Arts Center\, Exit 116 & Garden State Parkway\, Holmdel\, NJ\, 07733\, United States
CATEGORIES:Festival - Fair
END:VEVENT
BEGIN:VEVENT
DTSTART;TZID=America/New_York:20171031T200000
DTEND;TZID=America/New_York:20171031T200000
DTSTAMP:20260421T100013
CREATED:20170812T180840Z
LAST-MODIFIED:20170831T182357Z
UID:30732-1509480000-1509480000@www.piercingken.com
SUMMARY:Bruce Springsteen @ Walter Kerr Theatre
DESCRIPTION:“The Boss” is on Broadway. Fans don’t want to miss the legendary performers first-ever residency show. Bruce will discuss his life and personal stories with guitar and piano.  \n \nLike this:Like Loading...
URL:https://www.piercingken.com/event/bruce-springsteen-walter-kerr-theatre-20/
LOCATION:Walter Kerr Theatre\, 219 W 48th St\, New York\, NY\, 10036\, United States
CATEGORIES:Concert
END:VEVENT
BEGIN:VEVENT
DTSTART;TZID=America/New_York:20171101T190000
DTEND;TZID=America/New_York:20171101T190000
DTSTAMP:20260421T100013
CREATED:20170817T142122Z
LAST-MODIFIED:20170817T143317Z
UID:30845-1509562800-1509562800@www.piercingken.com
SUMMARY:Disney On Ice @ Prudential Center
DESCRIPTION:Join hosts Mickey Mouse and Minnie Mouse who will take their audiences on an expedition across raging seas and snow-covered mountains in this action-packed extravaganza when beloved characters from Disney’s Beauty and the Beast\, Frozen\, Tangled and Cinderella visit Newark\, NJ for the latest Disney On Ice presentation “Dare To Dream”.  Today’s show will be a single performance. \n \nLike this:Like Loading...
URL:https://www.piercingken.com/event/disney-on-ice-prudential-center/
LOCATION:Prudential Center\, 25 Lafayette St.\, Newark\, NJ\, 07102\, United States
END:VEVENT
BEGIN:VEVENT
DTSTART;TZID=America/New_York:20171101T200000
DTEND;TZID=America/New_York:20171101T200000
DTSTAMP:20260421T100013
CREATED:20170812T232221Z
LAST-MODIFIED:20170831T182409Z
UID:30737-1509566400-1509566400@www.piercingken.com
SUMMARY:Bruce Springsteen @ Walter Kerr Theatre
DESCRIPTION:“The Boss” is on Broadway. Fans don’t want to miss the legendary performers first-ever residency show. Bruce will discuss his life and personal stories with guitar and piano.  \n \nLike this:Like Loading...
URL:https://www.piercingken.com/event/bruce-springsteen-walter-kerr-theatre-21/
LOCATION:Walter Kerr Theatre\, 219 W 48th St\, New York\, NY\, 10036\, United States
CATEGORIES:Concert
END:VEVENT
BEGIN:VEVENT
DTSTART;VALUE=DATE:20171102
DTEND;VALUE=DATE:20171103
DTSTAMP:20260421T100013
CREATED:20170817T142156Z
LAST-MODIFIED:20170817T145421Z
UID:30846-1509580800-1509667199@www.piercingken.com
SUMMARY:Disney On Ice @ Prudential Center
DESCRIPTION:Join hosts Mickey Mouse and Minnie Mouse who will take their audiences on an expedition across raging seas and snow-covered mountains in this action-packed extravaganza when beloved characters from Disney’s Beauty and the Beast\, Frozen\, Tangled and Cinderella visit Newark\, NJ for the latest Disney On Ice presentation “Dare To Dream”. There will be two performances today with a show at 11AM and one at 7PM. \n \nLike this:Like Loading...
URL:https://www.piercingken.com/event/disney-on-ice-prudential-center-2/
LOCATION:Prudential Center\, 25 Lafayette St.\, Newark\, NJ\, 07102\, United States
END:VEVENT
END:VCALENDAR