BEGIN:VCALENDAR
VERSION:2.0
PRODID:-//The Chronicles Of PiercingKen - ECPv6.15.20//NONSGML v1.0//EN
CALSCALE:GREGORIAN
METHOD:PUBLISH
X-WR-CALNAME:The Chronicles Of PiercingKen
X-ORIGINAL-URL:https://www.piercingken.com
X-WR-CALDESC:Events for The Chronicles Of PiercingKen
REFRESH-INTERVAL;VALUE=DURATION:PT1H
X-Robots-Tag:noindex
X-PUBLISHED-TTL:PT1H
BEGIN:VTIMEZONE
TZID:America/New_York
BEGIN:DAYLIGHT
TZOFFSETFROM:-0500
TZOFFSETTO:-0400
TZNAME:EDT
DTSTART:20170312T070000
END:DAYLIGHT
BEGIN:STANDARD
TZOFFSETFROM:-0400
TZOFFSETTO:-0500
TZNAME:EST
DTSTART:20171105T060000
END:STANDARD
BEGIN:DAYLIGHT
TZOFFSETFROM:-0500
TZOFFSETTO:-0400
TZNAME:EDT
DTSTART:20180311T070000
END:DAYLIGHT
BEGIN:STANDARD
TZOFFSETFROM:-0400
TZOFFSETTO:-0500
TZNAME:EST
DTSTART:20181104T060000
END:STANDARD
BEGIN:DAYLIGHT
TZOFFSETFROM:-0500
TZOFFSETTO:-0400
TZNAME:EDT
DTSTART:20190310T070000
END:DAYLIGHT
BEGIN:STANDARD
TZOFFSETFROM:-0400
TZOFFSETTO:-0500
TZNAME:EST
DTSTART:20191103T060000
END:STANDARD
END:VTIMEZONE
BEGIN:VEVENT
DTSTART;VALUE=DATE:20180224
DTEND;VALUE=DATE:20180225
DTSTAMP:20260422T191540
CREATED:20180213T130035Z
LAST-MODIFIED:20180322T131534Z
UID:32764-1519430400-1519516799@www.piercingken.com
SUMMARY:"Marvel Universe Live: Age Of Heroes" @ Barclays Center
DESCRIPTION:The Marvel Universe Live: Age Of Heroes will bring you into the comic book action.  There are three shows today\, 11AM\, 3PM and 7PM. \n \nLike this:Like Loading...
URL:https://www.piercingken.com/event/marvel-universe-live-age-of-heroes-barclays-center-3/
LOCATION:Barclays Center\, 620 Atlantic Avenue\, Brooklyn\, NY\, 11217\, United States
CATEGORIES:Concert
END:VEVENT
BEGIN:VEVENT
DTSTART;TZID=America/New_York:20180224T100000
DTEND;TZID=America/New_York:20180224T180000
DTSTAMP:20260422T191540
CREATED:20180212T030404Z
LAST-MODIFIED:20180212T030654Z
UID:32455-1519466400-1519495200@www.piercingken.com
SUMMARY:Fanfaire @ High School of Art & Design
DESCRIPTION:Like this:Like Loading...
URL:https://www.piercingken.com/event/fanfaire-high-school-of-art-design/
LOCATION:High School Of Art & Design\, 245 E 56th St\, New York\, NY\, 10022\, United States
CATEGORIES:Convention
END:VEVENT
BEGIN:VEVENT
DTSTART;VALUE=DATE:20180225
DTEND;VALUE=DATE:20180226
DTSTAMP:20260422T191540
CREATED:20180213T130047Z
LAST-MODIFIED:20180322T015712Z
UID:32765-1519516800-1519603199@www.piercingken.com
SUMMARY:"Marvel Universe Live: Age Of Heroes" @ Barclays Center
DESCRIPTION:The Marvel Universe Live: Age Of Heroes will bring you into the comic book action. There are two shows today\, 12PM and 4PM.   \n \nLike this:Like Loading...
URL:https://www.piercingken.com/event/marvel-universe-live-age-of-heroes-barclays-center-4/
LOCATION:Barclays Center\, 620 Atlantic Avenue\, Brooklyn\, NY\, 11217\, United States
CATEGORIES:Concert
END:VEVENT
BEGIN:VEVENT
DTSTART;TZID=America/New_York:20180225T100000
DTEND;TZID=America/New_York:20180225T180000
DTSTAMP:20260422T191540
CREATED:20180212T030604Z
LAST-MODIFIED:20180212T030704Z
UID:32454-1519552800-1519581600@www.piercingken.com
SUMMARY:Fanfaire @ High School of Art & Design
DESCRIPTION:Like this:Like Loading...
URL:https://www.piercingken.com/event/fanfaire-high-school-of-art-design-2/
LOCATION:High School Of Art & Design\, 245 E 56th St\, New York\, NY\, 10022\, United States
CATEGORIES:Convention
END:VEVENT
BEGIN:VEVENT
DTSTART;TZID=America/New_York:20180228T200000
DTEND;TZID=America/New_York:20180228T200000
DTSTAMP:20260422T191540
CREATED:20180115T044310Z
LAST-MODIFIED:20180115T044310Z
UID:32168-1519848000-1519848000@www.piercingken.com
SUMMARY:Bruce Springsteen @ Walter Kerr Theatre
DESCRIPTION:“The Boss” is on Broadway. Fans don’t want to miss the legendary performers first-ever residency show which has now been extended to maximize attendance. Here Bruce will discuss his life and personal stories with guitar and piano. This second extension of performances will hopefully find all the diehards getting a chance to see him in this intimate setting. \n \nLike this:Like Loading...
URL:https://www.piercingken.com/event/bruce-springsteen-walter-kerr-theatre-80/
LOCATION:Walter Kerr Theatre\, 219 W 48th St\, New York\, NY\, 10036\, United States
CATEGORIES:Concert
END:VEVENT
BEGIN:VEVENT
DTSTART;TZID=America/New_York:20180228T200000
DTEND;TZID=America/New_York:20180228T230000
DTSTAMP:20260422T191540
CREATED:20180225T150102Z
LAST-MODIFIED:20180225T150102Z
UID:32510-1519848000-1519858800@www.piercingken.com
SUMMARY:“Waiting For Guffman” Free Screening @ Brooklyn Bazaar
DESCRIPTION:This screening takes place in the Main Ballroom! Seating is first come first served. Restaurant and bar open before\, during and after the movie! \n“When the town of Blaine\, Mo.\, approaches its sesquicentennial\, there’s only one way to celebrate: with a musical revue called “Red\, White and Blaine.” Hoping the show will be his ticket back to Broadway\, impresario Corky St. Clair (Christopher Guest) rounds up a cast of enthusiastic but untalented locals (Eugene Levy\, Fred Willard\, Catherine O’Hara) to perform his masterwork. But\, when Corky reveals that theater agent Mort Guffman will attend the opening\, things really kick into high gear.” \nRegister for this event via the provided link below. \nLike this:Like Loading...
URL:https://www.piercingken.com/event/waiting-for-guffman-free-screening-brooklyn-bazaar/
LOCATION:Brooklyn Bazaar\, 150 Greenpoint Avenue\, Brooklyn\, NY\, 11222\, United States
CATEGORIES:Film Opening
END:VEVENT
BEGIN:VEVENT
DTSTART;TZID=America/New_York:20180301T200000
DTEND;TZID=America/New_York:20180301T200000
DTSTAMP:20260422T191540
CREATED:20180115T044500Z
LAST-MODIFIED:20180115T044500Z
UID:32162-1519934400-1519934400@www.piercingken.com
SUMMARY:Bruce Springsteen @ Walter Kerr Theatre
DESCRIPTION:“The Boss” is on Broadway. Fans don’t want to miss the legendary performers first-ever residency show which has now been extended to maximize attendance. Here Bruce will discuss his life and personal stories with guitar and piano. This second extension of performances will hopefully find all the diehards getting a chance to see him in this intimate setting. \n \nLike this:Like Loading...
URL:https://www.piercingken.com/event/bruce-springsteen-walter-kerr-theatre-81/
LOCATION:Walter Kerr Theatre\, 219 W 48th St\, New York\, NY\, 10036\, United States
CATEGORIES:Concert
END:VEVENT
BEGIN:VEVENT
DTSTART;TZID=America/New_York:20180302T110000
DTEND;TZID=America/New_York:20180302T180000
DTSTAMP:20260422T191540
CREATED:20180302T145334Z
LAST-MODIFIED:20180302T154201Z
UID:32544-1519988400-1520013600@www.piercingken.com
SUMMARY:"David Bowie Is" @ Brooklyn Museum
DESCRIPTION:Like this:Like Loading...
URL:https://www.piercingken.com/event/david-bowie-is-brooklyn-museum/
LOCATION:Brooklyn Museum\, 200 Eastern Parkway\, Brooklyn\, NY\, 11238-6052\, United States
CATEGORIES:Art Fair
END:VEVENT
BEGIN:VEVENT
DTSTART;TZID=America/New_York:20180302T200000
DTEND;TZID=America/New_York:20180302T200000
DTSTAMP:20260422T191540
CREATED:20180115T050226Z
LAST-MODIFIED:20180115T050226Z
UID:32184-1520020800-1520020800@www.piercingken.com
SUMMARY:Bruce Springsteen @ Walter Kerr Theatre
DESCRIPTION:“The Boss” is on Broadway. Fans don’t want to miss the legendary performers first-ever residency show which has now been extended to maximize attendance. Here Bruce will discuss his life and personal stories with guitar and piano. This second extension of performances will hopefully find all the diehards getting a chance to see him in this intimate setting. \n \nLike this:Like Loading...
URL:https://www.piercingken.com/event/bruce-springsteen-walter-kerr-theatre-82/
LOCATION:Walter Kerr Theatre\, 219 W 48th St\, New York\, NY\, 10036\, United States
CATEGORIES:Concert
END:VEVENT
BEGIN:VEVENT
DTSTART;TZID=America/New_York:20180303T200000
DTEND;TZID=America/New_York:20180303T200000
DTSTAMP:20260422T191540
CREATED:20180115T051039Z
LAST-MODIFIED:20180115T051039Z
UID:32186-1520107200-1520107200@www.piercingken.com
SUMMARY:Bruce Springsteen @ Walter Kerr Theatre
DESCRIPTION:“The Boss” is on Broadway. Fans don’t want to miss the legendary performers first-ever residency show which has now been extended to maximize attendance. Here Bruce will discuss his life and personal stories with guitar and piano. This second extension of performances will hopefully find all the diehards getting a chance to see him in this intimate setting. \n \nLike this:Like Loading...
URL:https://www.piercingken.com/event/bruce-springsteen-walter-kerr-theatre-83/
LOCATION:Walter Kerr Theatre\, 219 W 48th St\, New York\, NY\, 10036\, United States
CATEGORIES:Concert
END:VEVENT
BEGIN:VEVENT
DTSTART;VALUE=DATE:20180304
DTEND;VALUE=DATE:20180305
DTSTAMP:20260422T191540
CREATED:20180306T221804Z
LAST-MODIFIED:20230207T021207Z
UID:32663-1520121600-1520207999@www.piercingken.com
SUMMARY:International Beauty Show NY @ Jacob K. Javits Center
DESCRIPTION:IBS New York is the longest-running professionals-only event in beauty and draws 65\,200 serious beauty pros. These salon owners\, managers and stylists love what they do\, are passionate about the beauty industry\, are eager to learn and want to shop great deals at professionals-only pricing! \n \nLike this:Like Loading...
URL:https://www.piercingken.com/event/international-beauty-show-ny-jacob-k-javits-center/
LOCATION:Jacob K. Javits Convention Center\, 655 W 34th St.\, New York\,\, NY\, 10001\, United States
CATEGORIES:Trade Show
END:VEVENT
BEGIN:VEVENT
DTSTART;VALUE=DATE:20180305
DTEND;VALUE=DATE:20180306
DTSTAMP:20260422T191540
CREATED:20180306T221827Z
LAST-MODIFIED:20230207T021135Z
UID:32664-1520208000-1520294399@www.piercingken.com
SUMMARY:International Beauty Show NY @ Jacob K. Javits Center
DESCRIPTION:IBS New York is the longest-running professionals-only event in beauty and draws 65\,200 serious beauty pros. These salon owners\, managers and stylists love what they do\, are passionate about the beauty industry\, are eager to learn and want to shop great deals at professionals-only pricing! \n \nLike this:Like Loading...
URL:https://www.piercingken.com/event/international-beauty-show-ny-jacob-k-javits-center-2/
LOCATION:Jacob K. Javits Convention Center\, 655 W 34th St.\, New York\,\, NY\, 10001\, United States
CATEGORIES:Trade Show
END:VEVENT
BEGIN:VEVENT
DTSTART;TZID=America/New_York:20180305T100000
DTEND;TZID=America/New_York:20180305T180000
DTSTAMP:20260422T191540
CREATED:20180305T135649Z
LAST-MODIFIED:20180305T135649Z
UID:32605-1520244000-1520272800@www.piercingken.com
SUMMARY:Vinexpo New York @ Jacob K. Javits Center
DESCRIPTION:Vinexpo New York will feature the world’s newest producers and those introducing their products to the North American market. \n \nLike this:Like Loading...
URL:https://www.piercingken.com/event/vinexpo-new-york-jacob-k-javits-center/
LOCATION:Jacob K. Javits Convention Center\, 655 W 34th St.\, New York\,\, NY\, 10001\, United States
CATEGORIES:Convention
END:VEVENT
BEGIN:VEVENT
DTSTART;VALUE=DATE:20180306
DTEND;VALUE=DATE:20180307
DTSTAMP:20260422T191540
CREATED:20180306T221847Z
LAST-MODIFIED:20230207T021115Z
UID:32665-1520294400-1520380799@www.piercingken.com
SUMMARY:International Beauty Show NY @ Jacob K. Javits Center
DESCRIPTION:IBS New York is the longest-running professionals-only event in beauty and draws 65\,200 serious beauty pros. These salon owners\, managers and stylists love what they do\, are passionate about the beauty industry\, are eager to learn and want to shop great deals at professionals-only pricing! \n \nLike this:Like Loading...
URL:https://www.piercingken.com/event/international-beauty-show-ny-jacob-k-javits-center-3/
LOCATION:Jacob K. Javits Convention Center\, 655 W 34th St.\, New York\,\, NY\, 10001\, United States
CATEGORIES:Trade Show
END:VEVENT
BEGIN:VEVENT
DTSTART;TZID=America/New_York:20180306T100000
DTEND;TZID=America/New_York:20180306T180000
DTSTAMP:20260422T191540
CREATED:20180305T135931Z
LAST-MODIFIED:20180305T135931Z
UID:32610-1520330400-1520359200@www.piercingken.com
SUMMARY:Vinexpo New York @ Jacob K. Javits Center
DESCRIPTION:Vinexpo New York will feature the world’s newest producers and those introducing their products to the North American market. \n \nLike this:Like Loading...
URL:https://www.piercingken.com/event/vinexpo-new-york-jacob-k-javits-center-2/
LOCATION:Jacob K. Javits Convention Center\, 655 W 34th St.\, New York\,\, NY\, 10001\, United States
CATEGORIES:Convention
END:VEVENT
BEGIN:VEVENT
DTSTART;TZID=America/New_York:20180306T200000
DTEND;TZID=America/New_York:20180306T200000
DTSTAMP:20260422T191540
CREATED:20180115T051655Z
LAST-MODIFIED:20180115T051655Z
UID:32185-1520366400-1520366400@www.piercingken.com
SUMMARY:Bruce Springsteen @ Walter Kerr Theatre
DESCRIPTION:“The Boss” is on Broadway. Fans don’t want to miss the legendary performers first-ever residency show which has now been extended to maximize attendance. Here Bruce will discuss his life and personal stories with guitar and piano. This second extension of performances will hopefully find all the diehards getting a chance to see him in this intimate setting. \n \nLike this:Like Loading...
URL:https://www.piercingken.com/event/bruce-springsteen-walter-kerr-theatre-84/
LOCATION:Walter Kerr Theatre\, 219 W 48th St\, New York\, NY\, 10036\, United States
CATEGORIES:Concert
END:VEVENT
BEGIN:VEVENT
DTSTART;TZID=America/New_York:20180307T200000
DTEND;TZID=America/New_York:20180307T200000
DTSTAMP:20260422T191540
CREATED:20180115T051749Z
LAST-MODIFIED:20180115T051749Z
UID:32187-1520452800-1520452800@www.piercingken.com
SUMMARY:Bruce Springsteen @ Walter Kerr Theatre
DESCRIPTION:“The Boss” is on Broadway. Fans don’t want to miss the legendary performers first-ever residency show which has now been extended to maximize attendance. Here Bruce will discuss his life and personal stories with guitar and piano. This second extension of performances will hopefully find all the diehards getting a chance to see him in this intimate setting. \n \nLike this:Like Loading...
URL:https://www.piercingken.com/event/bruce-springsteen-walter-kerr-theatre-85/
LOCATION:Walter Kerr Theatre\, 219 W 48th St\, New York\, NY\, 10036\, United States
CATEGORIES:Concert
END:VEVENT
BEGIN:VEVENT
DTSTART;TZID=America/New_York:20180308T190000
DTEND;TZID=America/New_York:20180308T200000
DTSTAMP:20260422T191540
CREATED:20180308T183352Z
LAST-MODIFIED:20180308T183352Z
UID:32678-1520535600-1520539200@www.piercingken.com
SUMMARY:Amy Chu Signs "Green Hornet" #1 @ Midtown Comics Times Square
DESCRIPTION:Writer Amy Chu will sign copies of the brand-new Dynamite Comics series “Green Hornet” #1 tonight.  Copies are on hand at Midtown to purchase for this signing. \n \nLike this:Like Loading...
URL:https://www.piercingken.com/event/amy-chu-signs-green-hornet-1-midtown-comics-times-square/
LOCATION:Midtown Comics Times Square\, 200 W 40th St\, New York\, NY\, 10018\, United States
CATEGORIES:Special Appearance
END:VEVENT
BEGIN:VEVENT
DTSTART;TZID=America/New_York:20180308T200000
DTEND;TZID=America/New_York:20180308T200000
DTSTAMP:20260422T191540
CREATED:20180115T052846Z
LAST-MODIFIED:20180115T052846Z
UID:32182-1520539200-1520539200@www.piercingken.com
SUMMARY:Bruce Springsteen @ Walter Kerr Theatre
DESCRIPTION:“The Boss” is on Broadway. Fans don’t want to miss the legendary performers first-ever residency show which has now been extended to maximize attendance. Here Bruce will discuss his life and personal stories with guitar and piano. This second extension of performances will hopefully find all the diehards getting a chance to see him in this intimate setting. \n \nLike this:Like Loading...
URL:https://www.piercingken.com/event/bruce-springsteen-walter-kerr-theatre-86/
LOCATION:Walter Kerr Theatre\, 219 W 48th St\, New York\, NY\, 10036\, United States
CATEGORIES:Concert
END:VEVENT
BEGIN:VEVENT
DTSTART;TZID=America/New_York:20180309T200000
DTEND;TZID=America/New_York:20180309T200000
DTSTAMP:20260422T191540
CREATED:20180115T053403Z
LAST-MODIFIED:20180115T053403Z
UID:32177-1520625600-1520625600@www.piercingken.com
SUMMARY:Bruce Springsteen @ Walter Kerr Theatre
DESCRIPTION:“The Boss” is on Broadway. Fans don’t want to miss the legendary performers first-ever residency show which has now been extended to maximize attendance. Here Bruce will discuss his life and personal stories with guitar and piano. This second extension of performances will hopefully find all the diehards getting a chance to see him in this intimate setting. \n \nLike this:Like Loading...
URL:https://www.piercingken.com/event/bruce-springsteen-walter-kerr-theatre-87/
LOCATION:Walter Kerr Theatre\, 219 W 48th St\, New York\, NY\, 10036\, United States
CATEGORIES:Concert
END:VEVENT
BEGIN:VEVENT
DTSTART;TZID=America/New_York:20180310T200000
DTEND;TZID=America/New_York:20180310T200000
DTSTAMP:20260422T191540
CREATED:20180115T053447Z
LAST-MODIFIED:20180115T053447Z
UID:32181-1520712000-1520712000@www.piercingken.com
SUMMARY:Bruce Springsteen @ Walter Kerr Theatre
DESCRIPTION:“The Boss” is on Broadway. Fans don’t want to miss the legendary performers first-ever residency show which has now been extended to maximize attendance. Here Bruce will discuss his life and personal stories with guitar and piano. This second extension of performances will hopefully find all the diehards getting a chance to see him in this intimate setting. \n \nLike this:Like Loading...
URL:https://www.piercingken.com/event/bruce-springsteen-walter-kerr-theatre-88/
LOCATION:Walter Kerr Theatre\, 219 W 48th St\, New York\, NY\, 10036\, United States
CATEGORIES:Concert
END:VEVENT
BEGIN:VEVENT
DTSTART;TZID=America/New_York:20180315T200000
DTEND;TZID=America/New_York:20180315T200000
DTSTAMP:20260422T191540
CREATED:20180115T053858Z
LAST-MODIFIED:20180115T054100Z
UID:32183-1521144000-1521144000@www.piercingken.com
SUMMARY:Bruce Springsteen @ Walter Kerr Theatre
DESCRIPTION:“The Boss” is on Broadway. Fans don’t want to miss the legendary performers first-ever residency show which has now been extended to maximize attendance. Here Bruce will discuss his life and personal stories with guitar and piano. This second extension of performances will hopefully find all the diehards getting a chance to see him in this intimate setting. \n \nLike this:Like Loading...
URL:https://www.piercingken.com/event/bruce-springsteen-walter-kerr-theatre-89/
LOCATION:Walter Kerr Theatre\, 219 W 48th St\, New York\, NY\, 10036\, United States
CATEGORIES:Concert
END:VEVENT
BEGIN:VEVENT
DTSTART;TZID=America/New_York:20180316T200000
DTEND;TZID=America/New_York:20180316T200000
DTSTAMP:20260422T191540
CREATED:20180115T053908Z
LAST-MODIFIED:20180115T054146Z
UID:32180-1521230400-1521230400@www.piercingken.com
SUMMARY:Bruce Springsteen @ Walter Kerr Theatre
DESCRIPTION:“The Boss” is on Broadway. Fans don’t want to miss the legendary performers first-ever residency show which has now been extended to maximize attendance. Here Bruce will discuss his life and personal stories with guitar and piano. This second extension of performances will hopefully find all the diehards getting a chance to see him in this intimate setting. \n \nLike this:Like Loading...
URL:https://www.piercingken.com/event/bruce-springsteen-walter-kerr-theatre-90/
LOCATION:Walter Kerr Theatre\, 219 W 48th St\, New York\, NY\, 10036\, United States
CATEGORIES:Concert
END:VEVENT
BEGIN:VEVENT
DTSTART;TZID=America/New_York:20180317T200000
DTEND;TZID=America/New_York:20180317T200000
DTSTAMP:20260422T191540
CREATED:20180115T053920Z
LAST-MODIFIED:20180115T054259Z
UID:32179-1521316800-1521316800@www.piercingken.com
SUMMARY:Bruce Springsteen @ Walter Kerr Theatre
DESCRIPTION:“The Boss” is on Broadway. Fans don’t want to miss the legendary performers first-ever residency show which has now been extended to maximize attendance. Here Bruce will discuss his life and personal stories with guitar and piano. This second extension of performances will hopefully find all the diehards getting a chance to see him in this intimate setting. \n \nLike this:Like Loading...
URL:https://www.piercingken.com/event/bruce-springsteen-walter-kerr-theatre-91/
LOCATION:Walter Kerr Theatre\, 219 W 48th St\, New York\, NY\, 10036\, United States
CATEGORIES:Concert
END:VEVENT
BEGIN:VEVENT
DTSTART;VALUE=DATE:20180318
DTEND;VALUE=DATE:20180319
DTSTAMP:20260422T191540
CREATED:20180210T234528Z
LAST-MODIFIED:20180210T234804Z
UID:32436-1521331200-1521417599@www.piercingken.com
SUMMARY:Mac & Cheese Smackdown @ Brooklyn Expo Center
DESCRIPTION:The promo copy says it all with “Grab your sporks and warm up with NYC’s best mac and cheese contenders on Sunday\, March 18 at Brooklyn Expo Center. Time Out New York is blowing it out even bigger and better this year featuring 20 of the city’s best restaurants to battle it out for the ultimate showdown to crown New York’s top mac”.  Sounds great to me.  \n \nThere are two sessions to choose from and a ticket is required for each of them.  Choose what works best for you. \nLike this:Like Loading...
URL:https://www.piercingken.com/event/mac-cheese-smackdown-brooklyn-expo-center/
LOCATION:Brooklyn Expo Center\, 72 Noble Street\, Brooklyn\, NY\, 11222\, United States
CATEGORIES:Festival - Fair
END:VEVENT
BEGIN:VEVENT
DTSTART;TZID=America/New_York:20180320T193000
DTEND;TZID=America/New_York:20180320T193000
DTSTAMP:20260422T191540
CREATED:20180315T041530Z
LAST-MODIFIED:20180325T024549Z
UID:32820-1521574200-1521574200@www.piercingken.com
SUMMARY:"Rocktopia" @ The Broadway Theatre
DESCRIPTION:“Rocktopia” is a new musical that melds Classical greats with Rock and Roll awesome. This limited run show features Pat Monahan from Train for the first three weeks. \n \nLike this:Like Loading...
URL:https://www.piercingken.com/event/rocktopia-the-broadway-theatre/
LOCATION:Broadway Theatre\, 1681 Broadway\, New York\, NY\, 10019\, United States
CATEGORIES:Concert
END:VEVENT
BEGIN:VEVENT
DTSTART;TZID=America/New_York:20180320T200000
DTEND;TZID=America/New_York:20180320T200000
DTSTAMP:20260422T191540
CREATED:20180303T042023Z
LAST-MODIFIED:20180303T042023Z
UID:32551-1521576000-1521576000@www.piercingken.com
SUMMARY:Bruce Springsteen @ Walter Kerr Theatre
DESCRIPTION:“The Boss” is on Broadway. Fans don’t want to miss the legendary performers first-ever residency show which has now been extended to maximize attendance. Here Bruce will discuss his life and personal stories with guitar and piano. This second extension of performances will hopefully find all the diehards getting a chance to see him in this intimate setting. \n \nLike this:Like Loading...
URL:https://www.piercingken.com/event/bruce-springsteen-walter-kerr-theatre-92/
LOCATION:Walter Kerr Theatre\, 219 W 48th St\, New York\, NY\, 10036\, United States
CATEGORIES:Concert
END:VEVENT
BEGIN:VEVENT
DTSTART;TZID=America/New_York:20180321T193000
DTEND;TZID=America/New_York:20180321T193000
DTSTAMP:20260422T191540
CREATED:20180315T043009Z
LAST-MODIFIED:20180325T024645Z
UID:32821-1521660600-1521660600@www.piercingken.com
SUMMARY:"Rocktopia" @ The Broadway Theatre
DESCRIPTION:“Rocktopia” is a new musical that melds Classical greats with Rock and Roll awesome. This limited run show features Pat Monahan from Train for the first three weeks. \n \nLike this:Like Loading...
URL:https://www.piercingken.com/event/rocktopia-the-broadway-theatre-2/
LOCATION:Broadway Theatre\, 1681 Broadway\, New York\, NY\, 10019\, United States
CATEGORIES:Concert
END:VEVENT
BEGIN:VEVENT
DTSTART;TZID=America/New_York:20180321T200000
DTEND;TZID=America/New_York:20180321T200000
DTSTAMP:20260422T191540
CREATED:20180303T042141Z
LAST-MODIFIED:20180303T042141Z
UID:32552-1521662400-1521662400@www.piercingken.com
SUMMARY:Bruce Springsteen @ Walter Kerr Theatre
DESCRIPTION:“The Boss” is on Broadway. Fans don’t want to miss the legendary performers first-ever residency show which has now been extended to maximize attendance. Here Bruce will discuss his life and personal stories with guitar and piano. This second extension of performances will hopefully find all the diehards getting a chance to see him in this intimate setting. \n \nLike this:Like Loading...
URL:https://www.piercingken.com/event/bruce-springsteen-walter-kerr-theatre-93/
LOCATION:Walter Kerr Theatre\, 219 W 48th St\, New York\, NY\, 10036\, United States
CATEGORIES:Concert
END:VEVENT
BEGIN:VEVENT
DTSTART;TZID=America/New_York:20180322T110000
DTEND;TZID=America/New_York:20180322T130000
DTSTAMP:20260422T191540
CREATED:20170802T005552Z
LAST-MODIFIED:20170802T010244Z
UID:30639-1521716400-1521723600@www.piercingken.com
SUMMARY:PAW Patrol Live! The Great Pirate Adventure @ The Theater at Madison Square Garden
DESCRIPTION:PAW Patrol Live! “The Great Pirate Adventure” is an all-new action-packed\, music-filled production based on the top-rated animated preschool series PAW Patrol produced by Spin Master Entertainment. The new live stage show follows the heroic pups as they embark on a pirate-themed adventure to uncover hidden treasure. \n \nLike this:Like Loading...
URL:https://www.piercingken.com/event/paw-patrol-live-the-great-pirate-adventure-the-theater-at-madison-square-garden/
LOCATION:The Theater at Madison Square Garden\, 4 Pennsylvania Plaza\, New York\, NY\, 10001\, United States
CATEGORIES:Special Appearance
END:VEVENT
END:VCALENDAR