BEGIN:VCALENDAR
VERSION:2.0
PRODID:-//The Chronicles Of PiercingKen - ECPv6.15.20//NONSGML v1.0//EN
CALSCALE:GREGORIAN
METHOD:PUBLISH
X-WR-CALNAME:The Chronicles Of PiercingKen
X-ORIGINAL-URL:https://www.piercingken.com
X-WR-CALDESC:Events for The Chronicles Of PiercingKen
REFRESH-INTERVAL;VALUE=DURATION:PT1H
X-Robots-Tag:noindex
X-PUBLISHED-TTL:PT1H
BEGIN:VTIMEZONE
TZID:America/New_York
BEGIN:DAYLIGHT
TZOFFSETFROM:-0500
TZOFFSETTO:-0400
TZNAME:EDT
DTSTART:20170312T070000
END:DAYLIGHT
BEGIN:STANDARD
TZOFFSETFROM:-0400
TZOFFSETTO:-0500
TZNAME:EST
DTSTART:20171105T060000
END:STANDARD
BEGIN:DAYLIGHT
TZOFFSETFROM:-0500
TZOFFSETTO:-0400
TZNAME:EDT
DTSTART:20180311T070000
END:DAYLIGHT
BEGIN:STANDARD
TZOFFSETFROM:-0400
TZOFFSETTO:-0500
TZNAME:EST
DTSTART:20181104T060000
END:STANDARD
BEGIN:DAYLIGHT
TZOFFSETFROM:-0500
TZOFFSETTO:-0400
TZNAME:EDT
DTSTART:20190310T070000
END:DAYLIGHT
BEGIN:STANDARD
TZOFFSETFROM:-0400
TZOFFSETTO:-0500
TZNAME:EST
DTSTART:20191103T060000
END:STANDARD
END:VTIMEZONE
BEGIN:VEVENT
DTSTART;TZID=America/New_York:20180709T170000
DTEND;TZID=America/New_York:20180709T230000
DTSTAMP:20260419T223653
CREATED:20180601T133048Z
LAST-MODIFIED:20190729T191223Z
UID:40804-1531155600-1531177200@www.piercingken.com
SUMMARY:"Little Miss Sunshine" Free Screening @ Bryant Park
DESCRIPTION:“Little Miss Sunshine” is on the screen tonight in Bryant Park.  Bring a blanket and sit on the Lawn to enjoy great food\, friends\, and a feature film. Lawn and food and wine concessions open 5pm; film begins at sunset. Movie Nights are presented by Netflix with support from Chandon and Vulture. Enjoy the show! \nFood items for sale curated by Hester Street Fair on the Fountain Terrace\, and beer and wine available for purchase on the eastern end of the Lawn. \nLike this:Like Loading...
URL:https://www.piercingken.com/event/little-miss-sunshine-free-screening-bryant-park/
LOCATION:Bryant Park\, 40th Street\, New York\, NY\, 10018\, United States
CATEGORIES:Film Opening
END:VEVENT
BEGIN:VEVENT
DTSTART;TZID=America/New_York:20180711T180000
DTEND;TZID=America/New_York:20180711T220000
DTSTAMP:20260419T223653
CREATED:20180620T050035Z
LAST-MODIFIED:20180620T132755Z
UID:34065-1531332000-1531346400@www.piercingken.com
SUMMARY:"Jawbreaker" Free Screening @ McCarren Park
DESCRIPTION:Residents of Brooklyn can enjoy a free-screening of the film “Jawbreaker” as a part of the 2018 SummerScreen Series being held at the beautiful McCarren Park.   \n \nSummerScreen is a FREE event! Doors at 6pm – Music at 7pm – Films at sundown. \nLike this:Like Loading...
URL:https://www.piercingken.com/event/jawbreaker-free-screening-mccarren-park/
LOCATION:McCarren Park\, 776 Lorimer Street\, Brooklyn\, NY\, 11222\, United States
CATEGORIES:Film Opening
END:VEVENT
BEGIN:VEVENT
DTSTART;TZID=America/New_York:20180713T050000
DTEND;TZID=America/New_York:20180713T090000
DTSTAMP:20260419T223653
CREATED:20180516T012532Z
LAST-MODIFIED:20180516T185304Z
UID:33443-1531458000-1531472400@www.piercingken.com
SUMMARY:Maroon 5 @ Citi Concert Series on Today at Rockefeller Center
DESCRIPTION:Viewing is on a first-come\, first-served basis on the TODAY plaza\, located at 48th Street between Fifth and Sixth Avenues in New York City. To get the best spot\, fans should try to arrive by 5 a.m. Generally\, concerts happen rain or shine.  \nLike this:Like Loading...
URL:https://www.piercingken.com/event/maroon-5-citi-concert-series-on-today-at-rockefeller-center/
LOCATION:Rockefeller Center\, 45 Rockefeller Plaza\, New York\, NY\, 10111\, United States
CATEGORIES:Concert
END:VEVENT
BEGIN:VEVENT
DTSTART;TZID=America/New_York:20180713T160000
DTEND;TZID=America/New_York:20180713T233000
DTSTAMP:20260419T223653
CREATED:20180611T130058Z
LAST-MODIFIED:20250227T203552Z
UID:33914-1531497600-1531524600@www.piercingken.com
SUMMARY:NY Empire State Tattoo Expo @ New York Hilton Midtown
DESCRIPTION:The NY Empire State Tattoo Expo has returned and will bring legendary artists together under one roof.  Presented by Inked Magazine\, this is your place to wander if you are planning on getting inked or just feel like shopping around.  Seminars and special guests will be there all weekend and please be aware that proof of 18+ must be on hand to get a tat onsite. \n \nLike this:Like Loading...
URL:https://www.piercingken.com/event/ny-empire-state-tattoo-expo-new-york-hilton-midtown-7/
LOCATION:New York Hilton Midtown\, 1335 Avenue Of The Americas\, New York\, NY\, 10606\, United States
CATEGORIES:Convention
END:VEVENT
BEGIN:VEVENT
DTSTART;VALUE=DATE:20180714
DTEND;VALUE=DATE:20180715
DTSTAMP:20260419T223653
CREATED:20180611T131517Z
LAST-MODIFIED:20250227T203538Z
UID:55405-1531526400-1531612799@www.piercingken.com
SUMMARY:NY Empire State Tattoo Expo @ New York Hilton Midtown
DESCRIPTION:The NY Empire State Tattoo Expo has returned and will bring legendary artists together under one roof.  Presented by Inked Magazine\, this is your place to wander if you are planning on getting inked or just feel like shopping around.  Seminars and special guests will be there all weekend and please be aware that proof of 18+ must be on hand to get a tat onsite. \n \nLike this:Like Loading...
URL:https://www.piercingken.com/event/ny-empire-state-tattoo-expo-new-york-hilton-midtown-8/
LOCATION:New York Hilton Midtown\, 1335 Avenue Of The Americas\, New York\, NY\, 10606\, United States
CATEGORIES:Convention
END:VEVENT
BEGIN:VEVENT
DTSTART;VALUE=DATE:20180714
DTEND;VALUE=DATE:20180715
DTSTAMP:20260419T223653
CREATED:20180608T030143Z
LAST-MODIFIED:20240123T161710Z
UID:33878-1531526400-1531612799@www.piercingken.com
SUMMARY:Shania Twain @ Barclays Center
DESCRIPTION:Shania Twain will bring that Country sound down in Brooklyn with this show at Barclays.  Don’t miss out on this appearance. \n \nLike this:Like Loading...
URL:https://www.piercingken.com/event/shania-twain-barclays-center/
LOCATION:Barclays Center\, 620 Atlantic Avenue\, Brooklyn\, NY\, 11217\, United States
CATEGORIES:Concert
END:VEVENT
BEGIN:VEVENT
DTSTART;TZID=America/New_York:20180714T120000
DTEND;TZID=America/New_York:20180714T233000
DTSTAMP:20260419T223653
CREATED:20180611T131507Z
LAST-MODIFIED:20180611T153823Z
UID:33915-1531569600-1531611000@www.piercingken.com
SUMMARY:NY Empire State Tattoo Expo @ Hilton Midtown
DESCRIPTION:The NY Empire State Tattoo Expo has returned and will bring legendary artists together under one roof.  Presented by Inked Magazine\, this is your place to wander if you are planning on getting inked or just feel like shopping around.  Seminars and special guests will be there all weekend and please be aware that proof of 18+ must be on hand to get a tat onsite. \n \nLike this:Like Loading...
URL:https://www.piercingken.com/event/ny-empire-state-tattoo-expo-hilton-midtown-2/
LOCATION:New York Hilton Midtown\, 1335 Avenue Of The Americas\, New York\, NY\, 10606\, United States
CATEGORIES:Convention
END:VEVENT
BEGIN:VEVENT
DTSTART;TZID=America/New_York:20180714T190000
DTEND;TZID=America/New_York:20180714T190000
DTSTAMP:20260419T223653
CREATED:20180618T130035Z
LAST-MODIFIED:20180619T022557Z
UID:34039-1531594800-1531594800@www.piercingken.com
SUMMARY:Miku Expo @ Hammerstein Ballroom
DESCRIPTION:Hatsune Miku and her fans will take over the Hammerstein Ballroom in NYC’s Manhattan Center tonight.  It’s time to get your J-Pop on. \n \nLike this:Like Loading...
URL:https://www.piercingken.com/event/miku-expo-hammerstein-ballroom/
LOCATION:Hammerstein Ballroom\, New York\, NY\, United States
CATEGORIES:Concert
END:VEVENT
BEGIN:VEVENT
DTSTART;VALUE=DATE:20180715
DTEND;VALUE=DATE:20180716
DTSTAMP:20260419T223653
CREATED:20180611T133036Z
LAST-MODIFIED:20250227T203532Z
UID:55406-1531612800-1531699199@www.piercingken.com
SUMMARY:NY Empire State Tattoo Expo @ New York Hilton Midtown
DESCRIPTION:The NY Empire State Tattoo Expo has returned and will bring legendary artists together under one roof.  Presented by Inked Magazine\, this is your place to wander if you are planning on getting inked or just feel like shopping around.  Seminars and special guests will be there all weekend and please be aware that proof of 18+ must be on hand to get a tat onsite. \n \nLike this:Like Loading...
URL:https://www.piercingken.com/event/ny-empire-state-tattoo-expo-new-york-hilton-midtown-9/
LOCATION:New York Hilton Midtown\, 1335 Avenue Of The Americas\, New York\, NY\, 10606\, United States
CATEGORIES:Convention
END:VEVENT
BEGIN:VEVENT
DTSTART;TZID=America/New_York:20180715T120000
DTEND;TZID=America/New_York:20180715T190000
DTSTAMP:20260419T223653
CREATED:20180611T133020Z
LAST-MODIFIED:20180611T153830Z
UID:33916-1531656000-1531681200@www.piercingken.com
SUMMARY:NY Empire State Tattoo Expo @ Hilton Midtown
DESCRIPTION:The NY Empire State Tattoo Expo has returned and will bring legendary artists together under one roof.  Presented by Inked Magazine\, this is your place to wander if you are planning on getting inked or just feel like shopping around.  Seminars and special guests will be there all weekend and please be aware that proof of 18+ must be on hand to get a tat onsite. \n \nLike this:Like Loading...
URL:https://www.piercingken.com/event/ny-empire-state-tattoo-expo-hilton-midtown-3/
LOCATION:New York Hilton Midtown\, 1335 Avenue Of The Americas\, New York\, NY\, 10606\, United States
CATEGORIES:Convention
END:VEVENT
BEGIN:VEVENT
DTSTART;TZID=America/New_York:20180716T170000
DTEND;TZID=America/New_York:20180716T230000
DTSTAMP:20260419T223654
CREATED:20180601T140031Z
LAST-MODIFIED:20190729T191538Z
UID:40805-1531760400-1531782000@www.piercingken.com
SUMMARY:"Fried Green Tomatoes" Free Screening @ Bryant Park
DESCRIPTION:“Fried Green Tomatoes” is on the screen tonight in Bryant Park.  Bring a blanket and sit on the Lawn to enjoy great food\, friends\, and a feature film. Lawn and food and wine concessions open 5pm; film begins at sunset. Movie Nights are presented by Netflix with support from Chandon and Vulture. Enjoy the show! \nFood items for sale curated by Hester Street Fair on the Fountain Terrace\, and beer and wine available for purchase on the eastern end of the Lawn. \nLike this:Like Loading...
URL:https://www.piercingken.com/event/fried-green-tomatoes-free-screening-bryant-park/
LOCATION:Bryant Park\, 40th Street\, New York\, NY\, 10018\, United States
CATEGORIES:Film Opening
END:VEVENT
BEGIN:VEVENT
DTSTART;TZID=America/New_York:20180718T180000
DTEND;TZID=America/New_York:20180718T220000
DTSTAMP:20260419T223654
CREATED:20180620T053034Z
LAST-MODIFIED:20190729T173158Z
UID:34067-1531936800-1531951200@www.piercingken.com
SUMMARY:"When Harry Met Sally" Free Screening @ McCarren Park
DESCRIPTION:Residents of Brooklyn can enjoy a free-screening of the film “When Harry Met Sally” as a part of the 2018 SummerScreen Series being held at the beautiful McCarren Park.   \n \nSummerScreen is a FREE event! Doors at 6pm – Music at 7pm – Films at sundown. \nLike this:Like Loading...
URL:https://www.piercingken.com/event/when-harry-met-sally-free-screening-mccarren-park/
LOCATION:McCarren Park\, 776 Lorimer Street\, Brooklyn\, NY\, 11222\, United States
CATEGORIES:Film Opening
END:VEVENT
BEGIN:VEVENT
DTSTART;TZID=America/New_York:20180718T200000
DTEND;TZID=America/New_York:20180718T200000
DTSTAMP:20260419T223654
CREATED:20180701T123058Z
LAST-MODIFIED:20190614T001421Z
UID:40186-1531944000-1531944000@www.piercingken.com
SUMMARY:Billy Joel @ Madison Square Garden
DESCRIPTION:Billy Joel performs as a part of his monthly residency at NYC’s own Madison Square Garden. This will be a night full of singalong hits for sure so don’t miss out if you can snag a ticket. The numbers keep climbing for this record-breaking residency. \n \nLike this:Like Loading...
URL:https://www.piercingken.com/event/billy-joel-madison-square-garden-18/
LOCATION:Madison Square Garden\, 4 Pennsylvania Plaza\, New York\, NY\, 10001\, United States
CATEGORIES:Concert
END:VEVENT
BEGIN:VEVENT
DTSTART;VALUE=DATE:20180719
DTEND;VALUE=DATE:20180720
DTSTAMP:20260419T223654
CREATED:20180612T120034Z
LAST-MODIFIED:20180612T153251Z
UID:33986-1531958400-1532044799@www.piercingken.com
SUMMARY:Comic-Con International: San Diego @ San Diego Convention Center
DESCRIPTION:For four days\, the Comic Con International: San Diego or “San Diego Comic Con” will take over the San Diego Convention Center.  Be sure to tune in to your favorite geek-themed websites and social networks for the latest updates and reveals. \n \nLike this:Like Loading...
URL:https://www.piercingken.com/event/comic-con-international-san-diego-san-diego-convention-center-5/
LOCATION:San Diego Convention Center\, 111 Harbor Drive\, San Diego\, CA\, 92101\, United States
CATEGORIES:Convention
END:VEVENT
BEGIN:VEVENT
DTSTART;VALUE=DATE:20180720
DTEND;VALUE=DATE:20180721
DTSTAMP:20260419T223654
CREATED:20180612T123047Z
LAST-MODIFIED:20180612T153308Z
UID:33987-1532044800-1532131199@www.piercingken.com
SUMMARY:Comic-Con International: San Diego @ San Diego Convention Center
DESCRIPTION:For four days\, the Comic Con International: San Diego or “San Diego Comic Con” will take over the San Diego Convention Center.  Be sure to tune in to your favorite geek-themed websites and social networks for the latest updates and reveals. \n \nLike this:Like Loading...
URL:https://www.piercingken.com/event/comic-con-international-san-diego-san-diego-convention-center-6/
LOCATION:San Diego Convention Center\, 111 Harbor Drive\, San Diego\, CA\, 92101\, United States
CATEGORIES:Convention
END:VEVENT
BEGIN:VEVENT
DTSTART;TZID=America/New_York:20180720T190000
DTEND;TZID=America/New_York:20180720T190000
DTSTAMP:20260419T223654
CREATED:20180620T133050Z
LAST-MODIFIED:20180815T022219Z
UID:34986-1532113200-1532113200@www.piercingken.com
SUMMARY:Taylor Swift @ MetLife Stadium
DESCRIPTION:Taylor Swift brings her hits to life for three nights at the MetLife Stadium.  If her sounds make you sing then you know where you need to be.  Taylor will be joined by Camila Cabello and Charli XCX. \n \nLike this:Like Loading...
URL:https://www.piercingken.com/event/taylor-swift-metlife-stadium/
LOCATION:MetLife Stadium\, 1 MetLife Stadium Dr.\, East Rutherford\, NJ\, 07073\, United States
CATEGORIES:Concert
END:VEVENT
BEGIN:VEVENT
DTSTART;VALUE=DATE:20180721
DTEND;VALUE=DATE:20180722
DTSTAMP:20260419T223654
CREATED:20180612T130059Z
LAST-MODIFIED:20180612T153322Z
UID:33988-1532131200-1532217599@www.piercingken.com
SUMMARY:Comic-Con International: San Diego @ San Diego Convention Center
DESCRIPTION:For four days\, the Comic Con International: San Diego or “San Diego Comic Con” will take over the San Diego Convention Center.  Be sure to tune in to your favorite geek-themed websites and social networks for the latest updates and reveals. \n \nLike this:Like Loading...
URL:https://www.piercingken.com/event/comic-con-international-san-diego-san-diego-convention-center-7/
LOCATION:San Diego Convention Center\, 111 Harbor Drive\, San Diego\, CA\, 92101\, United States
CATEGORIES:Convention
END:VEVENT
BEGIN:VEVENT
DTSTART;TZID=America/New_York:20180721T190000
DTEND;TZID=America/New_York:20180721T190000
DTSTAMP:20260419T223654
CREATED:20180621T133045Z
LAST-MODIFIED:20180815T022418Z
UID:34990-1532199600-1532199600@www.piercingken.com
SUMMARY:Taylor Swift @ MetLife Stadium
DESCRIPTION:Taylor Swift brings her hits to life for three nights at the MetLife Stadium.  If her sounds make you sing then you know where you need to be.  Taylor will be joined by Camila Cabello and Charli XCX. \n \nLike this:Like Loading...
URL:https://www.piercingken.com/event/taylor-swift-metlife-stadium-2/
LOCATION:MetLife Stadium\, 1 MetLife Stadium Dr.\, East Rutherford\, NJ\, 07073\, United States
CATEGORIES:Concert
END:VEVENT
BEGIN:VEVENT
DTSTART;VALUE=DATE:20180722
DTEND;VALUE=DATE:20180723
DTSTAMP:20260419T223654
CREATED:20180612T133015Z
LAST-MODIFIED:20180612T153338Z
UID:33989-1532217600-1532303999@www.piercingken.com
SUMMARY:Comic-Con International: San Diego @ San Diego Convention Center
DESCRIPTION:For four days\, the Comic Con International: San Diego or “San Diego Comic Con” will take over the San Diego Convention Center.  Be sure to tune in to your favorite geek-themed websites and social networks for the latest updates and reveals. \n \nLike this:Like Loading...
URL:https://www.piercingken.com/event/comic-con-international-san-diego-san-diego-convention-center-8/
LOCATION:San Diego Convention Center\, 111 Harbor Drive\, San Diego\, CA\, 92101\, United States
CATEGORIES:Convention
END:VEVENT
BEGIN:VEVENT
DTSTART;TZID=America/New_York:20180722T120000
DTEND;TZID=America/New_York:20180722T200000
DTSTAMP:20260419T223654
CREATED:20180527T030017Z
LAST-MODIFIED:20180527T035718Z
UID:33730-1532260800-1532289600@www.piercingken.com
SUMMARY:Grace Jamaican Jerk Festival @ Roy Wilkins Park
DESCRIPTION:The 8th Annual Grace Jamaican Jerk Festival NY\, Sunday\, July 22\, 2018 in Roy Wilkins Park\, Queens from noon to 8:00 p.m. The festival will offer residents of greater NYC area a deliciously entertaining experience as they feast on spicy jerk cuisine\, enjoy hot music and bask in the cool festival vibes. \n \nLike this:Like Loading...
URL:https://www.piercingken.com/event/grace-jamaican-jerk-festival-roy-wilkins-park/
LOCATION:Roy Wilkins Park\, 177-01 Baisley Blvd\, Jamaica\, NY\, 11434\, United States
CATEGORIES:Festival - Fair
END:VEVENT
BEGIN:VEVENT
DTSTART;TZID=America/New_York:20180722T190000
DTEND;TZID=America/New_York:20180722T190000
DTSTAMP:20260419T223654
CREATED:20180622T133009Z
LAST-MODIFIED:20180815T022712Z
UID:34991-1532286000-1532286000@www.piercingken.com
SUMMARY:Taylor Swift @ MetLife Stadium
DESCRIPTION:Taylor Swift brings her hits to life for three nights at the MetLife Stadium.  If her sounds make you sing then you know where you need to be.  Taylor will be joined by Camila Cabello and Charli XCX. \n \nLike this:Like Loading...
URL:https://www.piercingken.com/event/taylor-swift-metlife-stadium-3/
LOCATION:MetLife Stadium\, 1 MetLife Stadium Dr.\, East Rutherford\, NJ\, 07073\, United States
CATEGORIES:Concert
END:VEVENT
BEGIN:VEVENT
DTSTART;TZID=America/New_York:20180723T170000
DTEND;TZID=America/New_York:20180723T230000
DTSTAMP:20260419T223654
CREATED:20180601T143035Z
LAST-MODIFIED:20190729T191706Z
UID:40806-1532365200-1532386800@www.piercingken.com
SUMMARY:"The Princess Bride" Free Screening @ Bryant Park
DESCRIPTION:“The Princess Bride” is on the screen tonight in Bryant Park.  Bring a blanket and sit on the Lawn to enjoy great food\, friends\, and a feature film. Lawn and food and wine concessions open 5pm; film begins at sunset. Movie Nights are presented by Netflix with support from Chandon and Vulture. Enjoy the show! \nFood items for sale curated by Hester Street Fair on the Fountain Terrace\, and beer and wine available for purchase on the eastern end of the Lawn. \nLike this:Like Loading...
URL:https://www.piercingken.com/event/the-princess-bride-free-screening-bryant-park/
LOCATION:Bryant Park\, 40th Street\, New York\, NY\, 10018\, United States
CATEGORIES:Film Opening
END:VEVENT
BEGIN:VEVENT
DTSTART;TZID=America/New_York:20180725T180000
DTEND;TZID=America/New_York:20180725T220000
DTSTAMP:20260419T223654
CREATED:20180620T060037Z
LAST-MODIFIED:20190729T173714Z
UID:34069-1532541600-1532556000@www.piercingken.com
SUMMARY:"Love and Basketball" Free Screening @ McCarren Park
DESCRIPTION:Residents of Brooklyn can enjoy a free-screening of the film “Love and Basketball” as a part of the 2018 SummerScreen Series being held at the beautiful McCarren Park.   \n \nSummerScreen is a FREE event! Doors at 6pm – Music at 7pm – Films at sundown. \nLike this:Like Loading...
URL:https://www.piercingken.com/event/love-and-basketball-free-screening-mccarren-park/
LOCATION:McCarren Park\, 776 Lorimer Street\, Brooklyn\, NY\, 11222\, United States
CATEGORIES:Film Opening
END:VEVENT
BEGIN:VEVENT
DTSTART;VALUE=DATE:20180727
DTEND;VALUE=DATE:20180728
DTSTAMP:20260419T223654
CREATED:20180627T133002Z
LAST-MODIFIED:20180728T124257Z
UID:34700-1532649600-1532735999@www.piercingken.com
SUMMARY:CANCELLED: Panorama Music Festival @ Randall's Island Park
DESCRIPTION:The Friday performances of the Panorama Music Festival have been cancelled due to inclement weather.  Those attending should refer to the official event website for rescheduling or refund information.   \n \nLike this:Like Loading...
URL:https://www.piercingken.com/event/panorama-music-festival-randalls-island-park-4/
LOCATION:Randall’s Island Park\, 20 Randall’s Island Park\, New York\, NY\, 10035\, United States
CATEGORIES:Concert
END:VEVENT
BEGIN:VEVENT
DTSTART;VALUE=DATE:20180728
DTEND;VALUE=DATE:20180729
DTSTAMP:20260419T223654
CREATED:20180628T133056Z
LAST-MODIFIED:20180728T125211Z
UID:34701-1532736000-1532822399@www.piercingken.com
SUMMARY:Panorama Music Festival @ Randall's Island Park
DESCRIPTION:Day Two of the Panorama Music Festival is here at Randall’s Island Park.  Check their official website for schedule and artist performances. \n \nLike this:Like Loading...
URL:https://www.piercingken.com/event/panorama-music-festival-randalls-island-park-5/
LOCATION:Randall’s Island Park\, 20 Randall’s Island Park\, New York\, NY\, 10035\, United States
CATEGORIES:Concert
END:VEVENT
BEGIN:VEVENT
DTSTART;VALUE=DATE:20180729
DTEND;VALUE=DATE:20180730
DTSTAMP:20260419T223654
CREATED:20180629T133054Z
LAST-MODIFIED:20180728T125226Z
UID:34702-1532822400-1532908799@www.piercingken.com
SUMMARY:Panorama Music Festival @ Randall's Island Park
DESCRIPTION:Day Three of the Panorama Music Festival is here at Randall’s Island Park.  Check their official website for schedule and artist performances. \n \nLike this:Like Loading...
URL:https://www.piercingken.com/event/panorama-music-festival-randalls-island-park-6/
LOCATION:Randall’s Island Park\, 20 Randall’s Island Park\, New York\, NY\, 10035\, United States
CATEGORIES:Concert
END:VEVENT
BEGIN:VEVENT
DTSTART;TZID=America/New_York:20180730T170000
DTEND;TZID=America/New_York:20180730T230000
DTSTAMP:20260419T223654
CREATED:20180601T150041Z
LAST-MODIFIED:20190729T192105Z
UID:40807-1532970000-1532991600@www.piercingken.com
SUMMARY:"When Harry Met Sally" Free Screening @ Bryant Park
DESCRIPTION:“When Harry Met Sally” is on the screen tonight in Bryant Park.  Bring a blanket and sit on the Lawn to enjoy great food\, friends\, and a feature film. Lawn and food and wine concessions open 5pm; film begins at sunset. Movie Nights are presented by Netflix with support from Chandon and Vulture. Enjoy the show! \nFood items for sale curated by Hester Street Fair on the Fountain Terrace\, and beer and wine available for purchase on the eastern end of the Lawn. \nLike this:Like Loading...
URL:https://www.piercingken.com/event/when-harry-met-sally-free-screening-bryant-park/
LOCATION:Bryant Park\, 40th Street\, New York\, NY\, 10018\, United States
CATEGORIES:Film Opening
END:VEVENT
BEGIN:VEVENT
DTSTART;TZID=America/New_York:20180801T180000
DTEND;TZID=America/New_York:20180801T220000
DTSTAMP:20260419T223654
CREATED:20180620T063039Z
LAST-MODIFIED:20190729T174242Z
UID:34071-1533146400-1533160800@www.piercingken.com
SUMMARY:"Hackers" Free Screening @ McCarren Park
DESCRIPTION:Residents of Brooklyn can enjoy a free-screening of the film “Hackers” as a part of the 2018 SummerScreen Series being held at the beautiful McCarren Park.   \n \nSummerScreen is a FREE event! Doors at 6pm – Music at 7pm – Films at sundown. \nLike this:Like Loading...
URL:https://www.piercingken.com/event/hackers-free-screening-mccarren-park/
LOCATION:McCarren Park\, 776 Lorimer Street\, Brooklyn\, NY\, 11222\, United States
CATEGORIES:Film Opening
END:VEVENT
BEGIN:VEVENT
DTSTART;TZID=America/New_York:20180802T050000
DTEND;TZID=America/New_York:20180802T090000
DTSTAMP:20260419T223654
CREATED:20180516T012011Z
LAST-MODIFIED:20220915T183129Z
UID:33444-1533186000-1533200400@www.piercingken.com
SUMMARY:Keith Urban @ Citi Concert Series on Today at Rockefeller Center
DESCRIPTION:Keith Urban will perform for assembled fans as a part of the Citi Concert Series. \n \nViewing is on a first-come\, first-served basis on the TODAY plaza\, located at 48th Street between Fifth and Sixth Avenues in New York City. To get the best spot\, fans should try to arrive by 5 a.m. Generally\, concerts happen rain or shine.  \nLike this:Like Loading...
URL:https://www.piercingken.com/event/keith-urban-citi-concert-series-on-today-at-rockefeller-center/
LOCATION:Rockefeller Center\, 45 Rockefeller Plaza\, New York\, NY\, 10111\, United States
CATEGORIES:Concert
END:VEVENT
BEGIN:VEVENT
DTSTART;TZID=America/New_York:20180804T100000
DTEND;TZID=America/New_York:20180804T190000
DTSTAMP:20260419T223654
CREATED:20180704T133037Z
LAST-MODIFIED:20180805T044135Z
UID:34786-1533376800-1533409200@www.piercingken.com
SUMMARY:New York Renaissance Faire @ Tuxedo Park
DESCRIPTION:The New York Renaissance Faire is a recreation of a 16th century village filled with performers\, crafts\, games\, and food that gives guests the illusion of stepping back in time. The 41st Annual New York Renaissance Faire features more than 125 performances on 20 stages\, and over 100 craftspeople\, all set within 65 acres of beautiful forest. \n \nLike this:Like Loading...
URL:https://www.piercingken.com/event/new-york-renaissance-faire-tuxedo-park-19/
LOCATION:Tuxedo Park\, 600 NY-17A\, Tuxedo\, NY\, 10987\, United States
CATEGORIES:Festival - Fair
END:VEVENT
END:VCALENDAR