BEGIN:VCALENDAR
VERSION:2.0
PRODID:-//The Chronicles Of PiercingKen - ECPv6.15.20//NONSGML v1.0//EN
CALSCALE:GREGORIAN
METHOD:PUBLISH
X-WR-CALNAME:The Chronicles Of PiercingKen
X-ORIGINAL-URL:https://www.piercingken.com
X-WR-CALDESC:Events for The Chronicles Of PiercingKen
REFRESH-INTERVAL;VALUE=DURATION:PT1H
X-Robots-Tag:noindex
X-PUBLISHED-TTL:PT1H
BEGIN:VTIMEZONE
TZID:America/New_York
BEGIN:DAYLIGHT
TZOFFSETFROM:-0500
TZOFFSETTO:-0400
TZNAME:EDT
DTSTART:20170312T070000
END:DAYLIGHT
BEGIN:STANDARD
TZOFFSETFROM:-0400
TZOFFSETTO:-0500
TZNAME:EST
DTSTART:20171105T060000
END:STANDARD
BEGIN:DAYLIGHT
TZOFFSETFROM:-0500
TZOFFSETTO:-0400
TZNAME:EDT
DTSTART:20180311T070000
END:DAYLIGHT
BEGIN:STANDARD
TZOFFSETFROM:-0400
TZOFFSETTO:-0500
TZNAME:EST
DTSTART:20181104T060000
END:STANDARD
BEGIN:DAYLIGHT
TZOFFSETFROM:-0500
TZOFFSETTO:-0400
TZNAME:EDT
DTSTART:20190310T070000
END:DAYLIGHT
BEGIN:STANDARD
TZOFFSETFROM:-0400
TZOFFSETTO:-0500
TZNAME:EST
DTSTART:20191103T060000
END:STANDARD
END:VTIMEZONE
BEGIN:VEVENT
DTSTART;VALUE=DATE:20180722
DTEND;VALUE=DATE:20180723
DTSTAMP:20260424T080940
CREATED:20180612T133015Z
LAST-MODIFIED:20180612T153338Z
UID:33989-1532217600-1532303999@www.piercingken.com
SUMMARY:Comic-Con International: San Diego @ San Diego Convention Center
DESCRIPTION:For four days\, the Comic Con International: San Diego or “San Diego Comic Con” will take over the San Diego Convention Center.  Be sure to tune in to your favorite geek-themed websites and social networks for the latest updates and reveals. \n \nLike this:Like Loading...
URL:https://www.piercingken.com/event/comic-con-international-san-diego-san-diego-convention-center-8/
LOCATION:San Diego Convention Center\, 111 Harbor Drive\, San Diego\, CA\, 92101\, United States
CATEGORIES:Convention
END:VEVENT
BEGIN:VEVENT
DTSTART;TZID=America/New_York:20180722T120000
DTEND;TZID=America/New_York:20180722T200000
DTSTAMP:20260424T080940
CREATED:20180527T030017Z
LAST-MODIFIED:20180527T035718Z
UID:33730-1532260800-1532289600@www.piercingken.com
SUMMARY:Grace Jamaican Jerk Festival @ Roy Wilkins Park
DESCRIPTION:The 8th Annual Grace Jamaican Jerk Festival NY\, Sunday\, July 22\, 2018 in Roy Wilkins Park\, Queens from noon to 8:00 p.m. The festival will offer residents of greater NYC area a deliciously entertaining experience as they feast on spicy jerk cuisine\, enjoy hot music and bask in the cool festival vibes. \n \nLike this:Like Loading...
URL:https://www.piercingken.com/event/grace-jamaican-jerk-festival-roy-wilkins-park/
LOCATION:Roy Wilkins Park\, 177-01 Baisley Blvd\, Jamaica\, NY\, 11434\, United States
CATEGORIES:Festival - Fair
END:VEVENT
BEGIN:VEVENT
DTSTART;TZID=America/New_York:20180722T190000
DTEND;TZID=America/New_York:20180722T190000
DTSTAMP:20260424T080940
CREATED:20180622T133009Z
LAST-MODIFIED:20180815T022712Z
UID:34991-1532286000-1532286000@www.piercingken.com
SUMMARY:Taylor Swift @ MetLife Stadium
DESCRIPTION:Taylor Swift brings her hits to life for three nights at the MetLife Stadium.  If her sounds make you sing then you know where you need to be.  Taylor will be joined by Camila Cabello and Charli XCX. \n \nLike this:Like Loading...
URL:https://www.piercingken.com/event/taylor-swift-metlife-stadium-3/
LOCATION:MetLife Stadium\, 1 MetLife Stadium Dr.\, East Rutherford\, NJ\, 07073\, United States
CATEGORIES:Concert
END:VEVENT
BEGIN:VEVENT
DTSTART;TZID=America/New_York:20180723T170000
DTEND;TZID=America/New_York:20180723T230000
DTSTAMP:20260424T080940
CREATED:20180601T143035Z
LAST-MODIFIED:20190729T191706Z
UID:40806-1532365200-1532386800@www.piercingken.com
SUMMARY:"The Princess Bride" Free Screening @ Bryant Park
DESCRIPTION:“The Princess Bride” is on the screen tonight in Bryant Park.  Bring a blanket and sit on the Lawn to enjoy great food\, friends\, and a feature film. Lawn and food and wine concessions open 5pm; film begins at sunset. Movie Nights are presented by Netflix with support from Chandon and Vulture. Enjoy the show! \nFood items for sale curated by Hester Street Fair on the Fountain Terrace\, and beer and wine available for purchase on the eastern end of the Lawn. \nLike this:Like Loading...
URL:https://www.piercingken.com/event/the-princess-bride-free-screening-bryant-park/
LOCATION:Bryant Park\, 40th Street\, New York\, NY\, 10018\, United States
CATEGORIES:Film Opening
END:VEVENT
BEGIN:VEVENT
DTSTART;TZID=America/New_York:20180725T180000
DTEND;TZID=America/New_York:20180725T220000
DTSTAMP:20260424T080940
CREATED:20180620T060037Z
LAST-MODIFIED:20190729T173714Z
UID:34069-1532541600-1532556000@www.piercingken.com
SUMMARY:"Love and Basketball" Free Screening @ McCarren Park
DESCRIPTION:Residents of Brooklyn can enjoy a free-screening of the film “Love and Basketball” as a part of the 2018 SummerScreen Series being held at the beautiful McCarren Park.   \n \nSummerScreen is a FREE event! Doors at 6pm – Music at 7pm – Films at sundown. \nLike this:Like Loading...
URL:https://www.piercingken.com/event/love-and-basketball-free-screening-mccarren-park/
LOCATION:McCarren Park\, 776 Lorimer Street\, Brooklyn\, NY\, 11222\, United States
CATEGORIES:Film Opening
END:VEVENT
BEGIN:VEVENT
DTSTART;VALUE=DATE:20180727
DTEND;VALUE=DATE:20180728
DTSTAMP:20260424T080940
CREATED:20180627T133002Z
LAST-MODIFIED:20180728T124257Z
UID:34700-1532649600-1532735999@www.piercingken.com
SUMMARY:CANCELLED: Panorama Music Festival @ Randall's Island Park
DESCRIPTION:The Friday performances of the Panorama Music Festival have been cancelled due to inclement weather.  Those attending should refer to the official event website for rescheduling or refund information.   \n \nLike this:Like Loading...
URL:https://www.piercingken.com/event/panorama-music-festival-randalls-island-park-4/
LOCATION:Randall’s Island Park\, 20 Randall’s Island Park\, New York\, NY\, 10035\, United States
CATEGORIES:Concert
END:VEVENT
BEGIN:VEVENT
DTSTART;VALUE=DATE:20180728
DTEND;VALUE=DATE:20180729
DTSTAMP:20260424T080940
CREATED:20180628T133056Z
LAST-MODIFIED:20180728T125211Z
UID:34701-1532736000-1532822399@www.piercingken.com
SUMMARY:Panorama Music Festival @ Randall's Island Park
DESCRIPTION:Day Two of the Panorama Music Festival is here at Randall’s Island Park.  Check their official website for schedule and artist performances. \n \nLike this:Like Loading...
URL:https://www.piercingken.com/event/panorama-music-festival-randalls-island-park-5/
LOCATION:Randall’s Island Park\, 20 Randall’s Island Park\, New York\, NY\, 10035\, United States
CATEGORIES:Concert
END:VEVENT
BEGIN:VEVENT
DTSTART;VALUE=DATE:20180729
DTEND;VALUE=DATE:20180730
DTSTAMP:20260424T080940
CREATED:20180629T133054Z
LAST-MODIFIED:20180728T125226Z
UID:34702-1532822400-1532908799@www.piercingken.com
SUMMARY:Panorama Music Festival @ Randall's Island Park
DESCRIPTION:Day Three of the Panorama Music Festival is here at Randall’s Island Park.  Check their official website for schedule and artist performances. \n \nLike this:Like Loading...
URL:https://www.piercingken.com/event/panorama-music-festival-randalls-island-park-6/
LOCATION:Randall’s Island Park\, 20 Randall’s Island Park\, New York\, NY\, 10035\, United States
CATEGORIES:Concert
END:VEVENT
BEGIN:VEVENT
DTSTART;TZID=America/New_York:20180730T170000
DTEND;TZID=America/New_York:20180730T230000
DTSTAMP:20260424T080940
CREATED:20180601T150041Z
LAST-MODIFIED:20190729T192105Z
UID:40807-1532970000-1532991600@www.piercingken.com
SUMMARY:"When Harry Met Sally" Free Screening @ Bryant Park
DESCRIPTION:“When Harry Met Sally” is on the screen tonight in Bryant Park.  Bring a blanket and sit on the Lawn to enjoy great food\, friends\, and a feature film. Lawn and food and wine concessions open 5pm; film begins at sunset. Movie Nights are presented by Netflix with support from Chandon and Vulture. Enjoy the show! \nFood items for sale curated by Hester Street Fair on the Fountain Terrace\, and beer and wine available for purchase on the eastern end of the Lawn. \nLike this:Like Loading...
URL:https://www.piercingken.com/event/when-harry-met-sally-free-screening-bryant-park/
LOCATION:Bryant Park\, 40th Street\, New York\, NY\, 10018\, United States
CATEGORIES:Film Opening
END:VEVENT
BEGIN:VEVENT
DTSTART;TZID=America/New_York:20180801T180000
DTEND;TZID=America/New_York:20180801T220000
DTSTAMP:20260424T080940
CREATED:20180620T063039Z
LAST-MODIFIED:20190729T174242Z
UID:34071-1533146400-1533160800@www.piercingken.com
SUMMARY:"Hackers" Free Screening @ McCarren Park
DESCRIPTION:Residents of Brooklyn can enjoy a free-screening of the film “Hackers” as a part of the 2018 SummerScreen Series being held at the beautiful McCarren Park.   \n \nSummerScreen is a FREE event! Doors at 6pm – Music at 7pm – Films at sundown. \nLike this:Like Loading...
URL:https://www.piercingken.com/event/hackers-free-screening-mccarren-park/
LOCATION:McCarren Park\, 776 Lorimer Street\, Brooklyn\, NY\, 11222\, United States
CATEGORIES:Film Opening
END:VEVENT
BEGIN:VEVENT
DTSTART;TZID=America/New_York:20180802T050000
DTEND;TZID=America/New_York:20180802T090000
DTSTAMP:20260424T080940
CREATED:20180516T012011Z
LAST-MODIFIED:20220915T183129Z
UID:33444-1533186000-1533200400@www.piercingken.com
SUMMARY:Keith Urban @ Citi Concert Series on Today at Rockefeller Center
DESCRIPTION:Keith Urban will perform for assembled fans as a part of the Citi Concert Series. \n \nViewing is on a first-come\, first-served basis on the TODAY plaza\, located at 48th Street between Fifth and Sixth Avenues in New York City. To get the best spot\, fans should try to arrive by 5 a.m. Generally\, concerts happen rain or shine.  \nLike this:Like Loading...
URL:https://www.piercingken.com/event/keith-urban-citi-concert-series-on-today-at-rockefeller-center/
LOCATION:Rockefeller Center\, 45 Rockefeller Plaza\, New York\, NY\, 10111\, United States
CATEGORIES:Concert
END:VEVENT
BEGIN:VEVENT
DTSTART;TZID=America/New_York:20180804T100000
DTEND;TZID=America/New_York:20180804T190000
DTSTAMP:20260424T080940
CREATED:20180704T133037Z
LAST-MODIFIED:20180805T044135Z
UID:34786-1533376800-1533409200@www.piercingken.com
SUMMARY:New York Renaissance Faire @ Tuxedo Park
DESCRIPTION:The New York Renaissance Faire is a recreation of a 16th century village filled with performers\, crafts\, games\, and food that gives guests the illusion of stepping back in time. The 41st Annual New York Renaissance Faire features more than 125 performances on 20 stages\, and over 100 craftspeople\, all set within 65 acres of beautiful forest. \n \nLike this:Like Loading...
URL:https://www.piercingken.com/event/new-york-renaissance-faire-tuxedo-park-19/
LOCATION:Tuxedo Park\, 600 NY-17A\, Tuxedo\, NY\, 10987\, United States
CATEGORIES:Festival - Fair
END:VEVENT
BEGIN:VEVENT
DTSTART;TZID=America/New_York:20180805T100000
DTEND;TZID=America/New_York:20180805T190000
DTSTAMP:20260424T080940
CREATED:20180705T133054Z
LAST-MODIFIED:20180805T044737Z
UID:34785-1533463200-1533495600@www.piercingken.com
SUMMARY:New York Renaissance Faire @ Tuxedo Park
DESCRIPTION:The New York Renaissance Faire is a recreation of a 16th century village filled with performers\, crafts\, games\, and food that gives guests the illusion of stepping back in time. The 41st Annual New York Renaissance Faire features more than 125 performances on 20 stages\, and over 100 craftspeople\, all set within 65 acres of beautiful forest. \n \nLike this:Like Loading...
URL:https://www.piercingken.com/event/new-york-renaissance-faire-tuxedo-park-20/
LOCATION:Tuxedo Park\, 600 NY-17A\, Tuxedo\, NY\, 10987\, United States
CATEGORIES:Festival - Fair
END:VEVENT
BEGIN:VEVENT
DTSTART;TZID=America/New_York:20180808T120000
DTEND;TZID=America/New_York:20180808T200000
DTSTAMP:20260424T080940
CREATED:20180807T123041Z
LAST-MODIFIED:20180808T020909Z
UID:34871-1533729600-1533758400@www.piercingken.com
SUMMARY:Deadpool 2: Believe In Your Selfie Museum  @ Industria Studio 10
DESCRIPTION:The event page says “If you dream it\, you can achieve it! And hashtag it. Check in at the front desk\, grab a selfie stick and start taking the most super duper selfies ever. Just hashtag every photo with #Deadpool2 and #believeinyourselfie if you want likes!”  Sounds like a good time to me.  Make your appointment for this brief Pop-Up Experience. \n \nLike this:Like Loading...
URL:https://www.piercingken.com/event/deadpool-2-believe-in-your-selfie-museum-industria-studio-10/
LOCATION:Industria Studio 10\, 356 W 12th St\, New York\, NY\, 10014\, United States
CATEGORIES:Special Appearance
END:VEVENT
BEGIN:VEVENT
DTSTART;TZID=America/New_York:20180808T180000
DTEND;TZID=America/New_York:20180808T220000
DTSTAMP:20260424T080940
CREATED:20180620T070025Z
LAST-MODIFIED:20190729T182330Z
UID:34073-1533751200-1533765600@www.piercingken.com
SUMMARY:"Fantastic Mr. Fox" Free Screening @ McCarren Park
DESCRIPTION:Residents of Brooklyn can enjoy a free-screening of the film “The Fantastic Mr. Fox” as a part of the 2018 SummerScreen Series being held at the beautiful McCarren Park.   \n \nSummerScreen is a FREE event! Doors at 6pm – Music at 7pm – Films at sundown. \nLike this:Like Loading...
URL:https://www.piercingken.com/event/fantastic-mr-fox-free-screening-mccarren-park/
LOCATION:McCarren Park\, 776 Lorimer Street\, Brooklyn\, NY\, 11222\, United States
CATEGORIES:Film Opening
END:VEVENT
BEGIN:VEVENT
DTSTART;TZID=America/New_York:20180809T120000
DTEND;TZID=America/New_York:20180809T200000
DTSTAMP:20260424T080940
CREATED:20180807T130044Z
LAST-MODIFIED:20180808T015540Z
UID:34872-1533816000-1533844800@www.piercingken.com
SUMMARY:Deadpool 2: Believe In Your Selfie Museum  @ Industria Studio 10
DESCRIPTION:The event page says “If you dream it\, you can achieve it! And hashtag it. Check in at the front desk\, grab a selfie stick and start taking the most super duper selfies ever. Just hashtag every photo with #Deadpool2 and #believeinyourselfie if you want likes!”  Sounds like a good time to me.  Make your appointment for this brief Pop-Up Experience. \n \nLike this:Like Loading...
URL:https://www.piercingken.com/event/deadpool-2-believe-in-your-selfie-museum-industria-studio-10-2/
LOCATION:Industria Studio 10\, 356 W 12th St\, New York\, NY\, 10014\, United States
CATEGORIES:Special Appearance
END:VEVENT
BEGIN:VEVENT
DTSTART;TZID=America/New_York:20180810T120000
DTEND;TZID=America/New_York:20180810T210000
DTSTAMP:20260424T080940
CREATED:20180807T133013Z
LAST-MODIFIED:20180808T015804Z
UID:34873-1533902400-1533934800@www.piercingken.com
SUMMARY:Deadpool 2: Believe In Your Selfie Museum  @ Industria Studio 10
DESCRIPTION:The event page says “If you dream it\, you can achieve it! And hashtag it. Check in at the front desk\, grab a selfie stick and start taking the most super duper selfies ever. Just hashtag every photo with #Deadpool2 and #believeinyourselfie if you want likes!”  Sounds like a good time to me.  Make your appointment for this brief Pop-Up Experience. \n \nLike this:Like Loading...
URL:https://www.piercingken.com/event/deadpool-2-believe-in-your-selfie-museum-industria-studio-10-3/
LOCATION:Industria Studio 10\, 356 W 12th St\, New York\, NY\, 10014\, United States
CATEGORIES:Special Appearance
END:VEVENT
BEGIN:VEVENT
DTSTART;TZID=America/New_York:20180811T100000
DTEND;TZID=America/New_York:20180811T180000
DTSTAMP:20260424T080940
CREATED:20180625T130006Z
LAST-MODIFIED:20180730T191837Z
UID:34573-1533981600-1534010400@www.piercingken.com
SUMMARY:"Fear The Riff" Expo @ Brooklyn Expo Center
DESCRIPTION:The 2nd Annual “Fear The Riff” Expo returns to the Brooklyn Expo Center and will be the go-to place for guitar effects\, assorted gear and a whole lot more.  Special guest appearances can be found on the Official Link and posts about the event can be examined HERE.  Don’t miss out if you sling that axe in any capacity. \n \nLike this:Like Loading...
URL:https://www.piercingken.com/event/fear-the-riff-expo-brooklyn-expo-center-2/
LOCATION:Brooklyn Expo Center\, 72 Noble Street\, Brooklyn\, NY\, 11222\, United States
CATEGORIES:Convention
END:VEVENT
BEGIN:VEVENT
DTSTART;TZID=America/New_York:20180811T100000
DTEND;TZID=America/New_York:20180811T190000
DTSTAMP:20260424T080940
CREATED:20180612T120028Z
LAST-MODIFIED:20250105T011112Z
UID:57518-1533981600-1534014000@www.piercingken.com
SUMMARY:Shoppe Object @ Metropolitan West
DESCRIPTION:Per their social media\, “SHOPPE OBJECT is New York’s semi-annual independent home and gift show\, debuting to the trade in August 2018. Presenting a curated roster of 100+ visionary brands and makers in an elevated boutique setting”.  The general public is not permitted but is encouraged to browse the exhibitors websites to see what they are releasing.   \n \nLike this:Like Loading...
URL:https://www.piercingken.com/event/shoppe-object-metropolitan-west/
LOCATION:Metropolitan West\, 639 W 46th St.\, New York\,\, NY\, 10036\, United States
CATEGORIES:Trade Show
END:VEVENT
BEGIN:VEVENT
DTSTART;TZID=America/New_York:20180811T100000
DTEND;TZID=America/New_York:20180811T190000
DTSTAMP:20260424T080940
CREATED:20180711T133042Z
LAST-MODIFIED:20180805T045016Z
UID:34787-1533981600-1534014000@www.piercingken.com
SUMMARY:New York Renaissance Faire @ Tuxedo Park
DESCRIPTION:The New York Renaissance Faire is a recreation of a 16th century village filled with performers\, crafts\, games\, and food that gives guests the illusion of stepping back in time. The 41st Annual New York Renaissance Faire features more than 125 performances on 20 stages\, and over 100 craftspeople\, all set within 65 acres of beautiful forest. \n \nLike this:Like Loading...
URL:https://www.piercingken.com/event/new-york-renaissance-faire-tuxedo-park-21/
LOCATION:Tuxedo Park\, 600 NY-17A\, Tuxedo\, NY\, 10987\, United States
CATEGORIES:Festival - Fair
END:VEVENT
BEGIN:VEVENT
DTSTART;TZID=America/New_York:20180811T100000
DTEND;TZID=America/New_York:20180811T200000
DTSTAMP:20260424T080940
CREATED:20180806T000523Z
LAST-MODIFIED:20220920T121914Z
UID:34806-1533981600-1534017600@www.piercingken.com
SUMMARY:Play NYC @ Hammerstein Ballroom
DESCRIPTION:Play NYC is New York’s Premier Annual Gaming Convention.  Its goal is to boost the up-and coming developers and bringing gamers together.  Taking place at The Hammerstein Ballroom\, it will have a 100% playable 4 floor venue full of exhibitors\, press\, and influencers in a city that has been demanding a gaming convention for years. \n \nLike this:Like Loading...
URL:https://www.piercingken.com/event/play-nyc-hammerstein-ballroom/
LOCATION:Hammerstein Ballroom\, New York\, NY\, United States
CATEGORIES:Convention
ORGANIZER;CN="Playcrafting":MAILTO:events@playcrafting.com
END:VEVENT
BEGIN:VEVENT
DTSTART;TZID=America/New_York:20180811T120000
DTEND;TZID=America/New_York:20180811T210000
DTSTAMP:20260424T080940
CREATED:20180807T140040Z
LAST-MODIFIED:20180808T015923Z
UID:34874-1533988800-1534021200@www.piercingken.com
SUMMARY:Deadpool 2: Believe In Your Selfie Museum  @ Industria Studio 10
DESCRIPTION:The event page says “If you dream it\, you can achieve it! And hashtag it. Check in at the front desk\, grab a selfie stick and start taking the most super duper selfies ever. Just hashtag every photo with #Deadpool2 and #believeinyourselfie if you want likes!”  Sounds like a good time to me.  Make your appointment for this brief Pop-Up Experience. \n \nLike this:Like Loading...
URL:https://www.piercingken.com/event/deadpool-2-believe-in-your-selfie-museum-industria-studio-10-4/
LOCATION:Industria Studio 10\, 356 W 12th St\, New York\, NY\, 10014\, United States
CATEGORIES:Special Appearance
END:VEVENT
BEGIN:VEVENT
DTSTART;TZID=America/New_York:20180812T100000
DTEND;TZID=America/New_York:20180812T190000
DTSTAMP:20260424T080940
CREATED:20180612T121538Z
LAST-MODIFIED:20250105T011147Z
UID:57519-1534068000-1534100400@www.piercingken.com
SUMMARY:Shoppe Object @ Metropolitan West
DESCRIPTION:Per their social media\, “SHOPPE OBJECT is New York’s semi-annual independent home and gift show\, debuting to the trade in August 2018. Presenting a curated roster of 100+ visionary brands and makers in an elevated boutique setting”.  The general public is not permitted but is encouraged to browse the exhibitors websites to see what they are releasing. \n \nLike this:Like Loading...
URL:https://www.piercingken.com/event/shoppe-object-metropolitan-west-2/
LOCATION:Metropolitan West\, 639 W 46th St.\, New York\,\, NY\, 10036\, United States
CATEGORIES:Trade Show
END:VEVENT
BEGIN:VEVENT
DTSTART;TZID=America/New_York:20180812T100000
DTEND;TZID=America/New_York:20180812T190000
DTSTAMP:20260424T080940
CREATED:20180712T133003Z
LAST-MODIFIED:20180805T045111Z
UID:34788-1534068000-1534100400@www.piercingken.com
SUMMARY:New York Renaissance Faire @ Tuxedo Park
DESCRIPTION:The New York Renaissance Faire is a recreation of a 16th century village filled with performers\, crafts\, games\, and food that gives guests the illusion of stepping back in time. The 41st Annual New York Renaissance Faire features more than 125 performances on 20 stages\, and over 100 craftspeople\, all set within 65 acres of beautiful forest. \n \nLike this:Like Loading...
URL:https://www.piercingken.com/event/new-york-renaissance-faire-tuxedo-park-22/
LOCATION:Tuxedo Park\, 600 NY-17A\, Tuxedo\, NY\, 10987\, United States
CATEGORIES:Festival - Fair
END:VEVENT
BEGIN:VEVENT
DTSTART;TZID=America/New_York:20180812T100000
DTEND;TZID=America/New_York:20180812T200000
DTSTAMP:20260424T080940
CREATED:20180806T001026Z
LAST-MODIFIED:20220920T121930Z
UID:34807-1534068000-1534104000@www.piercingken.com
SUMMARY:Play NYC @ Hammerstein Ballroom
DESCRIPTION:Play NYC is New York’s Premier Annual Gaming Convention.  Its goal is to boost the up-and coming developers and bringing gamers together.  Taking place at The Hammerstein Ballroom\, it will have a 100% playable 4 floor venue full of exhibitors\, press\, and influencers in a city that has been demanding a gaming convention for years. \n \nLike this:Like Loading...
URL:https://www.piercingken.com/event/play-nyc-hammerstein-ballroom-2/
LOCATION:Hammerstein Ballroom\, New York\, NY\, United States
CATEGORIES:Convention
ORGANIZER;CN="Playcrafting":MAILTO:events@playcrafting.com
END:VEVENT
BEGIN:VEVENT
DTSTART;TZID=America/New_York:20180813T100000
DTEND;TZID=America/New_York:20180813T190000
DTSTAMP:20260424T080940
CREATED:20180612T123051Z
LAST-MODIFIED:20250105T011215Z
UID:57520-1534154400-1534186800@www.piercingken.com
SUMMARY:Shoppe Object @ Metropolitan West
DESCRIPTION:Per their social media\, “SHOPPE OBJECT is New York’s semi-annual independent home and gift show\, debuting to the trade in August 2018. Presenting a curated roster of 100+ visionary brands and makers in an elevated boutique setting”.  The general public is not permitted but is encouraged to browse the exhibitors websites to see what they are releasing. \n \nLike this:Like Loading...
URL:https://www.piercingken.com/event/shoppe-object-metropolitan-west-3/
LOCATION:Metropolitan West\, 639 W 46th St.\, New York\,\, NY\, 10036\, United States
CATEGORIES:Trade Show
END:VEVENT
BEGIN:VEVENT
DTSTART;TZID=America/New_York:20180815T180000
DTEND;TZID=America/New_York:20180815T220000
DTSTAMP:20260424T080940
CREATED:20180620T073000Z
LAST-MODIFIED:20190729T183311Z
UID:34075-1534356000-1534370400@www.piercingken.com
SUMMARY:"Die Hard" Free Screening @ McCarren Park
DESCRIPTION:Residents of Brooklyn can enjoy a free-screening of the film “Die Hard” as a part of the 2018 SummerScreen Series being held at the beautiful McCarren Park.   \n \nSummerScreen is a FREE event! Doors at 6pm – Music at 7pm – Films at sundown. \nLike this:Like Loading...
URL:https://www.piercingken.com/event/die-hard-free-screening-mccarren-park/
LOCATION:McCarren Park\, 776 Lorimer Street\, Brooklyn\, NY\, 11222\, United States
CATEGORIES:Film Opening
END:VEVENT
BEGIN:VEVENT
DTSTART;VALUE=DATE:20180817
DTEND;VALUE=DATE:20180818
DTSTAMP:20260424T080940
CREATED:20180130T020112Z
LAST-MODIFIED:20180130T020310Z
UID:32311-1534464000-1534550399@www.piercingken.com
SUMMARY:Liberty City Anime Con @ Marriott Marquis Times Square
DESCRIPTION:The Liberty City Anime Con has returned and will continue to entertain the fans of Anime and its culture.  Numerous things to do and various price points. If you love Anime then you know where to be this weekend. This event will surely sell out in advance so don’t wait until the day of. \n \nLike this:Like Loading...
URL:https://www.piercingken.com/event/liberty-city-anime-con-marriott-marquis-times-square/
LOCATION:New York Marriott Marquis\, 1535 Broadway\, New York\, NY\, 10036\, United States
CATEGORIES:Convention
END:VEVENT
BEGIN:VEVENT
DTSTART;VALUE=DATE:20180817
DTEND;VALUE=DATE:20180818
DTSTAMP:20260424T080940
CREATED:20180717T133055Z
LAST-MODIFIED:20180816T181954Z
UID:35001-1534464000-1534550399@www.piercingken.com
SUMMARY:Terrificon @ Mohegan Sun
DESCRIPTION:This year we move into the all-new\, giant-sized Mohegan Sun Expo Center – the largest center of its kind in New England! TERRIFICON – Connecticut ‘s Terrific Comic Con – will be back on August 17-19\, 2018 in Uncasville\, Connecticut – better and now BIGGER than ever before.  \n \nLike this:Like Loading...
URL:https://www.piercingken.com/event/terrificon-mohegan-sun/
LOCATION:Mohegan Sun\, 1 Mohegan Sun Blvd.\, Uncasville\,\, CT\, 06382\, United States
CATEGORIES:Convention
END:VEVENT
BEGIN:VEVENT
DTSTART;TZID=America/New_York:20180817T050000
DTEND;TZID=America/New_York:20180817T090000
DTSTAMP:20260424T080940
CREATED:20180516T014019Z
LAST-MODIFIED:20220915T184711Z
UID:33445-1534482000-1534496400@www.piercingken.com
SUMMARY:Cole Swindell @ Citi Concert Series on Today at Rockefeller Center
DESCRIPTION:Cole Swindell will perform a few of his hits for the fans as a part of the Citi Concert Series. \n \nViewing is on a first-come\, first-served basis on the TODAY plaza\, located at 48th Street between Fifth and Sixth Avenues in New York City. To get the best spot\, fans should try to arrive by 5 a.m. Generally\, concerts happen rain or shine.  \nLike this:Like Loading...
URL:https://www.piercingken.com/event/cole-swindell-citi-concert-series-on-today-at-rockefeller-center/
LOCATION:Rockefeller Center\, 45 Rockefeller Plaza\, New York\, NY\, 10111\, United States
CATEGORIES:Concert
END:VEVENT
END:VCALENDAR