BEGIN:VCALENDAR
VERSION:2.0
PRODID:-//The Chronicles Of PiercingKen - ECPv6.15.20//NONSGML v1.0//EN
CALSCALE:GREGORIAN
METHOD:PUBLISH
X-ORIGINAL-URL:https://www.piercingken.com
X-WR-CALDESC:Events for The Chronicles Of PiercingKen
REFRESH-INTERVAL;VALUE=DURATION:PT1H
X-Robots-Tag:noindex
X-PUBLISHED-TTL:PT1H
BEGIN:VTIMEZONE
TZID:America/New_York
BEGIN:DAYLIGHT
TZOFFSETFROM:-0500
TZOFFSETTO:-0400
TZNAME:EDT
DTSTART:20200308T070000
END:DAYLIGHT
BEGIN:STANDARD
TZOFFSETFROM:-0400
TZOFFSETTO:-0500
TZNAME:EST
DTSTART:20201101T060000
END:STANDARD
BEGIN:DAYLIGHT
TZOFFSETFROM:-0500
TZOFFSETTO:-0400
TZNAME:EDT
DTSTART:20210314T070000
END:DAYLIGHT
BEGIN:STANDARD
TZOFFSETFROM:-0400
TZOFFSETTO:-0500
TZNAME:EST
DTSTART:20211107T060000
END:STANDARD
BEGIN:DAYLIGHT
TZOFFSETFROM:-0500
TZOFFSETTO:-0400
TZNAME:EDT
DTSTART:20220313T070000
END:DAYLIGHT
BEGIN:STANDARD
TZOFFSETFROM:-0400
TZOFFSETTO:-0500
TZNAME:EST
DTSTART:20221106T060000
END:STANDARD
END:VTIMEZONE
BEGIN:VEVENT
DTSTART;VALUE=DATE:20210529
DTEND;VALUE=DATE:20210530
DTSTAMP:20260420T000017
CREATED:20210114T133028Z
LAST-MODIFIED:20230207T162801Z
UID:47424-1622246400-1622332799@www.piercingken.com
SUMMARY:CWCBExpo @ Javits Center
DESCRIPTION:The CWCBExpo returns to New York City at the famed Javits Center.  This trade show will be the best place to learn about the latest trends in the CBD industry. \nLike this:Like Loading...
URL:https://www.piercingken.com/event/cwcbexpo-javits-center-3/
LOCATION:Jacob K. Javits Convention Center\, 655 W 34th St.\, New York\,\, NY\, 10001\, United States
CATEGORIES:Trade Show
END:VEVENT
BEGIN:VEVENT
DTSTART;VALUE=DATE:20210607
DTEND;VALUE=DATE:20210608
DTSTAMP:20260420T000017
CREATED:20210601T120012Z
LAST-MODIFIED:20210710T203645Z
UID:48962-1623024000-1623110399@www.piercingken.com
SUMMARY:ReedPOP’s “Metaverse” @ Your Computer Screen
DESCRIPTION:ReedPOP’s Metaverse returns to your computer and mobile device screens for seven full days. Be sure to hit the Official Link in this listing along with their social networks so you can geek out properly as the summer gets underway. \nLike this:Like Loading...
URL:https://www.piercingken.com/event/reedpops-metaverse-your-computer-screen-5/
LOCATION:NY
CATEGORIES:Convention
END:VEVENT
BEGIN:VEVENT
DTSTART;VALUE=DATE:20210608
DTEND;VALUE=DATE:20210609
DTSTAMP:20260420T000017
CREATED:20210601T121506Z
LAST-MODIFIED:20210710T203745Z
UID:48963-1623110400-1623196799@www.piercingken.com
SUMMARY:ReedPOP’s “Metaverse” @ Your Computer Screen
DESCRIPTION:ReedPOP’s Metaverse returns to your computer and mobile device screens for seven full days. Be sure to hit the Official Link in this listing along with their social networks so you can geek out properly as the summer gets underway. \nLike this:Like Loading...
URL:https://www.piercingken.com/event/reedpops-metaverse-your-computer-screen-6/
LOCATION:NY
CATEGORIES:Convention
END:VEVENT
BEGIN:VEVENT
DTSTART;VALUE=DATE:20210609
DTEND;VALUE=DATE:20210610
DTSTAMP:20260420T000017
CREATED:20210421T120055Z
LAST-MODIFIED:20250410T025110Z
UID:48263-1623196800-1623283199@www.piercingken.com
SUMMARY:The Tribeca Festival @ Various Locations
DESCRIPTION:The Tribeca Festival for 2021 is taking over the New York City area at numerous locations.  Some announcements from their team regarding programming and special events has been posted and can be referenced HERE for those interested.  \n \nTicket purchases and appearance information can be found on their official website which is linked in this listing.  Stay tuned to this resource for the very latest listings and cancellations as we are made aware of them. \nLike this:Like Loading...
URL:https://www.piercingken.com/event/the-tribeca-festival-various-locations/
LOCATION:NY
CATEGORIES:Festival - Fair
END:VEVENT
BEGIN:VEVENT
DTSTART;VALUE=DATE:20210609
DTEND;VALUE=DATE:20210610
DTSTAMP:20260420T000017
CREATED:20210601T123023Z
LAST-MODIFIED:20210710T204148Z
UID:48964-1623196800-1623283199@www.piercingken.com
SUMMARY:ReedPOP’s “Metaverse” @ Your Computer Screen
DESCRIPTION:ReedPOP’s Metaverse returns to your computer and mobile device screens for seven full days. Be sure to hit the Official Link in this listing along with their social networks so you can geek out properly as the summer gets underway. \nLike this:Like Loading...
URL:https://www.piercingken.com/event/reedpops-metaverse-your-computer-screen-7/
LOCATION:NY
CATEGORIES:Convention
END:VEVENT
BEGIN:VEVENT
DTSTART;VALUE=DATE:20210610
DTEND;VALUE=DATE:20210611
DTSTAMP:20260420T000017
CREATED:20210421T121559Z
LAST-MODIFIED:20210505T210759Z
UID:48264-1623283200-1623369599@www.piercingken.com
SUMMARY:The Tribeca Festival @ Various Locations
DESCRIPTION:The Tribeca Festival for 2021 is taking over the New York City area at numerous locations.  Some announcements from their team regarding programming and special events has been posted and can be referenced HERE for those interested.  \n \nTicket purchases and appearance information can be found on their official website which is linked in this listing.  Stay tuned to this resource for the very latest listings and cancellations as we are made aware of them. \nLike this:Like Loading...
URL:https://www.piercingken.com/event/the-tribeca-festival-various-locations-2/
LOCATION:NY
CATEGORIES:Festival - Fair
END:VEVENT
BEGIN:VEVENT
DTSTART;VALUE=DATE:20210610
DTEND;VALUE=DATE:20210611
DTSTAMP:20260420T000017
CREATED:20210601T124529Z
LAST-MODIFIED:20210710T204243Z
UID:48965-1623283200-1623369599@www.piercingken.com
SUMMARY:ReedPOP’s “Metaverse” @ Your Computer Screen
DESCRIPTION:ReedPOP’s Metaverse returns to your computer and mobile device screens for seven full days. Be sure to hit the Official Link in this listing along with their social networks so you can geek out properly as the summer gets underway. \nLike this:Like Loading...
URL:https://www.piercingken.com/event/reedpops-metaverse-your-computer-screen-8/
LOCATION:NY
CATEGORIES:Convention
END:VEVENT
BEGIN:VEVENT
DTSTART;VALUE=DATE:20210611
DTEND;VALUE=DATE:20210612
DTSTAMP:20260420T000017
CREATED:20210421T123057Z
LAST-MODIFIED:20210505T214723Z
UID:48267-1623369600-1623455999@www.piercingken.com
SUMMARY:The Tribeca Festival @ Various Locations
DESCRIPTION:The Tribeca Festival for 2021 is taking over the New York City area at numerous locations.  Some announcements from their team regarding programming and special events has been posted and can be referenced HERE for those interested.  \n \nTicket purchases and appearance information can be found on their official website which is linked in this listing.  Stay tuned to this resource for the very latest listings and cancellations as we are made aware of them. \nLike this:Like Loading...
URL:https://www.piercingken.com/event/the-tribeca-festival-various-locations-3/
LOCATION:NY
CATEGORIES:Festival - Fair
END:VEVENT
BEGIN:VEVENT
DTSTART;VALUE=DATE:20210611
DTEND;VALUE=DATE:20210612
DTSTAMP:20260420T000017
CREATED:20210601T130038Z
LAST-MODIFIED:20210710T204511Z
UID:48966-1623369600-1623455999@www.piercingken.com
SUMMARY:ReedPOP’s “Metaverse” @ Your Computer Screen
DESCRIPTION:ReedPOP’s Metaverse returns to your computer and mobile device screens for seven full days. Be sure to hit the Official Link in this listing along with their social networks so you can geek out properly as the summer gets underway. \nLike this:Like Loading...
URL:https://www.piercingken.com/event/reedpops-metaverse-your-computer-screen-9/
LOCATION:NY
CATEGORIES:Convention
END:VEVENT
BEGIN:VEVENT
DTSTART;VALUE=DATE:20210612
DTEND;VALUE=DATE:20210613
DTSTAMP:20260420T000017
CREATED:20210421T124559Z
LAST-MODIFIED:20210505T214829Z
UID:48268-1623456000-1623542399@www.piercingken.com
SUMMARY:The Tribeca Festival @ Various Locations
DESCRIPTION:The Tribeca Festival for 2021 is taking over the New York City area at numerous locations.  Some announcements from their team regarding programming and special events has been posted and can be referenced HERE for those interested.  \n \nTicket purchases and appearance information can be found on their official website which is linked in this listing.  Stay tuned to this resource for the very latest listings and cancellations as we are made aware of them. \nLike this:Like Loading...
URL:https://www.piercingken.com/event/the-tribeca-festival-various-locations-4/
LOCATION:NY
CATEGORIES:Festival - Fair
END:VEVENT
BEGIN:VEVENT
DTSTART;VALUE=DATE:20210612
DTEND;VALUE=DATE:20210613
DTSTAMP:20260420T000017
CREATED:20210601T131544Z
LAST-MODIFIED:20210710T204552Z
UID:48967-1623456000-1623542399@www.piercingken.com
SUMMARY:ReedPOP’s “Metaverse” @ Your Computer Screen
DESCRIPTION:ReedPOP’s Metaverse returns to your computer and mobile device screens for seven full days. Be sure to hit the Official Link in this listing along with their social networks so you can geek out properly as the summer gets underway. \nLike this:Like Loading...
URL:https://www.piercingken.com/event/reedpops-metaverse-your-computer-screen-10/
LOCATION:NY
CATEGORIES:Convention
END:VEVENT
BEGIN:VEVENT
DTSTART;VALUE=DATE:20210613
DTEND;VALUE=DATE:20210614
DTSTAMP:20260420T000017
CREATED:20210421T130015Z
LAST-MODIFIED:20210505T224911Z
UID:48269-1623542400-1623628799@www.piercingken.com
SUMMARY:The Tribeca Festival @ Various Locations
DESCRIPTION:The Tribeca Festival for 2021 is taking over the New York City area at numerous locations.  Some announcements from their team regarding programming and special events has been posted and can be referenced HERE for those interested.  \n \nTicket purchases and appearance information can be found on their official website which is linked in this listing.  Stay tuned to this resource for the very latest listings and cancellations as we are made aware of them. \nLike this:Like Loading...
URL:https://www.piercingken.com/event/the-tribeca-festival-various-locations-5/
LOCATION:NY
CATEGORIES:Festival - Fair
END:VEVENT
BEGIN:VEVENT
DTSTART;VALUE=DATE:20210613
DTEND;VALUE=DATE:20210614
DTSTAMP:20260420T000017
CREATED:20210601T120050Z
LAST-MODIFIED:20240706T030856Z
UID:53446-1623542400-1623628799@www.piercingken.com
SUMMARY:Ken Pierce Media Anniversary @ The Internet
DESCRIPTION:Today marks the first anniversary of the Ken Pierce Media website.  Thanks to all who’ve found the content of interest and have engaged with it on Social Media. \n \nLike this:Like Loading...
URL:https://www.piercingken.com/event/ken-pierce-media-anniversary-the-internet/
LOCATION:NY
CATEGORIES:Special Appearance
END:VEVENT
BEGIN:VEVENT
DTSTART;VALUE=DATE:20210613
DTEND;VALUE=DATE:20210614
DTSTAMP:20260420T000017
CREATED:20210601T133038Z
LAST-MODIFIED:20210710T204641Z
UID:48968-1623542400-1623628799@www.piercingken.com
SUMMARY:ReedPOP’s “Metaverse” @ Your Computer Screen
DESCRIPTION:ReedPOP’s Metaverse returns to your computer and mobile device screens for seven full days. Be sure to hit the Official Link in this listing along with their social networks so you can geek out properly as the summer gets underway. \nLike this:Like Loading...
URL:https://www.piercingken.com/event/reedpops-metaverse-your-computer-screen-11/
LOCATION:NY
CATEGORIES:Convention
END:VEVENT
BEGIN:VEVENT
DTSTART;VALUE=DATE:20210614
DTEND;VALUE=DATE:20210615
DTSTAMP:20260420T000017
CREATED:20210421T131541Z
LAST-MODIFIED:20210505T225546Z
UID:48282-1623628800-1623715199@www.piercingken.com
SUMMARY:The Tribeca Festival @ Various Locations
DESCRIPTION:The Tribeca Festival for 2021 is taking over the New York City area at numerous locations.  Some announcements from their team regarding programming and special events has been posted and can be referenced HERE for those interested.  \n \nTicket purchases and appearance information can be found on their official website which is linked in this listing.  Stay tuned to this resource for the very latest listings and cancellations as we are made aware of them. \nLike this:Like Loading...
URL:https://www.piercingken.com/event/the-tribeca-festival-various-locations-6/
LOCATION:NY
CATEGORIES:Festival - Fair
END:VEVENT
BEGIN:VEVENT
DTSTART;VALUE=DATE:20210615
DTEND;VALUE=DATE:20210616
DTSTAMP:20260420T000017
CREATED:20210421T133047Z
LAST-MODIFIED:20210505T230201Z
UID:48283-1623715200-1623801599@www.piercingken.com
SUMMARY:The Tribeca Festival @ Various Locations
DESCRIPTION:The Tribeca Festival for 2021 is taking over the New York City area at numerous locations.  Some announcements from their team regarding programming and special events has been posted and can be referenced HERE for those interested.  \n \nTicket purchases and appearance information can be found on their official website which is linked in this listing.  Stay tuned to this resource for the very latest listings and cancellations as we are made aware of them. \nLike this:Like Loading...
URL:https://www.piercingken.com/event/the-tribeca-festival-various-locations-7/
LOCATION:NY
CATEGORIES:Festival - Fair
END:VEVENT
BEGIN:VEVENT
DTSTART;VALUE=DATE:20210616
DTEND;VALUE=DATE:20210617
DTSTAMP:20260420T000017
CREATED:20210421T134553Z
LAST-MODIFIED:20210505T232800Z
UID:48285-1623801600-1623887999@www.piercingken.com
SUMMARY:The Tribeca Festival @ Various Locations
DESCRIPTION:The Tribeca Festival for 2021 is taking over the New York City area at numerous locations.  Some announcements from their team regarding programming and special events has been posted and can be referenced HERE for those interested.  \n \nTicket purchases and appearance information can be found on their official website which is linked in this listing.  Stay tuned to this resource for the very latest listings and cancellations as we are made aware of them. \nLike this:Like Loading...
URL:https://www.piercingken.com/event/the-tribeca-festival-various-locations-8/
LOCATION:NY
CATEGORIES:Festival - Fair
END:VEVENT
BEGIN:VEVENT
DTSTART;VALUE=DATE:20210617
DTEND;VALUE=DATE:20210618
DTSTAMP:20260420T000017
CREATED:20210421T140011Z
LAST-MODIFIED:20210505T233828Z
UID:48287-1623888000-1623974399@www.piercingken.com
SUMMARY:The Tribeca Festival @ Various Locations
DESCRIPTION:The Tribeca Festival for 2021 is taking over the New York City area at numerous locations.  Some announcements from their team regarding programming and special events has been posted and can be referenced HERE for those interested.  \n \nTicket purchases and appearance information can be found on their official website which is linked in this listing.  Stay tuned to this resource for the very latest listings and cancellations as we are made aware of them. \nLike this:Like Loading...
URL:https://www.piercingken.com/event/the-tribeca-festival-various-locations-9/
LOCATION:NY
CATEGORIES:Festival - Fair
END:VEVENT
BEGIN:VEVENT
DTSTART;VALUE=DATE:20210618
DTEND;VALUE=DATE:20210619
DTSTAMP:20260420T000017
CREATED:20210421T141515Z
LAST-MODIFIED:20210505T234034Z
UID:48286-1623974400-1624060799@www.piercingken.com
SUMMARY:The Tribeca Festival @ Various Locations
DESCRIPTION:The Tribeca Festival for 2021 is taking over the New York City area at numerous locations.  Some announcements from their team regarding programming and special events has been posted and can be referenced HERE for those interested.  \n \nTicket purchases and appearance information can be found on their official website which is linked in this listing.  Stay tuned to this resource for the very latest listings and cancellations as we are made aware of them. \nLike this:Like Loading...
URL:https://www.piercingken.com/event/the-tribeca-festival-various-locations-10/
LOCATION:NY
CATEGORIES:Festival - Fair
END:VEVENT
BEGIN:VEVENT
DTSTART;VALUE=DATE:20210619
DTEND;VALUE=DATE:20210620
DTSTAMP:20260420T000017
CREATED:20210421T143049Z
LAST-MODIFIED:20210505T234219Z
UID:48284-1624060800-1624147199@www.piercingken.com
SUMMARY:The Tribeca Festival @ Various Locations
DESCRIPTION:The Tribeca Festival for 2021 is taking over the New York City area at numerous locations.  Some announcements from their team regarding programming and special events has been posted and can be referenced HERE for those interested.  \n \nTicket purchases and appearance information can be found on their official website which is linked in this listing.  Stay tuned to this resource for the very latest listings and cancellations as we are made aware of them. \nLike this:Like Loading...
URL:https://www.piercingken.com/event/the-tribeca-festival-various-locations-11/
LOCATION:NY
CATEGORIES:Festival - Fair
END:VEVENT
BEGIN:VEVENT
DTSTART;VALUE=DATE:20210620
DTEND;VALUE=DATE:20210621
DTSTAMP:20260420T000017
CREATED:20210421T144510Z
LAST-MODIFIED:20250410T025103Z
UID:48296-1624147200-1624233599@www.piercingken.com
SUMMARY:The Tribeca Festival @ Various Locations
DESCRIPTION:The Tribeca Festival for 2021 is taking over the New York City area at numerous locations.  Some announcements from their team regarding programming and special events has been posted and can be referenced HERE for those interested.  \n \nTicket purchases and appearance information can be found on their official website which is linked in this listing.  Stay tuned to this resource for the very latest listings and cancellations as we are made aware of them. \nLike this:Like Loading...
URL:https://www.piercingken.com/event/the-tribeca-festival-various-locations-12/
LOCATION:NY
CATEGORIES:Festival - Fair
END:VEVENT
BEGIN:VEVENT
DTSTART;TZID=America/New_York:20210704T100000
DTEND;TZID=America/New_York:20210704T130000
DTSTAMP:20260420T000017
CREATED:20210620T120042Z
LAST-MODIFIED:20210704T162809Z
UID:48901-1625392800-1625403600@www.piercingken.com
SUMMARY:Hot Dog Eating Contest @ Nathan’s Famous Coney Island
DESCRIPTION:Competitive Eaters from everywhere will vie for the Mustard Belt by eating as many Nathan’s Famous hot dogs as they possibly can.  Once again this will be a publicly attended affair as vaccinations continue to happen and the pandemic slowly gets put behind us (we hope at least).  If you are there in person be sure to order up a couple for us and then visit the beach. \n \nLike this:Like Loading...
URL:https://www.piercingken.com/event/hot-dog-eating-contest-nathans-famous-coney-island-5/
LOCATION:Nathan’s Famous Coney Island\, 1310 Surf Avenue\, Brooklyn\, NY\, 11224\, United States
CATEGORIES:Festival - Fair
END:VEVENT
BEGIN:VEVENT
DTSTART;VALUE=DATE:20210722
DTEND;VALUE=DATE:20210723
DTSTAMP:20260420T000017
CREATED:20210301T130052Z
LAST-MODIFIED:20210713T231117Z
UID:48988-1626912000-1626998399@www.piercingken.com
SUMMARY:POSTPONED: Comic Con International: San Diego @ San Diego Convention Center
DESCRIPTION:Due to the continued issues surrounding large scale events from the Coronavirus Pandemic\, the organizers of the Comic-Con International: San Diego have decided to postpone the in-person event this year (discussed HERE) and once again launch the Comic-Con @ Home. \n \nThe Comic Con International: San Diego has been scheduled for these four days and will hopefully be able to take place. As we are still very much under the control of the Coronavirus Pandemic\, the official status of a physical event is yet to be determined. Stay tuned to these listings and the event organizers socials until the go ahead is given. \nLike this:Like Loading...
URL:https://www.piercingken.com/event/postponed-comic-con-international-san-diego-san-diego-convention-center/
LOCATION:San Diego Convention Center\, 111 Harbor Drive\, San Diego\, CA\, 92101\, United States
CATEGORIES:Convention
END:VEVENT
BEGIN:VEVENT
DTSTART;VALUE=DATE:20210723
DTEND;VALUE=DATE:20210724
DTSTAMP:20260420T000017
CREATED:20210120T130042Z
LAST-MODIFIED:20210720T025245Z
UID:47459-1626998400-1627084799@www.piercingken.com
SUMMARY:RESCHEDULED: New York Empire State Tattoo Expo @ New York Hilton Midtown
DESCRIPTION:Due to continued issues with larger public assembly based on the Coronavirus Pandemic\, the NY Empire State Tattoo Expo has been postponed from its original date and will be held at the rescheduled time in early October (discussed HERE).  Stay tuned to these listings and their official website for the latest developments. \n \nThe New York Empire State Tattoo Expo has returned to NYC at the Hilton Midtown.  This is the place to be if you’re looking for some new ink or just some supplies for yourself.  Scores of artists will be on site to bring your favorite design to life but you’ll need to be of legal age to get one with identification to prove it.  You don’t have to have any ink to enjoy the event as all are welcome.  Lots of cool stuff to enjoy. \nLike this:Like Loading...
URL:https://www.piercingken.com/event/rescheduled-new-york-empire-state-tattoo-expo-new-york-hilton-midtown/
LOCATION:New York Hilton Midtown\, 1335 Avenue Of The Americas\, New York\, NY\, 10606\, United States
CATEGORIES:Convention
END:VEVENT
BEGIN:VEVENT
DTSTART;VALUE=DATE:20210723
DTEND;VALUE=DATE:20210724
DTSTAMP:20260420T000017
CREATED:20210301T131537Z
LAST-MODIFIED:20210713T231156Z
UID:48989-1626998400-1627084799@www.piercingken.com
SUMMARY:POSTPONED: Comic Con International: San Diego @ San Diego Convention Center
DESCRIPTION:Due to the continued issues surrounding large scale events from the Coronavirus Pandemic\, the organizers of the Comic-Con International: San Diego have decided to postpone the in-person event this year (discussed HERE) and once again launch the Comic-Con @ Home. \n \nThe Comic Con International: San Diego has been scheduled for these four days and will hopefully be able to take place. As we are still very much under the control of the Coronavirus Pandemic\, the official status of a physical event is yet to be determined. Stay tuned to these listings and the event organizers socials until the go ahead is given. \nLike this:Like Loading...
URL:https://www.piercingken.com/event/postponed-comic-con-international-san-diego-san-diego-convention-center-2/
LOCATION:San Diego Convention Center\, 111 Harbor Drive\, San Diego\, CA\, 92101\, United States
CATEGORIES:Convention
END:VEVENT
BEGIN:VEVENT
DTSTART;VALUE=DATE:20210724
DTEND;VALUE=DATE:20210725
DTSTAMP:20260420T000017
CREATED:20210120T133050Z
LAST-MODIFIED:20210720T025252Z
UID:47461-1627084800-1627171199@www.piercingken.com
SUMMARY:RESCHEDULED: New York Empire State Tattoo Expo @ New York Hilton Midtown
DESCRIPTION:Due to continued issues with larger public assembly based on the Coronavirus Pandemic\, the NY Empire State Tattoo Expo has been postponed from its original date and will be held at the rescheduled time in early October (discussed HERE).  Stay tuned to these listings and their official website for the latest developments. \n \nThe New York Empire State Tattoo Expo has returned to NYC at the Hilton Midtown.  This is the place to be if you’re looking for some new ink or just some supplies for yourself.  Scores of artists will be on site to bring your favorite design to life but you’ll need to be of legal age to get one with identification to prove it.  You don’t have to have any ink to enjoy the event as all are welcome.  Lots of cool stuff to enjoy. \nLike this:Like Loading...
URL:https://www.piercingken.com/event/rescheduled-new-york-empire-state-tattoo-expo-new-york-hilton-midtown-2/
LOCATION:Hilton Parsippany Hotel\, One Hilton Court\, Parsippany\,\, NJ\, 07054\, United States
CATEGORIES:Convention
END:VEVENT
BEGIN:VEVENT
DTSTART;VALUE=DATE:20210724
DTEND;VALUE=DATE:20210725
DTSTAMP:20260420T000017
CREATED:20210301T133021Z
LAST-MODIFIED:20210713T231313Z
UID:48990-1627084800-1627171199@www.piercingken.com
SUMMARY:POSTPONED: Comic Con International: San Diego @ San Diego Convention Center
DESCRIPTION:Due to the continued issues surrounding large scale events from the Coronavirus Pandemic\, the organizers of the Comic-Con International: San Diego have decided to postpone the in-person event this year (discussed HERE) and once again launch the Comic-Con @ Home. \n \nThe Comic Con International: San Diego has been scheduled for these four days and will hopefully be able to take place. As we are still very much under the control of the Coronavirus Pandemic\, the official status of a physical event is yet to be determined. Stay tuned to these listings and the event organizers socials until the go ahead is given. \nLike this:Like Loading...
URL:https://www.piercingken.com/event/postponed-comic-con-international-san-diego-san-diego-convention-center-3/
LOCATION:San Diego Convention Center\, 111 Harbor Drive\, San Diego\, CA\, 92101\, United States
CATEGORIES:Convention
END:VEVENT
BEGIN:VEVENT
DTSTART;VALUE=DATE:20210725
DTEND;VALUE=DATE:20210726
DTSTAMP:20260420T000017
CREATED:20210114T190050Z
LAST-MODIFIED:20210625T004321Z
UID:47434-1627171200-1627257599@www.piercingken.com
SUMMARY:POSTPONED: Grace Jamaican Jerk Festival @ Roy Wilkins Park
DESCRIPTION:Due to the effects from the Coronavirus Pandemic\, the 2021 edition of the Grace Jamaican Jerk Festival has been postponed until 2022.  Stay tuned to these event listings and the official website for updates and ticketing information. \n \nLike this:Like Loading...
URL:https://www.piercingken.com/event/postponed-grace-jamaican-jerk-festival-roy-wilkins-park/
LOCATION:Roy Wilkins Park\, 177-01 Baisley Blvd\, Jamaica\, NY\, 11434\, United States
CATEGORIES:Festival - Fair
END:VEVENT
BEGIN:VEVENT
DTSTART;VALUE=DATE:20210725
DTEND;VALUE=DATE:20210726
DTSTAMP:20260420T000017
CREATED:20210120T140053Z
LAST-MODIFIED:20210720T025259Z
UID:47462-1627171200-1627257599@www.piercingken.com
SUMMARY:RESCHEDULED: New York Empire State Tattoo Expo @ New York Hilton Midtown
DESCRIPTION:Due to continued issues with larger public assembly based on the Coronavirus Pandemic\, the NY Empire State Tattoo Expo has been postponed from its original date and will be held at the rescheduled time in early October (discussed HERE).  Stay tuned to these listings and their official website for the latest developments. \n \nThe New York Empire State Tattoo Expo has returned to NYC at the Hilton Midtown.  This is the place to be if you’re looking for some new ink or just some supplies for yourself.  Scores of artists will be on site to bring your favorite design to life but you’ll need to be of legal age to get one with identification to prove it.  You don’t have to have any ink to enjoy the event as all are welcome.  Lots of cool stuff to enjoy. \nLike this:Like Loading...
URL:https://www.piercingken.com/event/rescheduled-new-york-empire-state-tattoo-expo-new-york-hilton-midtown-3/
LOCATION:New York Hilton Midtown\, 1335 Avenue Of The Americas\, New York\, NY\, 10606\, United States
CATEGORIES:Convention
END:VEVENT
BEGIN:VEVENT
DTSTART;VALUE=DATE:20210725
DTEND;VALUE=DATE:20210726
DTSTAMP:20260420T000017
CREATED:20210301T134558Z
LAST-MODIFIED:20210713T231344Z
UID:48991-1627171200-1627257599@www.piercingken.com
SUMMARY:POSTPONED: Comic Con International: San Diego @ San Diego Convention Center
DESCRIPTION:Due to the continued issues surrounding large scale events from the Coronavirus Pandemic\, the organizers of the Comic-Con International: San Diego have decided to postpone the in-person event this year (discussed HERE) and once again launch the Comic-Con @ Home. \n \nThe Comic Con International: San Diego has been scheduled for these four days and will hopefully be able to take place. As we are still very much under the control of the Coronavirus Pandemic\, the official status of a physical event is yet to be determined. Stay tuned to these listings and the event organizers socials until the go ahead is given. \nLike this:Like Loading...
URL:https://www.piercingken.com/event/postponed-comic-con-international-san-diego-san-diego-convention-center-4/
LOCATION:San Diego Convention Center\, 111 Harbor Drive\, San Diego\, CA\, 92101\, United States
CATEGORIES:Convention
END:VEVENT
END:VCALENDAR