BEGIN:VCALENDAR
VERSION:2.0
PRODID:-//The Chronicles Of PiercingKen - ECPv6.15.20//NONSGML v1.0//EN
CALSCALE:GREGORIAN
METHOD:PUBLISH
X-WR-CALNAME:The Chronicles Of PiercingKen
X-ORIGINAL-URL:https://www.piercingken.com
X-WR-CALDESC:Events for The Chronicles Of PiercingKen
REFRESH-INTERVAL;VALUE=DURATION:PT1H
X-Robots-Tag:noindex
X-PUBLISHED-TTL:PT1H
BEGIN:VTIMEZONE
TZID:America/New_York
BEGIN:DAYLIGHT
TZOFFSETFROM:-0500
TZOFFSETTO:-0400
TZNAME:EDT
DTSTART:20160313T070000
END:DAYLIGHT
BEGIN:STANDARD
TZOFFSETFROM:-0400
TZOFFSETTO:-0500
TZNAME:EST
DTSTART:20161106T060000
END:STANDARD
BEGIN:DAYLIGHT
TZOFFSETFROM:-0500
TZOFFSETTO:-0400
TZNAME:EDT
DTSTART:20170312T070000
END:DAYLIGHT
BEGIN:STANDARD
TZOFFSETFROM:-0400
TZOFFSETTO:-0500
TZNAME:EST
DTSTART:20171105T060000
END:STANDARD
BEGIN:DAYLIGHT
TZOFFSETFROM:-0500
TZOFFSETTO:-0400
TZNAME:EDT
DTSTART:20180311T070000
END:DAYLIGHT
BEGIN:STANDARD
TZOFFSETFROM:-0400
TZOFFSETTO:-0500
TZNAME:EST
DTSTART:20181104T060000
END:STANDARD
END:VTIMEZONE
BEGIN:VEVENT
DTSTART;TZID=America/New_York:20170827T100000
DTEND;TZID=America/New_York:20170827T190000
DTSTAMP:20260422T093708
CREATED:20170814T180111Z
LAST-MODIFIED:20170814T193950Z
UID:30806-1503828000-1503860400@www.piercingken.com
SUMMARY:New York Renaissance Faire @ Tuxedo Park
DESCRIPTION:The New York Renaissance Faire celebrates its 40th Season with this years event.  Don’t miss out on all of the colorful fun and awesome eats.  This will run every weekend until October. \n \nLike this:Like Loading...
URL:https://www.piercingken.com/event/new-york-renaissance-faire-tuxedo-park-8/
LOCATION:Tuxedo Park\, 600 NY-17A\, Tuxedo\, NY\, 10987\, United States
CATEGORIES:Festival - Fair
END:VEVENT
BEGIN:VEVENT
DTSTART;TZID=America/New_York:20170827T120000
DTEND;TZID=America/New_York:20170827T220000
DTSTAMP:20260422T093708
CREATED:20170827T231947Z
LAST-MODIFIED:20170827T232045Z
UID:30903-1503835200-1503871200@www.piercingken.com
SUMMARY:Afropunk Brooklyn @ Commodore Barry Park
DESCRIPTION:The Afropunk Fest is back in Commodore Barry Park and hosts a myriad of entertaining acts.  For lineup and time information hit the website link located below.  This is a long day of music for sure and you don’t want to miss a minute of it. \n \nLike this:Like Loading...
URL:https://www.piercingken.com/event/afropunk-brooklyn-commodore-barry-park-2/
LOCATION:Commodore Barry Park\, Flushing Ave & N. Elliot Place\, Brooklyn\, NY\, 11201\, United States
CATEGORIES:Concert
END:VEVENT
BEGIN:VEVENT
DTSTART;TZID=America/New_York:20170828T200000
DTEND;TZID=America/New_York:20170828T200000
DTSTAMP:20260422T093708
CREATED:20170827T135354Z
LAST-MODIFIED:20210925T144449Z
UID:30900-1503950400-1503950400@www.piercingken.com
SUMMARY:Lady Gaga @ Citi Field
DESCRIPTION:Lady Gaga will bring her fantastical show to the Queens side of the fence.  You don’t want to miss this one if you are a fan. \n \nLike this:Like Loading...
URL:https://www.piercingken.com/event/lady-gaga-citi-field/
LOCATION:Citi Field\, 123-01 Roosevelt Ave.\, Queens\, NY\, 11368\, United States
CATEGORIES:Concert
END:VEVENT
BEGIN:VEVENT
DTSTART;TZID=America/New_York:20170831T200000
DTEND;TZID=America/New_York:20170831T230000
DTSTAMP:20260422T093708
CREATED:20170828T003055Z
LAST-MODIFIED:20171003T031422Z
UID:30910-1504209600-1504220400@www.piercingken.com
SUMMARY:“Forrest Gump” Free Screening @ Brooklyn Bazaar
DESCRIPTION:This screening takes place in the Main Ballroom! Seating is first come first served. Restaurant and bar open before\, during and after the movie! \n“While not intelligent\, Forrest Gump has accidentally been present at many historic moments\, but his true love\, Jenny Curran\, eludes him.” \nRegister for this event via the provided link below. \nLike this:Like Loading...
URL:https://www.piercingken.com/event/forrest-gump-free-screening-brooklyn-bazaar/
LOCATION:Brooklyn Bazaar\, 150 Greenpoint Avenue\, Brooklyn\, NY\, 11222\, United States
CATEGORIES:Film Opening
END:VEVENT
BEGIN:VEVENT
DTSTART;VALUE=DATE:20170901
DTEND;VALUE=DATE:20170902
DTSTAMP:20260422T093708
CREATED:20170904T131043Z
LAST-MODIFIED:20170904T131043Z
UID:31015-1504224000-1504310399@www.piercingken.com
SUMMARY:Brooklyn Bugs @ Various Locations
DESCRIPTION:This event is for the extremely adventurous foodie and will surely test the levels of your resolve as you learn about how chefs are making bugs more delicious and appetizing to the western diet.  “Brooklyn Bugs” is a celebration of edible insects and shall be held over the Labor Day weekend at different locations.  Use this LINK to learn more about the where\, the how and the what the heck were you thinking 🙂 If you go\, please take LOTS of photos and do some Yelps or Foodspotting. \nLike this:Like Loading...
URL:https://www.piercingken.com/event/brooklyn-bugs-various-locations/
LOCATION:NY
CATEGORIES:Festival - Fair
END:VEVENT
BEGIN:VEVENT
DTSTART;VALUE=DATE:20170902
DTEND;VALUE=DATE:20170903
DTSTAMP:20260422T093708
CREATED:20170904T131056Z
LAST-MODIFIED:20170904T131056Z
UID:31016-1504310400-1504396799@www.piercingken.com
SUMMARY:Brooklyn Bugs @ Various Locations
DESCRIPTION:This event is for the extremely adventurous foodie and will surely test the levels of your resolve as you learn about how chefs are making bugs more delicious and appetizing to the western diet.  “Brooklyn Bugs” is a celebration of edible insects and shall be held over the Labor Day weekend at different locations.  Use this LINK to learn more about the where\, the how and the what the heck were you thinking 🙂 If you go\, please take LOTS of photos and do some Yelps or Foodspotting. \nLike this:Like Loading...
URL:https://www.piercingken.com/event/brooklyn-bugs-various-locations-2/
LOCATION:NY
CATEGORIES:Festival - Fair
END:VEVENT
BEGIN:VEVENT
DTSTART;TZID=America/New_York:20170902T100000
DTEND;TZID=America/New_York:20170902T190000
DTSTAMP:20260422T093708
CREATED:20170814T195352Z
LAST-MODIFIED:20170814T195352Z
UID:30822-1504346400-1504378800@www.piercingken.com
SUMMARY:New York Renaissance Faire @ Tuxedo Park
DESCRIPTION:The New York Renaissance Faire celebrates its 40th Season with this years event.  Don’t miss out on all of the colorful fun and awesome eats.  This will run every weekend until October. \n \nLike this:Like Loading...
URL:https://www.piercingken.com/event/new-york-renaissance-faire-tuxedo-park-9/
LOCATION:Tuxedo Park\, 600 NY-17A\, Tuxedo\, NY\, 10987\, United States
CATEGORIES:Festival - Fair
END:VEVENT
BEGIN:VEVENT
DTSTART;TZID=America/New_York:20170902T123000
DTEND;TZID=America/New_York:20170902T210000
DTSTAMP:20260422T093708
CREATED:20170828T231850Z
LAST-MODIFIED:20170828T233219Z
UID:30920-1504355400-1504386000@www.piercingken.com
SUMMARY:New York City Burger Festival @ Hangry Garden
DESCRIPTION:Today the NYC Burger Festival will take place at the Hangry Garden space.  There are two sessions to choose from with an early afternoon session and a later one.  Each requires a ticket and each price point comes with certain accomodations. \n \nLike this:Like Loading...
URL:https://www.piercingken.com/event/new-york-city-burger-festival-hangry-garden/
LOCATION:Hangry Garden\, 1082 Flushing Avenue\, Brooklyn\, NY\, 11237\, United States
CATEGORIES:Festival - Fair
END:VEVENT
BEGIN:VEVENT
DTSTART;VALUE=DATE:20170903
DTEND;VALUE=DATE:20170904
DTSTAMP:20260422T093708
CREATED:20170904T131115Z
LAST-MODIFIED:20170904T131115Z
UID:31017-1504396800-1504483199@www.piercingken.com
SUMMARY:Brooklyn Bugs @ Various Locations
DESCRIPTION:This event is for the extremely adventurous foodie and will surely test the levels of your resolve as you learn about how chefs are making bugs more delicious and appetizing to the western diet.  “Brooklyn Bugs” is a celebration of edible insects and shall be held over the Labor Day weekend at different locations.  Use this LINK to learn more about the where\, the how and the what the heck were you thinking 🙂 If you go\, please take LOTS of photos and do some Yelps or Foodspotting. \nLike this:Like Loading...
URL:https://www.piercingken.com/event/brooklyn-bugs-various-locations-3/
LOCATION:NY
CATEGORIES:Festival - Fair
END:VEVENT
BEGIN:VEVENT
DTSTART;TZID=America/New_York:20170903T100000
DTEND;TZID=America/New_York:20170903T190000
DTSTAMP:20260422T093708
CREATED:20170814T201248Z
LAST-MODIFIED:20170814T201248Z
UID:30823-1504432800-1504465200@www.piercingken.com
SUMMARY:New York Renaissance Faire @ Tuxedo Park
DESCRIPTION:The New York Renaissance Faire celebrates its 40th Season with this years event.  Don’t miss out on all of the colorful fun and awesome eats.  This will run every weekend until October. \n \nLike this:Like Loading...
URL:https://www.piercingken.com/event/new-york-renaissance-faire-tuxedo-park-10/
LOCATION:Tuxedo Park\, 600 NY-17A\, Tuxedo\, NY\, 10987\, United States
CATEGORIES:Festival - Fair
END:VEVENT
BEGIN:VEVENT
DTSTART;TZID=America/New_York:20170904T100000
DTEND;TZID=America/New_York:20170904T190000
DTSTAMP:20260422T093708
CREATED:20170814T201407Z
LAST-MODIFIED:20170814T203207Z
UID:30824-1504519200-1504551600@www.piercingken.com
SUMMARY:New York Renaissance Faire @ Tuxedo Park
DESCRIPTION:The New York Renaissance Faire celebrates its 40th Season with this years event.  Don’t miss out on all of the colorful fun and awesome eats.  This will run every weekend until October. \n \nLike this:Like Loading...
URL:https://www.piercingken.com/event/new-york-renaissance-faire-tuxedo-park-11/
LOCATION:Tuxedo Park\, 600 NY-17A\, Tuxedo\, NY\, 10987\, United States
CATEGORIES:Festival - Fair
END:VEVENT
BEGIN:VEVENT
DTSTART;TZID=America/New_York:20170906T210000
DTEND;TZID=America/New_York:20170906T210000
DTSTAMP:20260422T093708
CREATED:20170828T014202Z
LAST-MODIFIED:20171003T031406Z
UID:30912-1504731600-1504731600@www.piercingken.com
SUMMARY:Michael Jackson's “Moonwalker" Free Screening @ Brooklyn Bazaar
DESCRIPTION:This screening takes place in the Main Ballroom! Seating is first come first served. Restaurant and bar open before\, during and after the movie! \n“Concert footage\, concept videos and a career retrospective make up a video portrait of pop superstar Michael Jackson.” \nRegister for this event via the provided link below. \nLike this:Like Loading...
URL:https://www.piercingken.com/event/michael-jacksons-moonwalker-free-screening-brooklyn-bazaar/
LOCATION:Brooklyn Bazaar\, 150 Greenpoint Avenue\, Brooklyn\, NY\, 11222\, United States
CATEGORIES:Film Opening
END:VEVENT
BEGIN:VEVENT
DTSTART;TZID=America/New_York:20170907T120000
DTEND;TZID=America/New_York:20170907T230000
DTSTAMP:20260422T093708
CREATED:20170907T120036Z
LAST-MODIFIED:20170908T021346Z
UID:31070-1504785600-1504825200@www.piercingken.com
SUMMARY:Style Fashion Week @ Intrepid Sea\, Air & Space Museum
DESCRIPTION:From the website: “Style Fashion Week\, producer of globally recognized fashion events\, provides top designers a world class platform to showcase their collections.  Each year Style Fashion Week presents the season’s must see shows\, unforgettable performances and exclusive installations.  Our expansive Style Marketplace immerses guests in fashion as well as art and design.  Industry and consumers directly engage with brands throughout the week”.  How exciting is it that this season’s happening will take place aboard the mighty Intrepid. \n \nLike this:Like Loading...
URL:https://www.piercingken.com/event/style-fashion-week-intrepid-sea-air-space-museum/
LOCATION:Intrepid Sea\, Air & Space Museum\, Pier 86\, W 46th St & 12th Ave\, New York\, NY\, 10036\, United States
CATEGORIES:Special Appearance
END:VEVENT
BEGIN:VEVENT
DTSTART;TZID=America/New_York:20170908T110000
DTEND;TZID=America/New_York:20170908T230000
DTSTAMP:20260422T093708
CREATED:20170908T021455Z
LAST-MODIFIED:20170908T031138Z
UID:31078-1504868400-1504911600@www.piercingken.com
SUMMARY:Style Fashion Week @ Intrepid Sea\, Air & Space Museum
DESCRIPTION:From the website: “Style Fashion Week\, producer of globally recognized fashion events\, provides top designers a world class platform to showcase their collections.  Each year Style Fashion Week presents the season’s must see shows\, unforgettable performances and exclusive installations.  Our expansive Style Marketplace immerses guests in fashion as well as art and design.  Industry and consumers directly engage with brands throughout the week”.  How exciting is it that this season’s happening will take place aboard the mighty Intrepid. \n \nLike this:Like Loading...
URL:https://www.piercingken.com/event/style-fashion-week-intrepid-sea-air-space-museum-2/
LOCATION:Intrepid Sea\, Air & Space Museum\, Pier 86\, W 46th St & 12th Ave\, New York\, NY\, 10036\, United States
CATEGORIES:Special Appearance
END:VEVENT
BEGIN:VEVENT
DTSTART;TZID=America/New_York:20170909T100000
DTEND;TZID=America/New_York:20170909T190000
DTSTAMP:20260422T093708
CREATED:20170814T203853Z
LAST-MODIFIED:20170814T203853Z
UID:30825-1504951200-1504983600@www.piercingken.com
SUMMARY:New York Renaissance Faire @ Tuxedo Park
DESCRIPTION:The New York Renaissance Faire celebrates its 40th Season with this years event.  Don’t miss out on all of the colorful fun and awesome eats.  This will run every weekend until October. \n \nLike this:Like Loading...
URL:https://www.piercingken.com/event/new-york-renaissance-faire-tuxedo-park-12/
LOCATION:Tuxedo Park\, 600 NY-17A\, Tuxedo\, NY\, 10987\, United States
CATEGORIES:Festival - Fair
END:VEVENT
BEGIN:VEVENT
DTSTART;TZID=America/New_York:20170909T100000
DTEND;TZID=America/New_York:20170909T200000
DTSTAMP:20260422T093708
CREATED:20170310T180703Z
LAST-MODIFIED:20170910T185351Z
UID:28859-1504951200-1504987200@www.piercingken.com
SUMMARY:NJ Taco Festival @ Sussex County Fairgrounds
DESCRIPTION:The fiery folks at High River Sauces and Heartbreaking Dawns present the 3rd annual NJ Taco Festival at the Sussex County Fairgrounds. There will be food\, drink and all sorts of fun for those who attend.  Several tiers of pricing exist.  \n \nLike this:Like Loading...
URL:https://www.piercingken.com/event/nj-taco-festival-sussex-county-fairgrounds/
LOCATION:Sussex County Fairgrounds\, 37 Plains Road\, Augusta\, NJ\, United States
CATEGORIES:Festival - Fair
END:VEVENT
BEGIN:VEVENT
DTSTART;TZID=America/New_York:20170909T110000
DTEND;TZID=America/New_York:20170909T230000
DTSTAMP:20260422T093708
CREATED:20170908T021531Z
LAST-MODIFIED:20170908T031144Z
UID:31079-1504954800-1504998000@www.piercingken.com
SUMMARY:Style Fashion Week @ Intrepid Sea\, Air & Space Museum
DESCRIPTION:From the website: “Style Fashion Week\, producer of globally recognized fashion events\, provides top designers a world class platform to showcase their collections.  Each year Style Fashion Week presents the season’s must see shows\, unforgettable performances and exclusive installations.  Our expansive Style Marketplace immerses guests in fashion as well as art and design.  Industry and consumers directly engage with brands throughout the week”.  How exciting is it that this season’s happening will take place aboard the mighty Intrepid. \n \nLike this:Like Loading...
URL:https://www.piercingken.com/event/style-fashion-week-intrepid-sea-air-space-museum-3/
LOCATION:Intrepid Sea\, Air & Space Museum\, Pier 86\, W 46th St & 12th Ave\, New York\, NY\, 10036\, United States
CATEGORIES:Special Appearance
END:VEVENT
BEGIN:VEVENT
DTSTART;TZID=America/New_York:20170909T153000
DTEND;TZID=America/New_York:20170909T220000
DTSTAMP:20260422T093708
CREATED:20170829T001533Z
LAST-MODIFIED:20170829T001533Z
UID:30921-1504971000-1504994400@www.piercingken.com
SUMMARY:New York City Pizza Festival @ Hangry Garden
DESCRIPTION:The Hangry Garden will be the scene of the pizza during the NYC Pizza Festival.  There are two sessions to choose from with one beginning at 3:30pm and the next at 7:00pm – Each requires its own ticket and pricing is based on options that are included. \n \nLike this:Like Loading...
URL:https://www.piercingken.com/event/new-york-city-pizza-festival-hangry-garden/
LOCATION:Hangry Garden\, 1082 Flushing Avenue\, Brooklyn\, NY\, 11237\, United States
CATEGORIES:Festival - Fair
END:VEVENT
BEGIN:VEVENT
DTSTART;TZID=America/New_York:20170910T100000
DTEND;TZID=America/New_York:20170910T190000
DTSTAMP:20260422T093708
CREATED:20170814T203932Z
LAST-MODIFIED:20170814T203932Z
UID:30826-1505037600-1505070000@www.piercingken.com
SUMMARY:New York Renaissance Faire @ Tuxedo Park
DESCRIPTION:The New York Renaissance Faire celebrates its 40th Season with this years event.  Don’t miss out on all of the colorful fun and awesome eats.  This will run every weekend until October. \n \nLike this:Like Loading...
URL:https://www.piercingken.com/event/new-york-renaissance-faire-tuxedo-park-13/
LOCATION:Tuxedo Park\, 600 NY-17A\, Tuxedo\, NY\, 10987\, United States
CATEGORIES:Festival - Fair
END:VEVENT
BEGIN:VEVENT
DTSTART;TZID=America/New_York:20170913T200000
DTEND;TZID=America/New_York:20170913T200000
DTSTAMP:20260422T093708
CREATED:20170828T005058Z
LAST-MODIFIED:20171003T031349Z
UID:30913-1505332800-1505332800@www.piercingken.com
SUMMARY:“Monty Python and The Holy Grail” Free Screening @ Brooklyn Bazaar
DESCRIPTION:This screening takes place in the Main Ballroom! Seating is first come first served. Restaurant and bar open before\, during and after the movie! \n“King Arthur and his knights embark on a low-budget search for the Grail\, encountering many\, very silly obstacles.” \nRegister for this event via the provided link below. \nLike this:Like Loading...
URL:https://www.piercingken.com/event/monty-python-and-the-holy-grail-free-screening-brooklyn-bazaar/
LOCATION:Brooklyn Bazaar\, 150 Greenpoint Avenue\, Brooklyn\, NY\, 11222\, United States
CATEGORIES:Film Opening
END:VEVENT
BEGIN:VEVENT
DTSTART;VALUE=DATE:20170915
DTEND;VALUE=DATE:20170916
DTSTAMP:20260422T093708
CREATED:20170801T024932Z
LAST-MODIFIED:20170801T025425Z
UID:30632-1505433600-1505519999@www.piercingken.com
SUMMARY:The Meadows Music and Arts Festival @ Citi Field
DESCRIPTION:Like this:Like Loading...
URL:https://www.piercingken.com/event/the-meadows-music-and-arts-festival-citi-field/
LOCATION:Citi Field\, 123-01 Roosevelt Ave.\, Queens\, NY\, 11368\, United States
CATEGORIES:Concert
END:VEVENT
BEGIN:VEVENT
DTSTART;VALUE=DATE:20170916
DTEND;VALUE=DATE:20170917
DTSTAMP:20260422T093708
CREATED:20170714T223833Z
LAST-MODIFIED:20170715T004435Z
UID:30563-1505520000-1505606399@www.piercingken.com
SUMMARY:World's Fair Nano @ Brooklyn Expo Center
DESCRIPTION:Their press said it best “Join us for a whirlwind two-day festival filled with mind-blowing technology\, futurist talks\, interactive art\, live music\, food\, and more. Worlds Fair Nano will reveal new possibilities on the horizon”.  I’m game and you should be too. \n \nLike this:Like Loading...
URL:https://www.piercingken.com/event/worlds-fair-nano-brooklyn-expo-center/
LOCATION:Brooklyn Expo Center\, 72 Noble Street\, Brooklyn\, NY\, 11222\, United States
CATEGORIES:Festival - Fair
END:VEVENT
BEGIN:VEVENT
DTSTART;VALUE=DATE:20170916
DTEND;VALUE=DATE:20170917
DTSTAMP:20260422T093708
CREATED:20170801T025145Z
LAST-MODIFIED:20170801T025438Z
UID:30633-1505520000-1505606399@www.piercingken.com
SUMMARY:The Meadows Music and Arts Festival @ Citi Field
DESCRIPTION:Like this:Like Loading...
URL:https://www.piercingken.com/event/the-meadows-music-and-arts-festival-citi-field-2/
LOCATION:Citi Field\, 123-01 Roosevelt Ave.\, Queens\, NY\, 11368\, United States
CATEGORIES:Concert
END:VEVENT
BEGIN:VEVENT
DTSTART;TZID=America/New_York:20170916T100000
DTEND;TZID=America/New_York:20170916T190000
DTSTAMP:20260422T093708
CREATED:20170814T212609Z
LAST-MODIFIED:20170814T212609Z
UID:30827-1505556000-1505588400@www.piercingken.com
SUMMARY:New York Renaissance Faire @ Tuxedo Park
DESCRIPTION:The New York Renaissance Faire celebrates its 40th Season with this years event.  Don’t miss out on all of the colorful fun and awesome eats.  This will run every weekend until October. \n \nLike this:Like Loading...
URL:https://www.piercingken.com/event/new-york-renaissance-faire-tuxedo-park-14/
LOCATION:Tuxedo Park\, 600 NY-17A\, Tuxedo\, NY\, 10987\, United States
CATEGORIES:Festival - Fair
END:VEVENT
BEGIN:VEVENT
DTSTART;TZID=America/New_York:20170916T100000
DTEND;TZID=America/New_York:20170916T200000
DTSTAMP:20260422T093708
CREATED:20171001T173212Z
LAST-MODIFIED:20171001T173212Z
UID:31171-1505556000-1505592000@www.piercingken.com
SUMMARY:Great Irish Fair @ Ford Ampitheater at Coney Island Boardwalk
DESCRIPTION:Come out tomorrow to Coney Island’s Ford Amphitheater for a day of good music\, local vendors\, good food and cold drinks! Entertainment by our good friends Unforgettable Fire\, The Canny Brothers\, Derek Warfield\, Andy Cooney and more! Tickets are $20 at the door\, and children under 14 are free! \n \nLike this:Like Loading...
URL:https://www.piercingken.com/event/great-irish-fair-ford-ampitheater-at-coney-island-boardwalk/
LOCATION:Ford Ampitheater at Coney Island Boardwalk\, 3052 West 21 Street\, Brooklyn\, NY\, United States
CATEGORIES:Festival - Fair
END:VEVENT
BEGIN:VEVENT
DTSTART;VALUE=DATE:20170917
DTEND;VALUE=DATE:20170918
DTSTAMP:20260422T093708
CREATED:20170715T004636Z
LAST-MODIFIED:20170715T004636Z
UID:30562-1505606400-1505692799@www.piercingken.com
SUMMARY:World's Fair Nano @ Brooklyn Expo Center
DESCRIPTION:Their press said it best “Join us for a whirlwind two-day festival filled with mind-blowing technology\, futurist talks\, interactive art\, live music\, food\, and more. Worlds Fair Nano will reveal new possibilities on the horizon”.  I’m game and you should be too. \n \nLike this:Like Loading...
URL:https://www.piercingken.com/event/worlds-fair-nano-brooklyn-expo-center-2/
LOCATION:Brooklyn Expo Center\, 72 Noble Street\, Brooklyn\, NY\, 11222\, United States
CATEGORIES:Festival - Fair
END:VEVENT
BEGIN:VEVENT
DTSTART;VALUE=DATE:20170917
DTEND;VALUE=DATE:20170918
DTSTAMP:20260422T093708
CREATED:20170801T025223Z
LAST-MODIFIED:20170801T025455Z
UID:30634-1505606400-1505692799@www.piercingken.com
SUMMARY:The Meadows Music and Arts Festival @ Citi Field
DESCRIPTION:Like this:Like Loading...
URL:https://www.piercingken.com/event/the-meadows-music-and-arts-festival-citi-field-3/
LOCATION:Citi Field\, 123-01 Roosevelt Ave.\, Queens\, NY\, 11368\, United States
CATEGORIES:Concert
END:VEVENT
BEGIN:VEVENT
DTSTART;TZID=America/New_York:20170917T100000
DTEND;TZID=America/New_York:20170917T180000
DTSTAMP:20260422T093708
CREATED:20170605T010033Z
LAST-MODIFIED:20170605T010318Z
UID:29398-1505642400-1505671200@www.piercingken.com
SUMMARY:Brooklyn Book Festival @ Brooklyn Borough Hall
DESCRIPTION:The Brooklyn Book Festival is the largest free literary event in New York City\, presenting an array of national and international literary stars and emerging authors. The Festival includes a week of Bookend Events taking place throughout New York City\, a lively Children’s Day and a celebratory Festival Day with more than 300 authors and 200 booksellers. \nLike this:Like Loading...
URL:https://www.piercingken.com/event/brooklyn-book-festival-brooklyn-borough-hall/
LOCATION:Brooklyn Borough Hall\, 209 Joralemon Street\, Brooklyn\, NY\, 11201\, United States
CATEGORIES:Festival - Fair
END:VEVENT
BEGIN:VEVENT
DTSTART;TZID=America/New_York:20170917T100000
DTEND;TZID=America/New_York:20170917T190000
DTSTAMP:20260422T093708
CREATED:20170814T212736Z
LAST-MODIFIED:20170814T212736Z
UID:30828-1505642400-1505674800@www.piercingken.com
SUMMARY:New York Renaissance Faire @ Tuxedo Park
DESCRIPTION:The New York Renaissance Faire celebrates its 40th Season with this years event.  Don’t miss out on all of the colorful fun and awesome eats.  This will run every weekend until October. \n \nLike this:Like Loading...
URL:https://www.piercingken.com/event/new-york-renaissance-faire-tuxedo-park-15/
LOCATION:Tuxedo Park\, 600 NY-17A\, Tuxedo\, NY\, 10987\, United States
CATEGORIES:Festival - Fair
END:VEVENT
BEGIN:VEVENT
DTSTART;TZID=America/New_York:20170920T200000
DTEND;TZID=America/New_York:20170920T200000
DTSTAMP:20260422T093708
CREATED:20170828T005005Z
LAST-MODIFIED:20171003T031139Z
UID:30914-1505937600-1505937600@www.piercingken.com
SUMMARY:“Beetlejuice” Free Screening @ Brooklyn Bazaar
DESCRIPTION:This screening takes place in the Main Ballroom! Seating is first come first served. Restaurant and bar open before\, during and after the movie! \n“When a recently-deceased ghost couple find their now-vacant home invaded by an obnoxious family\, they hire a sleazy ghost who gets rid of humans to help them.” \nRegister for this event via the provided link below. \nLike this:Like Loading...
URL:https://www.piercingken.com/event/beetlejuice-free-screening-brooklyn-bazaar/
LOCATION:Brooklyn Bazaar\, 150 Greenpoint Avenue\, Brooklyn\, NY\, 11222\, United States
CATEGORIES:Film Opening
END:VEVENT
END:VCALENDAR