BEGIN:VCALENDAR
VERSION:2.0
PRODID:-//The Chronicles Of PiercingKen - ECPv6.15.20//NONSGML v1.0//EN
CALSCALE:GREGORIAN
METHOD:PUBLISH
X-WR-CALNAME:The Chronicles Of PiercingKen
X-ORIGINAL-URL:https://www.piercingken.com
X-WR-CALDESC:Events for The Chronicles Of PiercingKen
REFRESH-INTERVAL;VALUE=DURATION:PT1H
X-Robots-Tag:noindex
X-PUBLISHED-TTL:PT1H
BEGIN:VTIMEZONE
TZID:America/New_York
BEGIN:DAYLIGHT
TZOFFSETFROM:-0500
TZOFFSETTO:-0400
TZNAME:EDT
DTSTART:20160313T070000
END:DAYLIGHT
BEGIN:STANDARD
TZOFFSETFROM:-0400
TZOFFSETTO:-0500
TZNAME:EST
DTSTART:20161106T060000
END:STANDARD
BEGIN:DAYLIGHT
TZOFFSETFROM:-0500
TZOFFSETTO:-0400
TZNAME:EDT
DTSTART:20170312T070000
END:DAYLIGHT
BEGIN:STANDARD
TZOFFSETFROM:-0400
TZOFFSETTO:-0500
TZNAME:EST
DTSTART:20171105T060000
END:STANDARD
BEGIN:DAYLIGHT
TZOFFSETFROM:-0500
TZOFFSETTO:-0400
TZNAME:EDT
DTSTART:20180311T070000
END:DAYLIGHT
BEGIN:STANDARD
TZOFFSETFROM:-0400
TZOFFSETTO:-0500
TZNAME:EST
DTSTART:20181104T060000
END:STANDARD
END:VTIMEZONE
BEGIN:VEVENT
DTSTART;TZID=America/New_York:20171126T100000
DTEND;TZID=America/New_York:20171126T180000
DTSTAMP:20260425T095910
CREATED:20171125T151138Z
LAST-MODIFIED:20171125T151138Z
UID:31622-1511690400-1511719200@www.piercingken.com
SUMMARY:NY Handmade Collective @ Brooklyn Art Library
DESCRIPTION:Experience\, learn\, and shop as more than 70 indie vendors from across the Tri-State Area showcase their work in four different markets at four different locations in Manhattan and Brooklyn.  The 2017 holiday season kicks off with “Making New York-Small Business Saturday®/Weekend Market” at the Brooklyn Art Library in Williamsburg on Saturday November 25th and Sunday November 26th. \nLike this:Like Loading...
URL:https://www.piercingken.com/event/ny-handmade-collective-brooklyn-art-library-2/
LOCATION:Brooklyn Art Library\, 28 Frost Street\, Brooklyn\, NY\, 11211\, United States
CATEGORIES:Festival - Fair
END:VEVENT
BEGIN:VEVENT
DTSTART;TZID=America/New_York:20171125T200000
DTEND;TZID=America/New_York:20171125T200000
DTSTAMP:20260425T095910
CREATED:20170813T032040Z
LAST-MODIFIED:20170831T183237Z
UID:30770-1511640000-1511640000@www.piercingken.com
SUMMARY:Bruce Springsteen @ Walter Kerr Theatre
DESCRIPTION:“The Boss” is on Broadway. Fans don’t want to miss the legendary performers first-ever residency show. Bruce will discuss his life and personal stories with guitar and piano.  \n \nLike this:Like Loading...
URL:https://www.piercingken.com/event/bruce-springsteen-walter-kerr-theatre-38/
LOCATION:Walter Kerr Theatre\, 219 W 48th St\, New York\, NY\, 10036\, United States
CATEGORIES:Concert
END:VEVENT
BEGIN:VEVENT
DTSTART;TZID=America/New_York:20171125T193000
DTEND;TZID=America/New_York:20171125T193000
DTSTAMP:20260425T095910
CREATED:20171113T151554Z
LAST-MODIFIED:20171113T152936Z
UID:31568-1511638200-1511638200@www.piercingken.com
SUMMARY:Bob Dylan @ Beacon Theatre
DESCRIPTION:Bob Dylan and His Band will appear with Mavis Staples as support for a five-night residency at the famed Beacon Theatre. \n \nLike this:Like Loading...
URL:https://www.piercingken.com/event/bob-dylan-beacon-theatre-5/
LOCATION:Beacon Theatre\, 2124 Broadway\, New York\, NY\, 10023\, United States
CATEGORIES:Concert
END:VEVENT
BEGIN:VEVENT
DTSTART;TZID=America/New_York:20171125T100000
DTEND;TZID=America/New_York:20171125T180000
DTSTAMP:20260425T095910
CREATED:20171125T151102Z
LAST-MODIFIED:20171125T151102Z
UID:31621-1511604000-1511632800@www.piercingken.com
SUMMARY:NY Handmade Collective @ Brooklyn Art Library
DESCRIPTION:Experience\, learn\, and shop as more than 70 indie vendors from across the Tri-State Area showcase their work in four different markets at four different locations in Manhattan and Brooklyn.  The 2017 holiday season kicks off with “Making New York-Small Business Saturday®/Weekend Market” at the Brooklyn Art Library in Williamsburg on Saturday November 25th and Sunday November 26th. \nLike this:Like Loading...
URL:https://www.piercingken.com/event/ny-handmade-collective-brooklyn-art-library/
LOCATION:Brooklyn Art Library\, 28 Frost Street\, Brooklyn\, NY\, 11211\, United States
CATEGORIES:Festival - Fair
END:VEVENT
BEGIN:VEVENT
DTSTART;TZID=America/New_York:20171124T200000
DTEND;TZID=America/New_York:20171124T200000
DTSTAMP:20260425T095910
CREATED:20170813T032025Z
LAST-MODIFIED:20170831T183230Z
UID:30769-1511553600-1511553600@www.piercingken.com
SUMMARY:Bruce Springsteen @ Walter Kerr Theatre
DESCRIPTION:“The Boss” is on Broadway. Fans don’t want to miss the legendary performers first-ever residency show. Bruce will discuss his life and personal stories with guitar and piano.  \n \nLike this:Like Loading...
URL:https://www.piercingken.com/event/bruce-springsteen-walter-kerr-theatre-37/
LOCATION:Walter Kerr Theatre\, 219 W 48th St\, New York\, NY\, 10036\, United States
CATEGORIES:Concert
END:VEVENT
BEGIN:VEVENT
DTSTART;TZID=America/New_York:20171124T193000
DTEND;TZID=America/New_York:20171124T193000
DTSTAMP:20260425T095910
CREATED:20171113T151513Z
LAST-MODIFIED:20171113T152922Z
UID:31567-1511551800-1511551800@www.piercingken.com
SUMMARY:Bob Dylan @ Beacon Theatre
DESCRIPTION:Bob Dylan and His Band will appear with Mavis Staples as support for a five-night residency at the famed Beacon Theatre. \n \nLike this:Like Loading...
URL:https://www.piercingken.com/event/bob-dylan-beacon-theatre-4/
LOCATION:Beacon Theatre\, 2124 Broadway\, New York\, NY\, 10023\, United States
CATEGORIES:Concert
END:VEVENT
BEGIN:VEVENT
DTSTART;TZID=America/New_York:20171122T200000
DTEND;TZID=America/New_York:20171122T200000
DTSTAMP:20260425T095910
CREATED:20170813T031141Z
LAST-MODIFIED:20170831T183223Z
UID:30756-1511380800-1511380800@www.piercingken.com
SUMMARY:Bruce Springsteen @ Walter Kerr Theatre
DESCRIPTION:“The Boss” is on Broadway. Fans don’t want to miss the legendary performers first-ever residency show. Bruce will discuss his life and personal stories with guitar and piano.  \n \nLike this:Like Loading...
URL:https://www.piercingken.com/event/bruce-springsteen-walter-kerr-theatre-36/
LOCATION:Walter Kerr Theatre\, 219 W 48th St\, New York\, NY\, 10036\, United States
CATEGORIES:Concert
END:VEVENT
BEGIN:VEVENT
DTSTART;TZID=America/New_York:20171122T193000
DTEND;TZID=America/New_York:20171122T193000
DTSTAMP:20260425T095910
CREATED:20171113T150015Z
LAST-MODIFIED:20171113T152910Z
UID:31566-1511379000-1511379000@www.piercingken.com
SUMMARY:Bob Dylan @ Beacon Theatre
DESCRIPTION:Bob Dylan and His Band will appear with Mavis Staples as support for a five-night residency at the famed Beacon Theatre. \n \nLike this:Like Loading...
URL:https://www.piercingken.com/event/bob-dylan-beacon-theatre-3/
LOCATION:Beacon Theatre\, 2124 Broadway\, New York\, NY\, 10023\, United States
CATEGORIES:Concert
END:VEVENT
BEGIN:VEVENT
DTSTART;TZID=America/New_York:20171121T200000
DTEND;TZID=America/New_York:20171121T200000
DTSTAMP:20260425T095910
CREATED:20170813T031129Z
LAST-MODIFIED:20170831T183215Z
UID:30755-1511294400-1511294400@www.piercingken.com
SUMMARY:Bruce Springsteen @ Walter Kerr Theatre
DESCRIPTION:“The Boss” is on Broadway. Fans don’t want to miss the legendary performers first-ever residency show. Bruce will discuss his life and personal stories with guitar and piano.  \n \nLike this:Like Loading...
URL:https://www.piercingken.com/event/bruce-springsteen-walter-kerr-theatre-35/
LOCATION:Walter Kerr Theatre\, 219 W 48th St\, New York\, NY\, 10036\, United States
CATEGORIES:Concert
END:VEVENT
BEGIN:VEVENT
DTSTART;TZID=America/New_York:20171121T193000
DTEND;TZID=America/New_York:20171121T193000
DTSTAMP:20260425T095910
CREATED:20171113T145832Z
LAST-MODIFIED:20171113T152455Z
UID:31565-1511292600-1511292600@www.piercingken.com
SUMMARY:Bob Dylan @ Beacon Theatre
DESCRIPTION:Bob Dylan and His Band will appear with Mavis Staples as support for a five-night residency at the famed Beacon Theatre. \n \nLike this:Like Loading...
URL:https://www.piercingken.com/event/bob-dylan-beacon-theatre-2/
LOCATION:Beacon Theatre\, 2124 Broadway\, New York\, NY\, 10023\, United States
CATEGORIES:Concert
END:VEVENT
BEGIN:VEVENT
DTSTART;TZID=America/New_York:20171120T193000
DTEND;TZID=America/New_York:20171120T193000
DTSTAMP:20260425T095910
CREATED:20171113T145748Z
LAST-MODIFIED:20171113T152308Z
UID:31564-1511206200-1511206200@www.piercingken.com
SUMMARY:Bob Dylan @ Beacon Theatre
DESCRIPTION:Bob Dylan and His Band will appear with Mavis Staples as support for a five-night residency at the famed Beacon Theatre. \n \nLike this:Like Loading...
URL:https://www.piercingken.com/event/bob-dylan-beacon-theatre/
LOCATION:Beacon Theatre\, 2124 Broadway\, New York\, NY\, 10023\, United States
CATEGORIES:Concert
END:VEVENT
BEGIN:VEVENT
DTSTART;TZID=America/New_York:20171118T200000
DTEND;TZID=America/New_York:20171118T200000
DTSTAMP:20260425T095910
CREATED:20170813T031119Z
LAST-MODIFIED:20170831T183157Z
UID:30754-1511035200-1511035200@www.piercingken.com
SUMMARY:Bruce Springsteen @ Walter Kerr Theatre
DESCRIPTION:“The Boss” is on Broadway. Fans don’t want to miss the legendary performers first-ever residency show. Bruce will discuss his life and personal stories with guitar and piano.  \n \nLike this:Like Loading...
URL:https://www.piercingken.com/event/bruce-springsteen-walter-kerr-theatre-34/
LOCATION:Walter Kerr Theatre\, 219 W 48th St\, New York\, NY\, 10036\, United States
CATEGORIES:Concert
END:VEVENT
BEGIN:VEVENT
DTSTART;TZID=America/New_York:20171118T200000
DTEND;TZID=America/New_York:20171118T200000
DTSTAMP:20260425T095910
CREATED:20170609T010524Z
LAST-MODIFIED:20170609T010804Z
UID:29528-1511035200-1511035200@www.piercingken.com
SUMMARY:Billy Joel @ Madison Square Garden
DESCRIPTION:Billy Joel performs as a part of his monthly residency at NYC’s own Madison Square Garden. This will be a night full of singalong hits for sure so don’t miss out if you can snag a ticket. The numbers keep climbing for this record-breaking residency. \n \nLike this:Like Loading...
URL:https://www.piercingken.com/event/billy-joel-madison-square-garden-10/
LOCATION:Madison Square Garden\, 4 Pennsylvania Plaza\, New York\, NY\, 10001\, United States
CATEGORIES:Concert
END:VEVENT
BEGIN:VEVENT
DTSTART;TZID=America/New_York:20171117T200000
DTEND;TZID=America/New_York:20171117T200000
DTSTAMP:20260425T095910
CREATED:20170813T031108Z
LAST-MODIFIED:20170831T183149Z
UID:30753-1510948800-1510948800@www.piercingken.com
SUMMARY:Bruce Springsteen @ Walter Kerr Theatre
DESCRIPTION:“The Boss” is on Broadway. Fans don’t want to miss the legendary performers first-ever residency show. Bruce will discuss his life and personal stories with guitar and piano.  \n \nLike this:Like Loading...
URL:https://www.piercingken.com/event/bruce-springsteen-walter-kerr-theatre-33/
LOCATION:Walter Kerr Theatre\, 219 W 48th St\, New York\, NY\, 10036\, United States
CATEGORIES:Concert
END:VEVENT
BEGIN:VEVENT
DTSTART;TZID=America/New_York:20171116T200000
DTEND;TZID=America/New_York:20171116T200000
DTSTAMP:20260425T095910
CREATED:20170813T031055Z
LAST-MODIFIED:20170831T183142Z
UID:30752-1510862400-1510862400@www.piercingken.com
SUMMARY:Bruce Springsteen @ Walter Kerr Theatre
DESCRIPTION:“The Boss” is on Broadway. Fans don’t want to miss the legendary performers first-ever residency show. Bruce will discuss his life and personal stories with guitar and piano.  \n \nLike this:Like Loading...
URL:https://www.piercingken.com/event/bruce-springsteen-walter-kerr-theatre-32/
LOCATION:Walter Kerr Theatre\, 219 W 48th St\, New York\, NY\, 10036\, United States
CATEGORIES:Concert
END:VEVENT
BEGIN:VEVENT
DTSTART;TZID=America/New_York:20171115T200000
DTEND;TZID=America/New_York:20171115T200000
DTSTAMP:20260425T095910
CREATED:20170813T031041Z
LAST-MODIFIED:20170831T183135Z
UID:30751-1510776000-1510776000@www.piercingken.com
SUMMARY:Bruce Springsteen @ Walter Kerr Theatre
DESCRIPTION:“The Boss” is on Broadway. Fans don’t want to miss the legendary performers first-ever residency show. Bruce will discuss his life and personal stories with guitar and piano.  \n \nLike this:Like Loading...
URL:https://www.piercingken.com/event/bruce-springsteen-walter-kerr-theatre-31/
LOCATION:Walter Kerr Theatre\, 219 W 48th St\, New York\, NY\, 10036\, United States
CATEGORIES:Concert
END:VEVENT
BEGIN:VEVENT
DTSTART;TZID=America/New_York:20171115T100000
DTEND;TZID=America/New_York:20171115T200000
DTSTAMP:20260425T095910
CREATED:20171109T031933Z
LAST-MODIFIED:20240309T194219Z
UID:31532-1510740000-1510776000@www.piercingken.com
SUMMARY:Canstruction New York @ Brookfield Place
DESCRIPTION:The “Canstruction” New York 2017 exhibit is open to the public until 11/15 at the beautiful Brookfield Place. Do stop by and consider donating some canned goods for the City Harvest charity as well.  \n \nLike this:Like Loading...
URL:https://www.piercingken.com/event/canstruction-new-york-brookfield-place-14/
LOCATION:Brookfield Place\, 230 Vesey Street\, New York\, NY\, 10281\, United States
CATEGORIES:Art Fair
END:VEVENT
BEGIN:VEVENT
DTSTART;TZID=America/New_York:20171114T200000
DTEND;TZID=America/New_York:20171114T200000
DTSTAMP:20260425T095910
CREATED:20170813T031029Z
LAST-MODIFIED:20170831T183110Z
UID:30750-1510689600-1510689600@www.piercingken.com
SUMMARY:Bruce Springsteen @ Walter Kerr Theatre
DESCRIPTION:“The Boss” is on Broadway. Fans don’t want to miss the legendary performers first-ever residency show. Bruce will discuss his life and personal stories with guitar and piano.  \n \nLike this:Like Loading...
URL:https://www.piercingken.com/event/bruce-springsteen-walter-kerr-theatre-30/
LOCATION:Walter Kerr Theatre\, 219 W 48th St\, New York\, NY\, 10036\, United States
CATEGORIES:Concert
END:VEVENT
BEGIN:VEVENT
DTSTART;TZID=America/New_York:20171114T100000
DTEND;TZID=America/New_York:20171114T200000
DTSTAMP:20260425T095910
CREATED:20171109T031828Z
LAST-MODIFIED:20240309T194112Z
UID:31515-1510653600-1510689600@www.piercingken.com
SUMMARY:Canstruction New York @ Brookfield Place
DESCRIPTION:The “Canstruction” New York 2017 exhibit is open to the public until 11/15 at the beautiful Brookfield Place. Do stop by and consider donating some canned goods for the City Harvest charity as well.  \n \nLike this:Like Loading...
URL:https://www.piercingken.com/event/canstruction-new-york-brookfield-place-13/
LOCATION:Brookfield Place\, 230 Vesey Street\, New York\, NY\, 10281\, United States
CATEGORIES:Art Fair
END:VEVENT
BEGIN:VEVENT
DTSTART;TZID=America/New_York:20171113T100000
DTEND;TZID=America/New_York:20171113T200000
DTSTAMP:20260425T095910
CREATED:20171109T031654Z
LAST-MODIFIED:20240309T194055Z
UID:31514-1510567200-1510603200@www.piercingken.com
SUMMARY:Canstruction New York @ Brookfield Place
DESCRIPTION:The “Canstruction” New York 2017 exhibit is open to the public until 11/15 at the beautiful Brookfield Place. Do stop by and consider donating some canned goods for the City Harvest charity as well.  \n \nLike this:Like Loading...
URL:https://www.piercingken.com/event/canstruction-new-york-brookfield-place-12/
LOCATION:Brookfield Place\, 230 Vesey Street\, New York\, NY\, 10281\, United States
CATEGORIES:Art Fair
END:VEVENT
BEGIN:VEVENT
DTSTART;TZID=America/New_York:20171112T120000
DTEND;TZID=America/New_York:20171112T170000
DTSTAMP:20260425T095910
CREATED:20171113T022855Z
LAST-MODIFIED:20171113T023532Z
UID:31548-1510488000-1510506000@www.piercingken.com
SUMMARY:"Witches Night Out" Fall Market @ Bat Haus Coworking Space
DESCRIPTION:Per the listing “Keep the season of the witch alive into November (and get a head start on holiday shopping) at Babe Coven’s 2nd Annual Witches’ Night Out Fall Market! A TWO DAY event celebrating all things mystical\, macabre\, and magical\, we’ve hand-curated a selection of over 30 vendors slinging witchy wares\, from art and jewels to candles and soaps.” \n \nLike this:Like Loading...
URL:https://www.piercingken.com/event/witches-night-out-fall-market-bat-haus-coworking-space-2/
LOCATION:Bat Haus Coworking Space\, 279 Starr St\, Brooklyn\, NY\, 11237\, United States
CATEGORIES:Festival - Fair
END:VEVENT
BEGIN:VEVENT
DTSTART;TZID=America/New_York:20171112T100000
DTEND;TZID=America/New_York:20171112T200000
DTSTAMP:20260425T095910
CREATED:20171109T030739Z
LAST-MODIFIED:20240309T193643Z
UID:31513-1510480800-1510516800@www.piercingken.com
SUMMARY:Canstruction New York @ Brookfield Place
DESCRIPTION:The “Canstruction” New York 2017 exhibit is open to the public until 11/15 at the beautiful Brookfield Place. Do stop by and consider donating some canned goods for the City Harvest charity as well.  \n \nLike this:Like Loading...
URL:https://www.piercingken.com/event/canstruction-new-york-brookfield-place-11/
LOCATION:Brookfield Place\, 230 Vesey Street\, New York\, NY\, 10281\, United States
CATEGORIES:Art Fair
END:VEVENT
BEGIN:VEVENT
DTSTART;TZID=America/New_York:20171111T200000
DTEND;TZID=America/New_York:20171111T200000
DTSTAMP:20260425T095910
CREATED:20170813T025915Z
LAST-MODIFIED:20170831T183104Z
UID:30749-1510430400-1510430400@www.piercingken.com
SUMMARY:Bruce Springsteen @ Walter Kerr Theatre
DESCRIPTION:“The Boss” is on Broadway. Fans don’t want to miss the legendary performers first-ever residency show. Bruce will discuss his life and personal stories with guitar and piano.  \n \nLike this:Like Loading...
URL:https://www.piercingken.com/event/bruce-springsteen-walter-kerr-theatre-29/
LOCATION:Walter Kerr Theatre\, 219 W 48th St\, New York\, NY\, 10036\, United States
CATEGORIES:Concert
END:VEVENT
BEGIN:VEVENT
DTSTART;TZID=America/New_York:20171111T170000
DTEND;TZID=America/New_York:20171111T230000
DTSTAMP:20260425T095910
CREATED:20171108T170041Z
LAST-MODIFIED:20171113T023501Z
UID:31547-1510419600-1510441200@www.piercingken.com
SUMMARY:"Witches Night Out" Fall Market @ Bat Haus Coworking Space
DESCRIPTION:Per the listing “Keep the season of the witch alive into November (and get a head start on holiday shopping) at Babe Coven’s 2nd Annual Witches’ Night Out Fall Market! A TWO DAY event celebrating all things mystical\, macabre\, and magical\, we’ve hand-curated a selection of over 30 vendors slinging witchy wares\, from art and jewels to candles and soaps.” \n \nLike this:Like Loading...
URL:https://www.piercingken.com/event/witches-night-out-fall-market-bat-haus-coworking-space/
LOCATION:Bat Haus Coworking Space\, 279 Starr St\, Brooklyn\, NY\, 11237\, United States
CATEGORIES:Festival - Fair
END:VEVENT
BEGIN:VEVENT
DTSTART;TZID=America/New_York:20171111T100000
DTEND;TZID=America/New_York:20171111T200000
DTSTAMP:20260425T095910
CREATED:20171109T030712Z
LAST-MODIFIED:20240309T193631Z
UID:31512-1510394400-1510430400@www.piercingken.com
SUMMARY:Canstruction New York @ Brookfield Place
DESCRIPTION:The “Canstruction” New York 2017 exhibit is open to the public until 11/15 at the beautiful Brookfield Place. Do stop by and consider donating some canned goods for the City Harvest charity as well.  \n \nLike this:Like Loading...
URL:https://www.piercingken.com/event/canstruction-new-york-brookfield-place-10/
LOCATION:Brookfield Place\, 230 Vesey Street\, New York\, NY\, 10281\, United States
CATEGORIES:Art Fair
END:VEVENT
BEGIN:VEVENT
DTSTART;TZID=America/New_York:20171110T200000
DTEND;TZID=America/New_York:20171110T200000
DTSTAMP:20260425T095910
CREATED:20170813T025852Z
LAST-MODIFIED:20170831T183055Z
UID:30748-1510344000-1510344000@www.piercingken.com
SUMMARY:Bruce Springsteen @ Walter Kerr Theatre
DESCRIPTION:“The Boss” is on Broadway. Fans don’t want to miss the legendary performers first-ever residency show. Bruce will discuss his life and personal stories with guitar and piano.  \n \nLike this:Like Loading...
URL:https://www.piercingken.com/event/bruce-springsteen-walter-kerr-theatre-28/
LOCATION:Walter Kerr Theatre\, 219 W 48th St\, New York\, NY\, 10036\, United States
CATEGORIES:Concert
END:VEVENT
BEGIN:VEVENT
DTSTART;TZID=America/New_York:20171110T100000
DTEND;TZID=America/New_York:20171110T200000
DTSTAMP:20260425T095910
CREATED:20171109T030132Z
LAST-MODIFIED:20240309T193620Z
UID:31511-1510308000-1510344000@www.piercingken.com
SUMMARY:Canstruction New York @ Brookfield Place
DESCRIPTION:The “Canstruction” New York 2017 exhibit is open to the public until 11/15 at the beautiful Brookfield Place. Do stop by and consider donating some canned goods for the City Harvest charity as well. \n \nLike this:Like Loading...
URL:https://www.piercingken.com/event/canstruction-new-york-brookfield-place-9/
LOCATION:Brookfield Place\, 230 Vesey Street\, New York\, NY\, 10281\, United States
CATEGORIES:Art Fair
END:VEVENT
BEGIN:VEVENT
DTSTART;TZID=America/New_York:20171109T200000
DTEND;TZID=America/New_York:20171109T200000
DTSTAMP:20260425T095910
CREATED:20170813T025836Z
LAST-MODIFIED:20170831T183035Z
UID:30747-1510257600-1510257600@www.piercingken.com
SUMMARY:Bruce Springsteen @ Walter Kerr Theatre
DESCRIPTION:“The Boss” is on Broadway. Fans don’t want to miss the legendary performers first-ever residency show. Bruce will discuss his life and personal stories with guitar and piano.  \n \nLike this:Like Loading...
URL:https://www.piercingken.com/event/bruce-springsteen-walter-kerr-theatre-27/
LOCATION:Walter Kerr Theatre\, 219 W 48th St\, New York\, NY\, 10036\, United States
CATEGORIES:Concert
END:VEVENT
BEGIN:VEVENT
DTSTART;TZID=America/New_York:20171109T100000
DTEND;TZID=America/New_York:20171109T200000
DTSTAMP:20260425T095910
CREATED:20171109T024203Z
LAST-MODIFIED:20240309T193610Z
UID:31510-1510221600-1510257600@www.piercingken.com
SUMMARY:Canstruction New York @ Brookfield Place
DESCRIPTION:The “Canstruction” New York 2017 exhibit is open to the public until 11/15 at the beautiful Brookfield Place. Do stop by and consider donating some canned goods for the City Harvest charity as well.  \n \nLike this:Like Loading...
URL:https://www.piercingken.com/event/canstruction-new-york-brookfield-place-8/
LOCATION:Brookfield Place\, 230 Vesey Street\, New York\, NY\, 10281\, United States
CATEGORIES:Art Fair
END:VEVENT
BEGIN:VEVENT
DTSTART;VALUE=DATE:20171109
DTEND;VALUE=DATE:20171110
DTSTAMP:20260425T095910
CREATED:20170930T132808Z
LAST-MODIFIED:20170930T132808Z
UID:31167-1510185600-1510271999@www.piercingken.com
SUMMARY:Disney On Ice @ Barclays Center
DESCRIPTION:Join hosts Mickey Mouse and Minnie Mouse who will take their audiences on an expedition across raging seas and snow-covered mountains in this action-packed extravaganza when beloved characters from Disney’s Beauty and the Beast\, Frozen\, Tangled and Cinderella visit Newark\, NJ for the latest Disney On Ice presentation “Dare To Dream”. There are two “2” shows today with an 11AM\, and 7PM performance. \n \nLike this:Like Loading...
URL:https://www.piercingken.com/event/disney-on-ice-barclays-center/
LOCATION:Barclays Center\, 620 Atlantic Avenue\, Brooklyn\, NY\, 11217\, United States
END:VEVENT
END:VCALENDAR