BEGIN:VCALENDAR
VERSION:2.0
PRODID:-//The Chronicles Of PiercingKen - ECPv6.15.20//NONSGML v1.0//EN
CALSCALE:GREGORIAN
METHOD:PUBLISH
X-WR-CALNAME:The Chronicles Of PiercingKen
X-ORIGINAL-URL:https://www.piercingken.com
X-WR-CALDESC:Events for The Chronicles Of PiercingKen
REFRESH-INTERVAL;VALUE=DURATION:PT1H
X-Robots-Tag:noindex
X-PUBLISHED-TTL:PT1H
BEGIN:VTIMEZONE
TZID:America/New_York
BEGIN:DAYLIGHT
TZOFFSETFROM:-0500
TZOFFSETTO:-0400
TZNAME:EDT
DTSTART:20180311T070000
END:DAYLIGHT
BEGIN:STANDARD
TZOFFSETFROM:-0400
TZOFFSETTO:-0500
TZNAME:EST
DTSTART:20181104T060000
END:STANDARD
BEGIN:DAYLIGHT
TZOFFSETFROM:-0500
TZOFFSETTO:-0400
TZNAME:EDT
DTSTART:20190310T070000
END:DAYLIGHT
BEGIN:STANDARD
TZOFFSETFROM:-0400
TZOFFSETTO:-0500
TZNAME:EST
DTSTART:20191103T060000
END:STANDARD
BEGIN:DAYLIGHT
TZOFFSETFROM:-0500
TZOFFSETTO:-0400
TZNAME:EDT
DTSTART:20200308T070000
END:DAYLIGHT
BEGIN:STANDARD
TZOFFSETFROM:-0400
TZOFFSETTO:-0500
TZNAME:EST
DTSTART:20201101T060000
END:STANDARD
END:VTIMEZONE
BEGIN:VEVENT
DTSTART;TZID=America/New_York:20190825T120000
DTEND;TZID=America/New_York:20190825T200000
DTSTAMP:20260419T205448
CREATED:20190815T120007Z
LAST-MODIFIED:20190824T163126Z
UID:41077-1566734400-1566763200@www.piercingken.com
SUMMARY:Grace Jamaican Jerk Festival @ Roy Wilkins Park
DESCRIPTION:The 9th Annual Grace Jamaican Jerk Festival NY\, has been rescheduled for Sunday\, August 25th 2019 in Roy Wilkins Park\, Queens from noon to 8:00 p.m. The festival will offer residents of greater NYC area a deliciously entertaining experience as they feast on spicy jerk cuisine\, enjoy hot music and bask in the cool festival vibes.  The original date was postponed due to the extreme heat (it hit upwards of 115 degrees that day). \n \nLike this:Like Loading...
URL:https://www.piercingken.com/event/grace-jamaican-jerk-festival-roy-wilkins-park-3/
LOCATION:Roy Wilkins Park\, 177-01 Baisley Blvd\, Jamaica\, NY\, 11434\, United States
CATEGORIES:Festival - Fair
END:VEVENT
BEGIN:VEVENT
DTSTART;VALUE=DATE:20190825
DTEND;VALUE=DATE:20190826
DTSTAMP:20260419T205448
CREATED:20190802T123024Z
LAST-MODIFIED:20190824T170551Z
UID:41082-1566691200-1566777599@www.piercingken.com
SUMMARY:Afropunk Brooklyn @ Commodore Barry Park
DESCRIPTION:The Afropunk Festival Brooklyn returns to Commodore Barry Park and is loaded with more artists than can be easily listed here.  Check the website in this listing for the scheduling and get yourself over there for two days of continuous music and night life. \n \nLike this:Like Loading...
URL:https://www.piercingken.com/event/afropunk-brooklyn-commodore-barry-park-6/
LOCATION:Commodore Barry Park\, Flushing Ave & N. Elliot Place\, Brooklyn\, NY\, 11201\, United States
CATEGORIES:Concert
END:VEVENT
BEGIN:VEVENT
DTSTART;VALUE=DATE:20190825
DTEND;VALUE=DATE:20190826
DTSTAMP:20260419T205448
CREATED:20190801T123018Z
LAST-MODIFIED:20190823T211758Z
UID:41066-1566691200-1566777599@www.piercingken.com
SUMMARY:D23 Expo @ Anaheim Convention Center
DESCRIPTION:The D23 Fan Expo will take over the Anaheim Convention Center for a few days and will be the place where all the magic and excitement of the past\, present\, and future of Disney entertainment comes together under one roof.  This is presented by The Official Disney Fan Club.   \n \nLike this:Like Loading...
URL:https://www.piercingken.com/event/d23-expo-anaheim-convention-center-3/
LOCATION:Anaheim Convention Center\, 800 West Katella Avenue\, Anaheim\, CA\, 92802\, United States
CATEGORIES:Convention
END:VEVENT
BEGIN:VEVENT
DTSTART;VALUE=DATE:20190825
DTEND;VALUE=DATE:20190826
DTSTAMP:20260419T205448
CREATED:20190722T124511Z
LAST-MODIFIED:20190722T171353Z
UID:40668-1566691200-1566777599@www.piercingken.com
SUMMARY:New York Renaissance Faire @ Tuxedo Park
DESCRIPTION:The New York Renaissance Faire is a recreation of a 16th century village filled with performers\, crafts\, games\, and food that gives guests the illusion of stepping back in time. The 42nd Annual New York Renaissance Faire features more than 125 performances on 20 stages\, and over 100 craftspeople\, all set within 65 acres of beautiful forest.  Children of a certain age come in at a discount and there is a season pass available as well.   \n \nLike this:Like Loading...
URL:https://www.piercingken.com/event/new-york-renaissance-faire-tuxedo-park-41/
LOCATION:Tuxedo Park\, 600 NY-17A\, Tuxedo\, NY\, 10987\, United States
CATEGORIES:Festival - Fair
END:VEVENT
BEGIN:VEVENT
DTSTART;VALUE=DATE:20190824
DTEND;VALUE=DATE:20190825
DTSTAMP:20260419T205448
CREATED:20190802T120017Z
LAST-MODIFIED:20190824T170548Z
UID:41081-1566604800-1566691199@www.piercingken.com
SUMMARY:Afropunk Brooklyn @ Commodore Barry Park
DESCRIPTION:The Afropunk Festival Brooklyn returns to Commodore Barry Park and is loaded with more artists than can be easily listed here.  Check the website in this listing for the scheduling and get yourself over there for two days of continuous music and night life. \n \nLike this:Like Loading...
URL:https://www.piercingken.com/event/afropunk-brooklyn-commodore-barry-park-5/
LOCATION:Commodore Barry Park\, Flushing Ave & N. Elliot Place\, Brooklyn\, NY\, 11201\, United States
CATEGORIES:Concert
END:VEVENT
BEGIN:VEVENT
DTSTART;VALUE=DATE:20190824
DTEND;VALUE=DATE:20190825
DTSTAMP:20260419T205448
CREATED:20190801T121515Z
LAST-MODIFIED:20190823T211736Z
UID:41065-1566604800-1566691199@www.piercingken.com
SUMMARY:D23 Expo @ Anaheim Convention Center
DESCRIPTION:The D23 Fan Expo will take over the Anaheim Convention Center for a few days and will be the place where all the magic and excitement of the past\, present\, and future of Disney entertainment comes together under one roof.  This is presented by The Official Disney Fan Club.   \n \nLike this:Like Loading...
URL:https://www.piercingken.com/event/d23-expo-anaheim-convention-center-2/
LOCATION:Anaheim Convention Center\, 800 West Katella Avenue\, Anaheim\, CA\, 92802\, United States
CATEGORIES:Convention
END:VEVENT
BEGIN:VEVENT
DTSTART;VALUE=DATE:20190824
DTEND;VALUE=DATE:20190825
DTSTAMP:20260419T205448
CREATED:20190722T123007Z
LAST-MODIFIED:20190722T171136Z
UID:40667-1566604800-1566691199@www.piercingken.com
SUMMARY:New York Renaissance Faire @ Tuxedo Park
DESCRIPTION:The New York Renaissance Faire is a recreation of a 16th century village filled with performers\, crafts\, games\, and food that gives guests the illusion of stepping back in time. The 42nd Annual New York Renaissance Faire features more than 125 performances on 20 stages\, and over 100 craftspeople\, all set within 65 acres of beautiful forest.  Children of a certain age come in at a discount and there is a season pass available as well.   \n \nLike this:Like Loading...
URL:https://www.piercingken.com/event/new-york-renaissance-faire-tuxedo-park-40/
LOCATION:Tuxedo Park\, 600 NY-17A\, Tuxedo\, NY\, 10987\, United States
CATEGORIES:Festival - Fair
END:VEVENT
BEGIN:VEVENT
DTSTART;TZID=America/New_York:20190823T070000
DTEND;TZID=America/New_York:20190823T090000
DTSTAMP:20260419T205448
CREATED:20190504T174507Z
LAST-MODIFIED:20190513T230042Z
UID:39611-1566543600-1566550800@www.piercingken.com
SUMMARY:French Montana @ Rumsey Playfield
DESCRIPTION:French Montana performs as a part of the Good Morning America “Summer Concert Series” for 2019.  Be sure to hit their Official Website\, Facebook or Twitter to learn how you can attend the show.  Please note that these events are early in the AM so you should plan accordingly.   \n \nLike this:Like Loading...
URL:https://www.piercingken.com/event/french-montana-rumsey-playfield/
LOCATION:Central Park Rumsey Playfield\, East 71st Street\, New York\, NY\, 10021\, United States
CATEGORIES:Concert
END:VEVENT
BEGIN:VEVENT
DTSTART;VALUE=DATE:20190823
DTEND;VALUE=DATE:20190824
DTSTAMP:20260419T205448
CREATED:20190801T120017Z
LAST-MODIFIED:20190823T211454Z
UID:41059-1566518400-1566604799@www.piercingken.com
SUMMARY:D23 Expo @ Anaheim Convention Center
DESCRIPTION:The D23 Fan Expo will take over the Anaheim Convention Center for a few days and will be the place where all the magic and excitement of the past\, present\, and future of Disney entertainment comes together under one roof.  This is presented by The Official Disney Fan Club.   \n \nLike this:Like Loading...
URL:https://www.piercingken.com/event/d23-expo-anaheim-convention-center/
LOCATION:Anaheim Convention Center\, 800 West Katella Avenue\, Anaheim\, CA\, 92802\, United States
CATEGORIES:Convention
END:VEVENT
BEGIN:VEVENT
DTSTART;TZID=America/New_York:20190818T120000
DTEND;TZID=America/New_York:20190818T180000
DTSTAMP:20260419T205448
CREATED:20190121T133036Z
LAST-MODIFIED:20190815T190237Z
UID:30792-1566129600-1566151200@www.piercingken.com
SUMMARY:Flame Con @ Sheraton Times Square
DESCRIPTION:Flame Con is the world’s only LGBTQ comic convention and it returns to Times Square for its 5th Annual event.  Sponsored by the folks at Geeks Out\, its a great event to support your favorite artists\, enjoy some panels and lots of cosplay at a fun-filled event. \n \nLike this:Like Loading...
URL:https://www.piercingken.com/event/flame-con-sheraton-times-square-4/
LOCATION:Sheraton Times Square\, 811-7th Ave\, New York\, NY\, 10019\, United States
CATEGORIES:Convention
END:VEVENT
BEGIN:VEVENT
DTSTART;VALUE=DATE:20190818
DTEND;VALUE=DATE:20190819
DTSTAMP:20260419T205448
CREATED:20190722T121500Z
LAST-MODIFIED:20190722T171043Z
UID:40666-1566086400-1566172799@www.piercingken.com
SUMMARY:New York Renaissance Faire @ Tuxedo Park
DESCRIPTION:The New York Renaissance Faire is a recreation of a 16th century village filled with performers\, crafts\, games\, and food that gives guests the illusion of stepping back in time. The 42nd Annual New York Renaissance Faire features more than 125 performances on 20 stages\, and over 100 craftspeople\, all set within 65 acres of beautiful forest.  Children of a certain age come in at a discount and there is a season pass available as well.   \n \nLike this:Like Loading...
URL:https://www.piercingken.com/event/new-york-renaissance-faire-tuxedo-park-39/
LOCATION:Tuxedo Park\, 600 NY-17A\, Tuxedo\, NY\, 10987\, United States
CATEGORIES:Festival - Fair
END:VEVENT
BEGIN:VEVENT
DTSTART;VALUE=DATE:20190818
DTEND;VALUE=DATE:20190819
DTSTAMP:20260419T205448
CREATED:20190415T130057Z
LAST-MODIFIED:20190802T011548Z
UID:39004-1566086400-1566172799@www.piercingken.com
SUMMARY:CANCELLED: Woodstock 50 @ Merriweather Post Pavilion
DESCRIPTION:The 50th Anniversary of the Woodstock Festival was initially planned for Watkins Glen State Park and was moved to Maryland at the Merriweather Post Pavilion.  Sadly\, the hammer has come down and this entire event has been cancelled.  No refunds available as no tickets ever went on sale. \n \nLike this:Like Loading...
URL:https://www.piercingken.com/event/woodstock-50-merriweather-post-pavilion-3/
LOCATION:Merriweather Post Pavilion\, 10475 Little Patuxent Pkwy\, Columbia\, MD\, 21044\, United States
CATEGORIES:Concert
END:VEVENT
BEGIN:VEVENT
DTSTART;TZID=America/New_York:20190817T200000
DTEND;TZID=America/New_York:20190817T200000
DTSTAMP:20260419T205448
CREATED:20190601T164516Z
LAST-MODIFIED:20190726T180438Z
UID:40743-1566072000-1566072000@www.piercingken.com
SUMMARY:Barry Manilow @ Lunt-Fontanne Theatre
DESCRIPTION:The legendary Barry Manilow returns to Broadway for a limited engagement at the Lunt-Fontanne Theatre.  He’s planning on doing ALL of the hits that made him famous over the years so don’t miss your chance to enjoy his music in such intimate surroundings.   \n \nLike this:Like Loading...
URL:https://www.piercingken.com/event/barry-manilow-lunt-fontanne-theatre-17/
LOCATION:Lunt-Fontanne Theatre\, 205 West 46th Street\, New York\, NY\, 10036\, United States
CATEGORIES:Concert
END:VEVENT
BEGIN:VEVENT
DTSTART;TZID=America/New_York:20190817T120000
DTEND;TZID=America/New_York:20190817T200000
DTSTAMP:20260419T205448
CREATED:20190120T133038Z
LAST-MODIFIED:20190815T190839Z
UID:30793-1566043200-1566072000@www.piercingken.com
SUMMARY:Flame Con @ Sheraton Times Square
DESCRIPTION:Flame Con is the world’s only LGBTQ comic convention and it returns to Times Square for its 5th Annual event.  Sponsored by the folks at Geeks Out\, its a great event to support your favorite artists\, enjoy some panels and lots of cosplay at a fun-filled event. \n \nLike this:Like Loading...
URL:https://www.piercingken.com/event/flame-con-sheraton-times-square-3/
LOCATION:Sheraton Times Square\, 811-7th Ave\, New York\, NY\, 10019\, United States
CATEGORIES:Convention
END:VEVENT
BEGIN:VEVENT
DTSTART;VALUE=DATE:20190817
DTEND;VALUE=DATE:20190818
DTSTAMP:20260419T205448
CREATED:20190722T120040Z
LAST-MODIFIED:20190722T170637Z
UID:40664-1566000000-1566086399@www.piercingken.com
SUMMARY:New York Renaissance Faire @ Tuxedo Park
DESCRIPTION:The New York Renaissance Faire is a recreation of a 16th century village filled with performers\, crafts\, games\, and food that gives guests the illusion of stepping back in time. The 42nd Annual New York Renaissance Faire features more than 125 performances on 20 stages\, and over 100 craftspeople\, all set within 65 acres of beautiful forest.  Children of a certain age come in at a discount and there is a season pass available as well.   \n \nLike this:Like Loading...
URL:https://www.piercingken.com/event/new-york-renaissance-faire-tuxedo-park-38/
LOCATION:Tuxedo Park\, 600 NY-17A\, Tuxedo\, NY\, 10987\, United States
CATEGORIES:Festival - Fair
END:VEVENT
BEGIN:VEVENT
DTSTART;VALUE=DATE:20190817
DTEND;VALUE=DATE:20190818
DTSTAMP:20260419T205448
CREATED:20190415T123054Z
LAST-MODIFIED:20190802T011423Z
UID:39002-1566000000-1566086399@www.piercingken.com
SUMMARY:CANCELLED: Woodstock 50 @ Merriweather Post Pavilion
DESCRIPTION:The 50th Anniversary of the Woodstock Festival was initially planned for Watkins Glen State Park and was moved to Maryland at the Merriweather Post Pavilion.  Sadly\, the hammer has come down and this entire event has been cancelled.  No refunds available as no tickets ever went on sale. \n \nLike this:Like Loading...
URL:https://www.piercingken.com/event/woodstock-50-merriweather-post-pavilion-2/
LOCATION:Merriweather Post Pavilion\, 10475 Little Patuxent Pkwy\, Columbia\, MD\, 21044\, United States
CATEGORIES:Concert
END:VEVENT
BEGIN:VEVENT
DTSTART;TZID=America/New_York:20190816T200000
DTEND;TZID=America/New_York:20190816T200000
DTSTAMP:20260419T205448
CREATED:20190601T163009Z
LAST-MODIFIED:20190726T180253Z
UID:40742-1565985600-1565985600@www.piercingken.com
SUMMARY:Barry Manilow @ Lunt-Fontanne Theatre
DESCRIPTION:The legendary Barry Manilow returns to Broadway for a limited engagement at the Lunt-Fontanne Theatre.  He’s planning on doing ALL of the hits that made him famous over the years so don’t miss your chance to enjoy his music in such intimate surroundings.   \n \nLike this:Like Loading...
URL:https://www.piercingken.com/event/barry-manilow-lunt-fontanne-theatre-16/
LOCATION:Lunt-Fontanne Theatre\, 205 West 46th Street\, New York\, NY\, 10036\, United States
CATEGORIES:Concert
END:VEVENT
BEGIN:VEVENT
DTSTART;TZID=America/New_York:20190816T070000
DTEND;TZID=America/New_York:20190816T090000
DTSTAMP:20260419T205448
CREATED:20190504T174008Z
LAST-MODIFIED:20190513T225750Z
UID:39610-1565938800-1565946000@www.piercingken.com
SUMMARY:Chance The Rapper @ Rumsey Playfield
DESCRIPTION:Chance The Rapper performs as a part of the Good Morning America “Summer Concert Series” for 2019.  Be sure to hit their Official Website\, Facebook or Twitter to learn how you can attend the show.  Please note that these events are early in the AM so you should plan accordingly.   \n \nLike this:Like Loading...
URL:https://www.piercingken.com/event/chance-the-rapper-rumsey-playfield/
LOCATION:Central Park Rumsey Playfield\, East 71st Street\, New York\, NY\, 10021\, United States
CATEGORIES:Concert
END:VEVENT
BEGIN:VEVENT
DTSTART;VALUE=DATE:20190816
DTEND;VALUE=DATE:20190817
DTSTAMP:20260419T205448
CREATED:20190415T120019Z
LAST-MODIFIED:20190802T011254Z
UID:39000-1565913600-1565999999@www.piercingken.com
SUMMARY:CANCELLED: Woodstock 50 @ Merriweather Post Pavilion
DESCRIPTION:The 50th Anniversary of the Woodstock Festival was initially planned for Watkins Glen State Park but will now be held in Maryland at the Merriweather Post Pavilion. Finalized artists are unconfirmed as numerous acts have pulled out of this problematic event. Proceed with caution if you dare.The 50th Anniversary of the Woodstock Festival was initially planned for Watkins Glen State Park and was moved to Maryland at the Merriweather Post Pavilion.  Sadly\, the hammer has come down and this entire event has been cancelled.  No refunds available as no tickets ever went on sale. \n \nLike this:Like Loading...
URL:https://www.piercingken.com/event/woodstock-50-merriweather-post-pavilion/
LOCATION:Merriweather Post Pavilion\, 10475 Little Patuxent Pkwy\, Columbia\, MD\, 21044\, United States
CATEGORIES:Concert
END:VEVENT
BEGIN:VEVENT
DTSTART;TZID=America/New_York:20190814T190000
DTEND;TZID=America/New_York:20190814T190000
DTSTAMP:20260419T205448
CREATED:20190601T161505Z
LAST-MODIFIED:20190726T180208Z
UID:40741-1565809200-1565809200@www.piercingken.com
SUMMARY:Barry Manilow @ Lunt-Fontanne Theatre
DESCRIPTION:The legendary Barry Manilow returns to Broadway for a limited engagement at the Lunt-Fontanne Theatre.  He’s planning on doing ALL of the hits that made him famous over the years so don’t miss your chance to enjoy his music in such intimate surroundings.   \n \nLike this:Like Loading...
URL:https://www.piercingken.com/event/barry-manilow-lunt-fontanne-theatre-15/
LOCATION:Lunt-Fontanne Theatre\, 205 West 46th Street\, New York\, NY\, 10036\, United States
CATEGORIES:Concert
END:VEVENT
BEGIN:VEVENT
DTSTART;VALUE=DATE:20190814
DTEND;VALUE=DATE:20190815
DTSTAMP:20260419T205448
CREATED:20190801T124015Z
LAST-MODIFIED:20240626T195502Z
UID:40903-1565740800-1565827199@www.piercingken.com
SUMMARY:NY NOW @ Javits Center
DESCRIPTION:The NY Now Expo is a Retail Renaissance and loaded with tons of different vendors that will make your personal world a better place.   \nLike this:Like Loading...
URL:https://www.piercingken.com/event/ny-now-javits-center-10/
LOCATION:Jacob K. Javits Convention Center\, 655 W 34th St.\, New York\,\, NY\, 10001\, United States
CATEGORIES:Trade Show
END:VEVENT
BEGIN:VEVENT
DTSTART;TZID=America/New_York:20190813T190000
DTEND;TZID=America/New_York:20190813T190000
DTSTAMP:20260419T205448
CREATED:20190601T160057Z
LAST-MODIFIED:20190726T140951Z
UID:40740-1565722800-1565722800@www.piercingken.com
SUMMARY:Barry Manilow @ Lunt-Fontanne Theatre
DESCRIPTION:The legendary Barry Manilow returns to Broadway for a limited engagement at the Lunt-Fontanne Theatre.  He’s planning on doing ALL of the hits that made him famous over the years so don’t miss your chance to enjoy his music in such intimate surroundings.   \n \nLike this:Like Loading...
URL:https://www.piercingken.com/event/barry-manilow-lunt-fontanne-theatre-14/
LOCATION:Lunt-Fontanne Theatre\, 205 West 46th Street\, New York\, NY\, 10036\, United States
CATEGORIES:Concert
END:VEVENT
BEGIN:VEVENT
DTSTART;VALUE=DATE:20190813
DTEND;VALUE=DATE:20190814
DTSTAMP:20260419T205448
CREATED:20190801T123008Z
LAST-MODIFIED:20240626T195453Z
UID:40902-1565654400-1565740799@www.piercingken.com
SUMMARY:NY NOW @ Javits Center
DESCRIPTION:The NY Now Expo is a Retail Renaissance and loaded with tons of different vendors that will make your personal world a better place.   \nLike this:Like Loading...
URL:https://www.piercingken.com/event/ny-now-javits-center-9/
LOCATION:Jacob K. Javits Convention Center\, 655 W 34th St.\, New York\,\, NY\, 10001\, United States
CATEGORIES:Trade Show
END:VEVENT
BEGIN:VEVENT
DTSTART;VALUE=DATE:20190812
DTEND;VALUE=DATE:20190813
DTSTAMP:20260419T205448
CREATED:20190801T122005Z
LAST-MODIFIED:20240626T195441Z
UID:40901-1565568000-1565654399@www.piercingken.com
SUMMARY:NY NOW @ Javits Center
DESCRIPTION:The NY Now Expo is a Retail Renaissance and loaded with tons of different vendors that will make your personal world a better place.   \nLike this:Like Loading...
URL:https://www.piercingken.com/event/ny-now-javits-center-8/
LOCATION:Jacob K. Javits Convention Center\, 655 W 34th St.\, New York\,\, NY\, 10001\, United States
CATEGORIES:Trade Show
END:VEVENT
BEGIN:VEVENT
DTSTART;VALUE=DATE:20190812
DTEND;VALUE=DATE:20190813
DTSTAMP:20260419T205448
CREATED:20190801T123032Z
LAST-MODIFIED:20250105T165826Z
UID:57512-1565568000-1565654399@www.piercingken.com
SUMMARY:Shoppe Object @ Pier 36
DESCRIPTION:Shoppe Object is a growing independent gifting and accessories show that launched in 2018.  It’s growth as a trade show now finds it over at Pier 36 in order to fit more curated vendors than ever before.  This is a trade only expo for buyers and assorted retailers so the general public will need to examine the exhibitor list and troll their social media to learn what is coming down the pike as soon as it gets revealed.   \n \nLike this:Like Loading...
URL:https://www.piercingken.com/event/shoppe-object-pier-36-3/
LOCATION:Pier 36\, 299 South Street\, New York\, NY\, 10002\, United States
CATEGORIES:Trade Show
END:VEVENT
BEGIN:VEVENT
DTSTART;TZID=America/New_York:20190811T190000
DTEND;TZID=America/New_York:20190811T190000
DTSTAMP:20260419T205448
CREATED:20190601T154551Z
LAST-MODIFIED:20190726T140926Z
UID:40739-1565550000-1565550000@www.piercingken.com
SUMMARY:Barry Manilow @ Lunt-Fontanne Theatre
DESCRIPTION:The legendary Barry Manilow returns to Broadway for a limited engagement at the Lunt-Fontanne Theatre.  He’s planning on doing ALL of the hits that made him famous over the years so don’t miss your chance to enjoy his music in such intimate surroundings.   \n \nLike this:Like Loading...
URL:https://www.piercingken.com/event/barry-manilow-lunt-fontanne-theatre-13/
LOCATION:Lunt-Fontanne Theatre\, 205 West 46th Street\, New York\, NY\, 10036\, United States
CATEGORIES:Concert
END:VEVENT
BEGIN:VEVENT
DTSTART;TZID=America/New_York:20190811T100000
DTEND;TZID=America/New_York:20190811T180000
DTSTAMP:20260419T205448
CREATED:20190705T123042Z
LAST-MODIFIED:20220920T122054Z
UID:40349-1565517600-1565546400@www.piercingken.com
SUMMARY:Play NYC @ Metropolitan Pavilion
DESCRIPTION:Playcrafting’s “Play NYC” event has returned for its third year and in a brand new location.  This is the place to be if you are into gaming and want to get a go at the very latest awesome from some truly talented developers and providers of content.  Don’t miss it. \n \nLike this:Like Loading...
URL:https://www.piercingken.com/event/play-nyc-metropolitan-pavilion-2/
LOCATION:Metropolitan Pavilion\, 125 W 18th St.\, New York\,\, NY\, 10011\, United States
CATEGORIES:Convention
ORGANIZER;CN="Playcrafting":MAILTO:events@playcrafting.com
END:VEVENT
BEGIN:VEVENT
DTSTART;VALUE=DATE:20190811
DTEND;VALUE=DATE:20190812
DTSTAMP:20260419T205448
CREATED:20190801T121003Z
LAST-MODIFIED:20240626T195406Z
UID:40900-1565481600-1565567999@www.piercingken.com
SUMMARY:NY NOW @ Javits Center
DESCRIPTION:The NY Now Expo is a Retail Renaissance and loaded with tons of different vendors that will make your personal world a better place.   \nLike this:Like Loading...
URL:https://www.piercingken.com/event/ny-now-javits-center-7/
LOCATION:Jacob K. Javits Convention Center\, 655 W 34th St.\, New York\,\, NY\, 10001\, United States
CATEGORIES:Trade Show
END:VEVENT
BEGIN:VEVENT
DTSTART;VALUE=DATE:20190811
DTEND;VALUE=DATE:20190812
DTSTAMP:20260419T205448
CREATED:20190323T130009Z
LAST-MODIFIED:20190802T020705Z
UID:39016-1565481600-1565567999@www.piercingken.com
SUMMARY:Liberty City Anime Con @ Crowne Plaza Times Square
DESCRIPTION:The Liberty City Anime Con has returned and will continue to entertain the fans of Anime and its culture. There’s numerous things to do and various price points depending on your needs.  They’ve also moved to a new location this year.  If you love Anime then you know where to be this weekend. This event will surely sell out in advance so don’t wait until the day of. \n \nLike this:Like Loading...
URL:https://www.piercingken.com/event/liberty-city-anime-con-crowne-plaza-times-square-3/
LOCATION:Crowne Plaza Times Square\, 1605 Broadway\, New York\, NY\, 10019\, United States
CATEGORIES:Convention
END:VEVENT
BEGIN:VEVENT
DTSTART;VALUE=DATE:20190811
DTEND;VALUE=DATE:20190812
DTSTAMP:20260419T205448
CREATED:20190801T121551Z
LAST-MODIFIED:20250105T165837Z
UID:57511-1565481600-1565567999@www.piercingken.com
SUMMARY:Shoppe Object @ Pier 36
DESCRIPTION:Shoppe Object is a growing independent gifting and accessories show that launched in 2018.  It’s growth as a trade show now finds it over at Pier 36 in order to fit more curated vendors than ever before.  This is a trade only expo for buyers and assorted retailers so the general public will need to examine the exhibitor list and troll their social media to learn what is coming down the pike as soon as it gets revealed.   \n \nLike this:Like Loading...
URL:https://www.piercingken.com/event/shoppe-object-pier-36-2/
LOCATION:Pier 36\, 299 South Street\, New York\, NY\, 10002\, United States
CATEGORIES:Trade Show
END:VEVENT
END:VCALENDAR