BEGIN:VCALENDAR
VERSION:2.0
PRODID:-//The Chronicles Of PiercingKen - ECPv6.15.20//NONSGML v1.0//EN
CALSCALE:GREGORIAN
METHOD:PUBLISH
X-WR-CALNAME:The Chronicles Of PiercingKen
X-ORIGINAL-URL:https://www.piercingken.com
X-WR-CALDESC:Events for The Chronicles Of PiercingKen
REFRESH-INTERVAL;VALUE=DURATION:PT1H
X-Robots-Tag:noindex
X-PUBLISHED-TTL:PT1H
BEGIN:VTIMEZONE
TZID:America/New_York
BEGIN:DAYLIGHT
TZOFFSETFROM:-0500
TZOFFSETTO:-0400
TZNAME:EDT
DTSTART:20140309T070000
END:DAYLIGHT
BEGIN:STANDARD
TZOFFSETFROM:-0400
TZOFFSETTO:-0500
TZNAME:EST
DTSTART:20141102T060000
END:STANDARD
BEGIN:DAYLIGHT
TZOFFSETFROM:-0500
TZOFFSETTO:-0400
TZNAME:EDT
DTSTART:20150308T070000
END:DAYLIGHT
BEGIN:STANDARD
TZOFFSETFROM:-0400
TZOFFSETTO:-0500
TZNAME:EST
DTSTART:20151101T060000
END:STANDARD
BEGIN:DAYLIGHT
TZOFFSETFROM:-0500
TZOFFSETTO:-0400
TZNAME:EDT
DTSTART:20160313T070000
END:DAYLIGHT
BEGIN:STANDARD
TZOFFSETFROM:-0400
TZOFFSETTO:-0500
TZNAME:EST
DTSTART:20161106T060000
END:STANDARD
BEGIN:DAYLIGHT
TZOFFSETFROM:-0500
TZOFFSETTO:-0400
TZNAME:EDT
DTSTART:20170312T070000
END:DAYLIGHT
BEGIN:STANDARD
TZOFFSETFROM:-0400
TZOFFSETTO:-0500
TZNAME:EST
DTSTART:20171105T060000
END:STANDARD
BEGIN:DAYLIGHT
TZOFFSETFROM:-0500
TZOFFSETTO:-0400
TZNAME:EDT
DTSTART:20180311T070000
END:DAYLIGHT
BEGIN:STANDARD
TZOFFSETFROM:-0400
TZOFFSETTO:-0500
TZNAME:EST
DTSTART:20181104T060000
END:STANDARD
END:VTIMEZONE
BEGIN:VEVENT
DTSTART;TZID=America/New_York:20170311T110000
DTEND;TZID=America/New_York:20170311T200000
DTSTAMP:20260420T211858
CREATED:20170312T153132Z
LAST-MODIFIED:20170312T153132Z
UID:28865-1489230000-1489262400@www.piercingken.com
SUMMARY:Cat Camp @ Metropolitan Pavilion
DESCRIPTION:Cat Camp will celebrate all things related to our favorite felines.  Supplies\, treats\, accessories and adoption along with many notable cat-centric celebrities.  Don’t miss this if a purring ball of fuzz is your favored companion. \n \nLike this:Like Loading...
URL:https://www.piercingken.com/event/cat-camp-metropolitan-pavilion/
LOCATION:Metropolitan Pavilion\, 125 W 18th St.\, New York\,\, NY\, 10011\, United States
CATEGORIES:Convention
END:VEVENT
BEGIN:VEVENT
DTSTART;TZID=America/New_York:20170311T100000
DTEND;TZID=America/New_York:20170311T190000
DTSTAMP:20260420T211858
CREATED:20170226T182253Z
LAST-MODIFIED:20170226T182253Z
UID:28756-1489226400-1489258800@www.piercingken.com
SUMMARY:Big Apple Comic Con @ Penn Plaza Pavilion
DESCRIPTION:The Big Apple Comic Con for 2017 is here and you don’t want to miss it.  Come to one day or both as there is bound to be fun from beginning to end. \nLike this:Like Loading...
URL:https://www.piercingken.com/event/big-apple-comic-con-penn-plaza-pavilion/
LOCATION:Penn Plaza Pavilion\, 401-7th Avenue\, New York\, NY\, United States
CATEGORIES:Convention
END:VEVENT
BEGIN:VEVENT
DTSTART;VALUE=DATE:20170311
DTEND;VALUE=DATE:20170312
DTSTAMP:20260420T211858
CREATED:20170225T041932Z
LAST-MODIFIED:20170227T045454Z
UID:28724-1489190400-1489276799@www.piercingken.com
SUMMARY:Ringling Bros. and Barnum & Bailey Circus @ Prudential Center
DESCRIPTION:The Ringling Brothers and Barnum & Bailey Circus continues towards the end of its historic run with the performances of “Out Of This World”.  Don’t miss your chance to see one of these final shows as it makes numerous stops in Newark\, NJ at “The Rock”.  The show info cites “Prepare to blast off on an intergalactic adventure for space-age family fun as the ultimate circus experiences launches into the future. Audiences will take the helm to join the Circus Space Fleet on a heroic quest of good versus evil that will let imaginations run wild with unexpected surprises and thrills at every turn.” \n*** there are three performances today with one at 11:00am\, 3:00pm and 7:00pm. \nLike this:Like Loading...
URL:https://www.piercingken.com/event/ringling-bros-and-barnum-bailey-circus-prudential-center-4/
LOCATION:Prudential Center\, 25 Lafayette St.\, Newark\, NJ\, 07102\, United States
END:VEVENT
BEGIN:VEVENT
DTSTART;TZID=America/New_York:20170310T190000
DTEND;TZID=America/New_York:20170310T210000
DTSTAMP:20260420T211858
CREATED:20170225T040001Z
LAST-MODIFIED:20170227T045445Z
UID:28723-1489172400-1489179600@www.piercingken.com
SUMMARY:Ringling Bros. and Barnum & Bailey Circus @ Prudential Center
DESCRIPTION:The Ringling Brothers and Barnum & Bailey Circus continues towards the end of its historic run with the performances of “Out Of This World”.  Don’t miss your chance to see one of these final shows as it makes numerous stops in Newark\, NJ at “The Rock”.  The show info cites “Prepare to blast off on an intergalactic adventure for space-age family fun as the ultimate circus experiences launches into the future. Audiences will take the helm to join the Circus Space Fleet on a heroic quest of good versus evil that will let imaginations run wild with unexpected surprises and thrills at every turn.” \nLike this:Like Loading...
URL:https://www.piercingken.com/event/ringling-bros-and-barnum-bailey-circus-prudential-center-3/
LOCATION:Prudential Center\, 25 Lafayette St.\, Newark\, NJ\, 07102\, United States
END:VEVENT
BEGIN:VEVENT
DTSTART;TZID=America/New_York:20170310T100000
DTEND;TZID=America/New_York:20170310T190000
DTSTAMP:20260420T211858
CREATED:20170307T143928Z
LAST-MODIFIED:20170307T162218Z
UID:28840-1489140000-1489172400@www.piercingken.com
SUMMARY:Japan Week @ Grand Central Terminal
DESCRIPTION:Taking place at the Vanderbilt Hall of GST\, Japan Week 2017 will be the place to absorb all things Japanese Culture. Don’t miss it. It’s free to attend so bring some cash to buy amazing things. \n \nLike this:Like Loading...
URL:https://www.piercingken.com/event/japan-week-grand-central-terminal-3/
LOCATION:Grand Central Terminal\, 89 East 42nd Street\, New York\, NY\, 10017\, United States
CATEGORIES:Festival - Fair
END:VEVENT
BEGIN:VEVENT
DTSTART;TZID=America/New_York:20170309T100000
DTEND;TZID=America/New_York:20170309T200000
DTSTAMP:20260420T211858
CREATED:20170307T143813Z
LAST-MODIFIED:20170307T162209Z
UID:28839-1489053600-1489089600@www.piercingken.com
SUMMARY:Japan Week @ Grand Central Terminal
DESCRIPTION:Taking place at the Vanderbilt Hall of GST\, Japan Week 2017 will be the place to absorb all things Japanese Culture. Don’t miss it. It’s free to attend so bring some cash to buy amazing things. \n \nLike this:Like Loading...
URL:https://www.piercingken.com/event/japan-week-grand-central-terminal-2/
LOCATION:Grand Central Terminal\, 89 East 42nd Street\, New York\, NY\, 10017\, United States
CATEGORIES:Festival - Fair
END:VEVENT
BEGIN:VEVENT
DTSTART;VALUE=DATE:20170309
DTEND;VALUE=DATE:20170310
DTSTAMP:20260420T211858
CREATED:20170225T034356Z
LAST-MODIFIED:20170227T045435Z
UID:28722-1489017600-1489103999@www.piercingken.com
SUMMARY:Ringling Bros. and Barnum & Bailey Circus @ Prudential Center
DESCRIPTION:The Ringling Brothers and Barnum & Bailey Circus continues towards the end of its historic run with the performances of “Out Of This World”.  Don’t miss your chance to see one of these final shows as it makes numerous stops in Newark\, NJ at “The Rock”.  The show info cites “Prepare to blast off on an intergalactic adventure for space-age family fun as the ultimate circus experiences launches into the future. Audiences will take the helm to join the Circus Space Fleet on a heroic quest of good versus evil that will let imaginations run wild with unexpected surprises and thrills at every turn.” \n*** there are two performances today with one at 10:30am and the other at 7:00pm \nLike this:Like Loading...
URL:https://www.piercingken.com/event/ringling-bros-and-barnum-bailey-circus-prudential-center-2/
LOCATION:Prudential Center\, 25 Lafayette St.\, Newark\, NJ\, 07102\, United States
END:VEVENT
BEGIN:VEVENT
DTSTART;TZID=America/New_York:20170308T190000
DTEND;TZID=America/New_York:20170308T210000
DTSTAMP:20260420T211858
CREATED:20170225T033705Z
LAST-MODIFIED:20170608T151603Z
UID:28721-1488999600-1489006800@www.piercingken.com
SUMMARY:Ringling Bros. and Barnum & Bailey Circus @ Prudential Center
DESCRIPTION:The Ringling Brothers and Barnum & Bailey Circus continues towards the end of its historic run with the performances of “Out Of This World”.  Don’t miss your chance to see one of these final shows as it makes numerous stops in Newark\, NJ at “The Rock”.  The show info cites “Prepare to blast off on an intergalactic adventure for space-age family fun as the ultimate circus experiences launches into the future. Audiences will take the helm to join the Circus Space Fleet on a heroic quest of good versus evil that will let imaginations run wild with unexpected surprises and thrills at every turn.” \nLike this:Like Loading...
URL:https://www.piercingken.com/event/ringling-bros-and-barnum-bailey-circus-prudential-center/
LOCATION:Prudential Center\, 25 Lafayette St.\, Newark\, NJ\, 07102\, United States
CATEGORIES:Festival - Fair
END:VEVENT
BEGIN:VEVENT
DTSTART;TZID=America/New_York:20170308T150000
DTEND;TZID=America/New_York:20170308T200000
DTSTAMP:20260420T211858
CREATED:20170307T061037Z
LAST-MODIFIED:20170307T061116Z
UID:28835-1488985200-1489003200@www.piercingken.com
SUMMARY:Japan Week @ Grand Central Terminal
DESCRIPTION:Taking place at the Vanderbilt Hall of GST\, Japan Week 2017 will be the place to absorb all things Japanese Culture.  Don’t miss it.  It’s free to attend so bring some cash to buy amazing things. \n \nLike this:Like Loading...
URL:https://www.piercingken.com/event/japan-week-grand-central-terminal/
LOCATION:Grand Central Terminal\, 89 East 42nd Street\, New York\, NY\, 10017\, United States
CATEGORIES:Festival - Fair
END:VEVENT
BEGIN:VEVENT
DTSTART;TZID=America/New_York:20170303T200000
DTEND;TZID=America/New_York:20170303T200000
DTSTAMP:20260420T211858
CREATED:20170608T164236Z
LAST-MODIFIED:20170608T164236Z
UID:29500-1488571200-1488571200@www.piercingken.com
SUMMARY:Billy Joel @ Madison Square Garden
DESCRIPTION:Billy Joel performs as a part of his monthly residency at NYC’s own Madison Square Garden. This will be a night full of singalong hits for sure so don’t miss out if you can snag a ticket. The numbers keep climbing as we hit performance #39. \n \nLike this:Like Loading...
URL:https://www.piercingken.com/event/billy-joel-madison-square-garden-2/
LOCATION:Madison Square Garden\, 4 Pennsylvania Plaza\, New York\, NY\, 10001\, United States
CATEGORIES:Concert
END:VEVENT
BEGIN:VEVENT
DTSTART;TZID=America/New_York:20170303T190000
DTEND;TZID=America/New_York:20170303T210000
DTSTAMP:20260420T211858
CREATED:20170225T022503Z
LAST-MODIFIED:20170608T151554Z
UID:28718-1488567600-1488574800@www.piercingken.com
SUMMARY:Ringling Bros. and Barnum & Bailey Circus @ Barclays Center
DESCRIPTION:The Ringling Brothers and Barnum & Bailey Circus will end its historic run with the performances of “Out Of This World”. Don’t miss your chance to see one of these final shows as it makes numerous stops in Brooklyn\, NY. The show info cites “Prepare to blast off on an intergalactic adventure for space-age family fun as the ultimate circus experiences launches into the future. Audiences will take the helm to join the Circus Space Fleet on a heroic quest of good versus evil that will let imaginations run wild with unexpected surprises and thrills at every turn.” \nLike this:Like Loading...
URL:https://www.piercingken.com/event/ringling-bros-and-barnum-bailey-circus-barclays-center-8/
LOCATION:Barclays Center\, 620 Atlantic Avenue\, Brooklyn\, NY\, 11217\, United States
CATEGORIES:Festival - Fair
END:VEVENT
BEGIN:VEVENT
DTSTART;VALUE=DATE:20170302
DTEND;VALUE=DATE:20170303
DTSTAMP:20260420T211858
CREATED:20170225T021633Z
LAST-MODIFIED:20170608T151538Z
UID:28716-1488412800-1488499199@www.piercingken.com
SUMMARY:Ringling Bros. and Barnum & Bailey Circus @ Barclays Center
DESCRIPTION:The Ringling Brothers and Barnum & Bailey Circus will end its historic run with the performances of “Out Of This World”. Don’t miss your chance to see one of these final shows as it makes numerous stops in Brooklyn\, NY. The show info cites “Prepare to blast off on an intergalactic adventure for space-age family fun as the ultimate circus experiences launches into the future. Audiences will take the helm to join the Circus Space Fleet on a heroic quest of good versus evil that will let imaginations run wild with unexpected surprises and thrills at every turn.” \n*** there are two performances today: 10:30AM and 7PM – Each requires a ticket to enter. \nLike this:Like Loading...
URL:https://www.piercingken.com/event/ringling-bros-and-barnum-bailey-circus-barclays-center-7/
LOCATION:Barclays Center\, 620 Atlantic Avenue\, Brooklyn\, NY\, 11217\, United States
CATEGORIES:Festival - Fair
END:VEVENT
BEGIN:VEVENT
DTSTART;TZID=America/New_York:20170301T190000
DTEND;TZID=America/New_York:20170301T210000
DTSTAMP:20260420T211858
CREATED:20170225T003636Z
LAST-MODIFIED:20170608T151529Z
UID:28713-1488394800-1488402000@www.piercingken.com
SUMMARY:Ringling Bros. and Barnum & Bailey Circus @ Barclays Center
DESCRIPTION:The Ringling Brothers and Barnum & Bailey Circus will end its historic run with the performances of “Out Of This World”. Don’t miss your chance to see one of these final shows as it makes numerous stops in Brooklyn\, NY. The show info cites “Prepare to blast off on an intergalactic adventure for space-age family fun as the ultimate circus experiences launches into the future. Audiences will take the helm to join the Circus Space Fleet on a heroic quest of good versus evil that will let imaginations run wild with unexpected surprises and thrills at every turn.” \nLike this:Like Loading...
URL:https://www.piercingken.com/event/ringling-bros-and-barnum-bailey-circus-barclays-center-6/
LOCATION:Barclays Center\, 620 Atlantic Avenue\, Brooklyn\, NY\, 11217\, United States
CATEGORIES:Festival - Fair
END:VEVENT
BEGIN:VEVENT
DTSTART;TZID=America/New_York:20170228T190000
DTEND;TZID=America/New_York:20170228T210000
DTSTAMP:20260420T211858
CREATED:20170224T225928Z
LAST-MODIFIED:20170608T151520Z
UID:28711-1488308400-1488315600@www.piercingken.com
SUMMARY:Ringling Bros. and Barnum & Bailey Circus @ Barclays Center
DESCRIPTION:The Ringling Brothers and Barnum & Bailey Circus will end its historic run with the performances of “Out Of This World”. Don’t miss your chance to see one of these final shows as it makes numerous stops in Brooklyn\, NY. The show info cites “Prepare to blast off on an intergalactic adventure for space-age family fun as the ultimate circus experiences launches into the future. Audiences will take the helm to join the Circus Space Fleet on a heroic quest of good versus evil that will let imaginations run wild with unexpected surprises and thrills at every turn.” \nLike this:Like Loading...
URL:https://www.piercingken.com/event/ringling-bros-and-barnum-bailey-circus-barclays-center-5/
LOCATION:Barclays Center\, 620 Atlantic Avenue\, Brooklyn\, NY\, 11217\, United States
CATEGORIES:Festival - Fair
END:VEVENT
BEGIN:VEVENT
DTSTART;VALUE=DATE:20170226
DTEND;VALUE=DATE:20170227
DTSTAMP:20260420T211858
CREATED:20170224T225806Z
LAST-MODIFIED:20170608T151506Z
UID:28709-1488067200-1488153599@www.piercingken.com
SUMMARY:Ringling Bros. and Barnum & Bailey Circus @ Barclays Center
DESCRIPTION:The Ringling Brothers and Barnum & Bailey Circus will end its historic run with the performances of “Out Of This World”. Don’t miss your chance to see one of these final shows as it makes numerous stops in Brooklyn\, NY. The show info cites “Prepare to blast off on an intergalactic adventure for space-age family fun as the ultimate circus experiences launches into the future. Audiences will take the helm to join the Circus Space Fleet on a heroic quest of good versus evil that will let imaginations run wild with unexpected surprises and thrills at every turn.” \n*** there are three performances today:  11AM\, 3PM and 7PM – Each requires a ticket to enter. \nLike this:Like Loading...
URL:https://www.piercingken.com/event/ringling-bros-and-barnum-bailey-circus-barclays-center-4/
LOCATION:Barclays Center\, 620 Atlantic Avenue\, Brooklyn\, NY\, 11217\, United States
CATEGORIES:Festival - Fair
END:VEVENT
BEGIN:VEVENT
DTSTART;VALUE=DATE:20170225
DTEND;VALUE=DATE:20170226
DTSTAMP:20260420T211858
CREATED:20170224T061314Z
LAST-MODIFIED:20170608T151437Z
UID:28699-1487980800-1488067199@www.piercingken.com
SUMMARY:Ringling Bros. and Barnum & Bailey Circus @ Barclays Center
DESCRIPTION:The Ringling Brothers and Barnum & Bailey Circus will end its historic run with the performances of “Out Of This World”. Don’t miss your chance to see one of these final shows as it makes numerous stops in Brooklyn\, NY. The show info cites “Prepare to blast off on an intergalactic adventure for space-age family fun as the ultimate circus experiences launches into the future. Audiences will take the helm to join the Circus Space Fleet on a heroic quest of good versus evil that will let imaginations run wild with unexpected surprises and thrills at every turn.” \n*** there are three performances today:  11AM\, 3PM and 7PM – Each requires a ticket to enter. \nLike this:Like Loading...
URL:https://www.piercingken.com/event/ringling-bros-and-barnum-bailey-circus-barclays-center-3/
LOCATION:Barclays Center\, 620 Atlantic Avenue\, Brooklyn\, NY\, 11217\, United States
CATEGORIES:Festival - Fair
END:VEVENT
BEGIN:VEVENT
DTSTART;VALUE=DATE:20170224
DTEND;VALUE=DATE:20170225
DTSTAMP:20260420T211858
CREATED:20170224T060737Z
LAST-MODIFIED:20170608T151431Z
UID:28697-1487894400-1487980799@www.piercingken.com
SUMMARY:Ringling Bros. and Barnum & Bailey Circus @ Barclays Center
DESCRIPTION:The Ringling Brothers and Barnum & Bailey Circus will end its historic run with the performances of “Out Of This World”. Don’t miss your chance to see one of these final shows as it makes numerous stops in Brooklyn\, NY. The show info cites “Prepare to blast off on an intergalactic adventure for space-age family fun as the ultimate circus experiences launches into the future. Audiences will take the helm to join the Circus Space Fleet on a heroic quest of good versus evil that will let imaginations run wild with unexpected surprises and thrills at every turn.” \n*** there are three performances today:  11AM\, 3PM and 7PM – Each requires a ticket to enter. \nLike this:Like Loading...
URL:https://www.piercingken.com/event/ringling-bros-and-barnum-bailey-circus-barclays-center-2/
LOCATION:Barclays Center\, 620 Atlantic Avenue\, Brooklyn\, NY\, 11217\, United States
CATEGORIES:Festival - Fair
END:VEVENT
BEGIN:VEVENT
DTSTART;TZID=America/New_York:20170223T190000
DTEND;TZID=America/New_York:20170223T210000
DTSTAMP:20260420T211858
CREATED:20170223T202123Z
LAST-MODIFIED:20170608T151423Z
UID:28686-1487876400-1487883600@www.piercingken.com
SUMMARY:Ringling Bros. and Barnum & Bailey Circus @ Barclays Center
DESCRIPTION:The Ringling Brothers and Barnum & Bailey Circus will end its historic run with the performances of “Out Of This World”.  Don’t miss your chance to see one of these final shows as it makes numerous stops in Brooklyn\, NY. The show info cites “Prepare to blast off on an intergalactic adventure for space-age family fun as the ultimate circus experiences launches into the future. Audiences will take the helm to join the Circus Space Fleet on a heroic quest of good versus evil that will let imaginations run wild with unexpected surprises and thrills at every turn.” \nLike this:Like Loading...
URL:https://www.piercingken.com/event/ringling-bros-and-barnum-bailey-circus-barclays-center/
LOCATION:Barclays Center\, 620 Atlantic Avenue\, Brooklyn\, NY\, 11217\, United States
CATEGORIES:Festival - Fair
END:VEVENT
BEGIN:VEVENT
DTSTART;TZID=America/New_York:20170222T200000
DTEND;TZID=America/New_York:20170222T200000
DTSTAMP:20260420T211858
CREATED:20170608T152608Z
LAST-MODIFIED:20170608T152608Z
UID:29499-1487793600-1487793600@www.piercingken.com
SUMMARY:Billy Joel @ Madison Square Garden
DESCRIPTION:Billy Joel performs as a part of his monthly residency at NYC’s own Madison Square Garden. This will be a night full of singalong hits for sure so don’t miss out if you can snag a ticket. The numbers keep climbing with performance #38. \n \nLike this:Like Loading...
URL:https://www.piercingken.com/event/billy-joel-madison-square-garden/
LOCATION:Madison Square Garden\, 4 Pennsylvania Plaza\, New York\, NY\, 10001\, United States
CATEGORIES:Concert
END:VEVENT
BEGIN:VEVENT
DTSTART;VALUE=DATE:20170221
DTEND;VALUE=DATE:20170222
DTSTAMP:20260420T211858
CREATED:20170201T134547Z
LAST-MODIFIED:20250206T183314Z
UID:58022-1487635200-1487721599@www.piercingken.com
SUMMARY:Toy Fair @ Javits Center
DESCRIPTION:The American International Toy Fair will take over the Javits Center for four days and will be the best place to learn about what is new and exciting in the Toy and Gaming Industry.  This trade show is not open to the general public so those folks will want to follow their favorite brands on social media to learn about announcements and also keep in apprised of the websites that will be reporting on it from the show floor.  Let us play! \nLike this:Like Loading...
URL:https://www.piercingken.com/event/toy-fair-javits-center-4/
LOCATION:Jacob K. Javits Convention Center\, 655 W 34th St.\, New York\,\, NY\, 10001\, United States
CATEGORIES:Trade Show
END:VEVENT
BEGIN:VEVENT
DTSTART;VALUE=DATE:20170220
DTEND;VALUE=DATE:20170221
DTSTAMP:20260420T211858
CREATED:20170201T133024Z
LAST-MODIFIED:20250206T183023Z
UID:58021-1487548800-1487635199@www.piercingken.com
SUMMARY:Toy Fair @ Javits Center
DESCRIPTION:The American International Toy Fair will take over the Javits Center for four days and will be the best place to learn about what is new and exciting in the Toy and Gaming Industry.  This trade show is not open to the general public so those folks will want to follow their favorite brands on social media to learn about announcements and also keep in apprised of the websites that will be reporting on it from the show floor.  Let us play! \nLike this:Like Loading...
URL:https://www.piercingken.com/event/toy-fair-javits-center-3/
LOCATION:Jacob K. Javits Convention Center\, 655 W 34th St.\, New York\,\, NY\, 10001\, United States
CATEGORIES:Trade Show
END:VEVENT
BEGIN:VEVENT
DTSTART;VALUE=DATE:20170219
DTEND;VALUE=DATE:20170220
DTSTAMP:20260420T211858
CREATED:20170201T131504Z
LAST-MODIFIED:20250206T184027Z
UID:58020-1487462400-1487548799@www.piercingken.com
SUMMARY:Toy Fair @ Javits Center
DESCRIPTION:The American International Toy Fair will take over the Javits Center for four days and will be the best place to learn about what is new and exciting in the Toy and Gaming Industry.  This trade show is not open to the general public so those folks will want to follow their favorite brands on social media to learn about announcements and also keep in apprised of the websites that will be reporting on it from the show floor.  Let us play! \nLike this:Like Loading...
URL:https://www.piercingken.com/event/toy-fair-javits-center-2/
LOCATION:Jacob K. Javits Convention Center\, 655 W 34th St.\, New York\,\, NY\, 10001\, United States
CATEGORIES:Trade Show
END:VEVENT
BEGIN:VEVENT
DTSTART;VALUE=DATE:20170218
DTEND;VALUE=DATE:20170219
DTSTAMP:20260420T211858
CREATED:20170201T130050Z
LAST-MODIFIED:20250206T184012Z
UID:58019-1487376000-1487462399@www.piercingken.com
SUMMARY:Toy Fair @ Javits Center
DESCRIPTION:The American International Toy Fair will take over the Javits Center for four days and will be the best place to learn about what is new and exciting in the Toy and Gaming Industry.  This trade show is not open to the general public so those folks will want to follow their favorite brands on social media to learn about announcements and also keep in apprised of the websites that will be reporting on it from the show floor.  Let us play! \nLike this:Like Loading...
URL:https://www.piercingken.com/event/toy-fair-javits-center/
LOCATION:Jacob K. Javits Convention Center\, 655 W 34th St.\, New York\,\, NY\, 10001\, United States
CATEGORIES:Trade Show
END:VEVENT
BEGIN:VEVENT
DTSTART;VALUE=DATE:20160717
DTEND;VALUE=DATE:20160718
DTSTAMP:20260420T211858
CREATED:20160701T123024Z
LAST-MODIFIED:20250227T203622Z
UID:56126-1468713600-1468799999@www.piercingken.com
SUMMARY:NY Empire State Tattoo Expo @ New York Hilton Midtown
DESCRIPTION:Inked Magazine presents the New York Empire State Tattoo Expo. If this is your thing you don’t want to miss out. Folks with younger family members are able to come but you’ll need to be 18+ to get a tattoo. \nLike this:Like Loading...
URL:https://www.piercingken.com/event/ny-empire-state-tattoo-expo-new-york-hilton-midtown-3/
LOCATION:New York Hilton Midtown\, 1335 Avenue Of The Americas\, New York\, NY\, 10606\, United States
CATEGORIES:Convention
END:VEVENT
BEGIN:VEVENT
DTSTART;VALUE=DATE:20160716
DTEND;VALUE=DATE:20160717
DTSTAMP:20260420T211858
CREATED:20160701T121511Z
LAST-MODIFIED:20250227T203627Z
UID:56125-1468627200-1468713599@www.piercingken.com
SUMMARY:NY Empire State Tattoo Expo @ New York Hilton Midtown
DESCRIPTION:Inked Magazine presents the New York Empire State Tattoo Expo. If this is your thing you don’t want to miss out. Folks with younger family members are able to come but you’ll need to be 18+ to get a tattoo. \nLike this:Like Loading...
URL:https://www.piercingken.com/event/ny-empire-state-tattoo-expo-new-york-hilton-midtown-2/
LOCATION:New York Hilton Midtown\, 1335 Avenue Of The Americas\, New York\, NY\, 10606\, United States
CATEGORIES:Convention
END:VEVENT
BEGIN:VEVENT
DTSTART;VALUE=DATE:20160715
DTEND;VALUE=DATE:20160716
DTSTAMP:20260420T211858
CREATED:20160701T120051Z
LAST-MODIFIED:20250227T203634Z
UID:56124-1468540800-1468627199@www.piercingken.com
SUMMARY:NY Empire State Tattoo Expo @ New York Hilton Midtown
DESCRIPTION:Inked Magazine presents the New York Empire State Tattoo Expo. If this is your thing you don’t want to miss out. Folks with younger family members are able to come but you’ll need to be 18+ to get a tattoo. \nLike this:Like Loading...
URL:https://www.piercingken.com/event/ny-empire-state-tattoo-expo-new-york-hilton-midtown/
LOCATION:New York Hilton Midtown\, 1335 Avenue Of The Americas\, New York\, NY\, 10606\, United States
CATEGORIES:Convention
END:VEVENT
BEGIN:VEVENT
DTSTART;VALUE=DATE:20160522
DTEND;VALUE=DATE:20160523
DTSTAMP:20260420T211858
CREATED:20160501T130058Z
LAST-MODIFIED:20250327T190633Z
UID:58546-1463875200-1463961599@www.piercingken.com
SUMMARY:The Chronicles Of PiercingKen Anniversary @ The Internet
DESCRIPTION:Today is the 6th Anniversary of “The Chronicles Of Piercing Ken” Lifestyle Blog.  Thanks to all of our readers and passerby for the support and interest.  We greatly appreciate you spending a little time here. \nBe sure to follow us on Social Media using these profiles – Facebook\, Twitter\, Instagram and YouTube \n \nLike this:Like Loading...
URL:https://www.piercingken.com/event/the-chronicles-of-piercingken-anniversary-the-internet-2/
LOCATION:NY
CATEGORIES:Special Appearance
END:VEVENT
BEGIN:VEVENT
DTSTART;VALUE=DATE:20160404
DTEND;VALUE=DATE:20160405
DTSTAMP:20260420T211858
CREATED:20160315T120045Z
LAST-MODIFIED:20240705T201554Z
UID:53460-1459728000-1459814399@www.piercingken.com
SUMMARY:PiercingMetal Anniversary @ The Internet
DESCRIPTION:Today is the 11th Anniversary of the PiercingMetal website.  We thank those who’ve found the site to their liking and have spent some time perusing its wealth of content.  Remember that it can be followed on the web and on Social Media using these profiles – Facebook\, Twitter\, Instagram\, YouTube and TikTok. \n \nLike this:Like Loading...
URL:https://www.piercingken.com/event/piercingmetal-anniversary-the-internet/
LOCATION:NY
CATEGORIES:Special Appearance
END:VEVENT
BEGIN:VEVENT
DTSTART;VALUE=DATE:20150522
DTEND;VALUE=DATE:20150523
DTSTAMP:20260420T211858
CREATED:20150501T130046Z
LAST-MODIFIED:20250327T190958Z
UID:58545-1432252800-1432339199@www.piercingken.com
SUMMARY:The Chronicles Of PiercingKen Anniversary @ The Internet
DESCRIPTION:Today is the 5th Anniversary of “The Chronicles Of Piercing Ken” Lifestyle Blog.  Thanks to all of our readers and passerby for the support and interest.  We greatly appreciate you spending a little time here. \nBe sure to follow us on Social Media using these profiles – Facebook\, Twitter\, Instagram and YouTube \n \nLike this:Like Loading...
URL:https://www.piercingken.com/event/the-chronicles-of-piercingken-anniversary-the-internet/
LOCATION:NY
CATEGORIES:Special Appearance
END:VEVENT
END:VCALENDAR