BEGIN:VCALENDAR
VERSION:2.0
PRODID:-//The Chronicles Of PiercingKen - ECPv6.15.20//NONSGML v1.0//EN
CALSCALE:GREGORIAN
METHOD:PUBLISH
X-WR-CALNAME:The Chronicles Of PiercingKen
X-ORIGINAL-URL:https://www.piercingken.com
X-WR-CALDESC:Events for The Chronicles Of PiercingKen
REFRESH-INTERVAL;VALUE=DURATION:PT1H
X-Robots-Tag:noindex
X-PUBLISHED-TTL:PT1H
BEGIN:VTIMEZONE
TZID:America/New_York
BEGIN:DAYLIGHT
TZOFFSETFROM:-0500
TZOFFSETTO:-0400
TZNAME:EDT
DTSTART:20210314T070000
END:DAYLIGHT
BEGIN:STANDARD
TZOFFSETFROM:-0400
TZOFFSETTO:-0500
TZNAME:EST
DTSTART:20211107T060000
END:STANDARD
BEGIN:DAYLIGHT
TZOFFSETFROM:-0500
TZOFFSETTO:-0400
TZNAME:EDT
DTSTART:20220313T070000
END:DAYLIGHT
BEGIN:STANDARD
TZOFFSETFROM:-0400
TZOFFSETTO:-0500
TZNAME:EST
DTSTART:20221106T060000
END:STANDARD
BEGIN:DAYLIGHT
TZOFFSETFROM:-0500
TZOFFSETTO:-0400
TZNAME:EDT
DTSTART:20230312T070000
END:DAYLIGHT
BEGIN:STANDARD
TZOFFSETFROM:-0400
TZOFFSETTO:-0500
TZNAME:EST
DTSTART:20231105T060000
END:STANDARD
END:VTIMEZONE
BEGIN:VEVENT
DTSTART;VALUE=DATE:20220611
DTEND;VALUE=DATE:20220612
DTSTAMP:20260423T140512
CREATED:20220601T121505Z
LAST-MODIFIED:20250214T230220Z
UID:58159-1654905600-1654991999@www.piercingken.com
SUMMARY:Governors Ball Music Festival @ Citi Field
DESCRIPTION:The Governors Ball Music Festival will take place at Citi Field for the second year in a row and as usual will feature an all-day program of the nations hottest talent.  While COVID-19 protocols have been relaxed for the most part\, some restrictions might apply that you can research before plunking down for a ticket.  If you attend I’d look into bringing sunblock and a poncho in case of rain.  More details are cited on the festivals official page that is linked in the listed. \n \nLike this:Like Loading...
URL:https://www.piercingken.com/event/governors-ball-music-festival-citi-field-5/
LOCATION:Citi Field\, 123-01 Roosevelt Ave.\, Queens\, NY\, 11368\, United States
CATEGORIES:Festival - Fair
END:VEVENT
BEGIN:VEVENT
DTSTART;VALUE=DATE:20220611
DTEND;VALUE=DATE:20220612
DTSTAMP:20260423T140512
CREATED:20220501T124516Z
LAST-MODIFIED:20220507T212943Z
UID:50971-1654905600-1654991999@www.piercingken.com
SUMMARY:Tribeca Festival @ Spring Studios
DESCRIPTION:The Tribeca Festival will takeover New York City from June 8th until June 19th and Spring Studios will be the Official Hub of the event.  To keep pace with releases and information about the event click HERE or follow the main link in this listing or on their respective social media profiles. \n \nLike this:Like Loading...
URL:https://www.piercingken.com/event/tribeca-festival-spring-studios-4/
LOCATION:Spring Studios\, 50 Varick Street\, New York\,\, NY\, 10001\, United States
CATEGORIES:Festival - Fair
END:VEVENT
BEGIN:VEVENT
DTSTART;VALUE=DATE:20220612
DTEND;VALUE=DATE:20220613
DTSTAMP:20260423T140512
CREATED:20220601T123011Z
LAST-MODIFIED:20250214T230237Z
UID:58160-1654992000-1655078399@www.piercingken.com
SUMMARY:Governors Ball Music Festival @ Citi Field
DESCRIPTION:The Governors Ball Music Festival will take place at Citi Field for the second year in a row and as usual will feature an all-day program of the nations hottest talent.  While COVID-19 protocols have been relaxed for the most part\, some restrictions might apply that you can research before plunking down for a ticket.  If you attend I’d look into bringing sunblock and a poncho in case of rain.  More details are cited on the festivals official page that is linked in the listed. \n \nLike this:Like Loading...
URL:https://www.piercingken.com/event/governors-ball-music-festival-citi-field-6/
LOCATION:Citi Field\, 123-01 Roosevelt Ave.\, Queens\, NY\, 11368\, United States
CATEGORIES:Festival - Fair
END:VEVENT
BEGIN:VEVENT
DTSTART;VALUE=DATE:20220612
DTEND;VALUE=DATE:20220613
DTSTAMP:20260423T140512
CREATED:20220501T130035Z
LAST-MODIFIED:20220507T212902Z
UID:50972-1654992000-1655078399@www.piercingken.com
SUMMARY:Tribeca Festival @ Spring Studios
DESCRIPTION:The Tribeca Festival will takeover New York City from June 8th until June 19th and Spring Studios will be the Official Hub of the event.  To keep pace with releases and information about the event click HERE or follow the main link in this listing or on their respective social media profiles. \n \nLike this:Like Loading...
URL:https://www.piercingken.com/event/tribeca-festival-spring-studios-5/
LOCATION:Spring Studios\, 50 Varick Street\, New York\,\, NY\, 10001\, United States
CATEGORIES:Festival - Fair
END:VEVENT
BEGIN:VEVENT
DTSTART;VALUE=DATE:20220612
DTEND;VALUE=DATE:20220613
DTSTAMP:20260423T140512
CREATED:20220502T120009Z
LAST-MODIFIED:20240411T204009Z
UID:51253-1654992000-1655078399@www.piercingken.com
SUMMARY:Summer Fancy Food Show @ Javits Center
DESCRIPTION:The Specialty Food Association’s “Summer Fancy Food Show” returns to being an in-person event after a two-year absence from the pandemic.  This industry only trade show is the place to learn about the latest and greatest products destined for your grocery stores and kitchens.   \n \nLike this:Like Loading...
URL:https://www.piercingken.com/event/summer-fancy-food-show-javits-center-10/
LOCATION:Jacob K. Javits Convention Center\, 655 W 34th St.\, New York\,\, NY\, 10001\, United States
CATEGORIES:Trade Show
END:VEVENT
BEGIN:VEVENT
DTSTART;VALUE=DATE:20220613
DTEND;VALUE=DATE:20220614
DTSTAMP:20260423T140512
CREATED:20220501T131527Z
LAST-MODIFIED:20220507T213737Z
UID:50973-1655078400-1655164799@www.piercingken.com
SUMMARY:Tribeca Festival @ Spring Studios
DESCRIPTION:The Tribeca Festival will takeover New York City from June 8th until June 19th and Spring Studios will be the Official Hub of the event.  To keep pace with releases and information about the event click HERE or follow the main link in this listing or on their respective social media profiles. \n \nLike this:Like Loading...
URL:https://www.piercingken.com/event/tribeca-festival-spring-studios-6/
LOCATION:Spring Studios\, 50 Varick Street\, New York\,\, NY\, 10001\, United States
CATEGORIES:Festival - Fair
END:VEVENT
BEGIN:VEVENT
DTSTART;VALUE=DATE:20220613
DTEND;VALUE=DATE:20220614
DTSTAMP:20260423T140512
CREATED:20220502T121511Z
LAST-MODIFIED:20240411T204020Z
UID:51254-1655078400-1655164799@www.piercingken.com
SUMMARY:Summer Fancy Food Show @ Javits Center
DESCRIPTION:The Specialty Food Association’s “Summer Fancy Food Show” returns to being an in-person event after a two-year absence from the pandemic.  This industry only trade show is the place to learn about the latest and greatest products destined for your grocery stores and kitchens.   \n \nLike this:Like Loading...
URL:https://www.piercingken.com/event/summer-fancy-food-show-javits-center-11/
LOCATION:Jacob K. Javits Convention Center\, 655 W 34th St.\, New York\,\, NY\, 10001\, United States
CATEGORIES:Trade Show
END:VEVENT
BEGIN:VEVENT
DTSTART;VALUE=DATE:20220613
DTEND;VALUE=DATE:20220614
DTSTAMP:20260423T140512
CREATED:20220601T120013Z
LAST-MODIFIED:20230610T144249Z
UID:53504-1655078400-1655164799@www.piercingken.com
SUMMARY:Ken Pierce Media Anniversary @ The Internet
DESCRIPTION:Today marks the second anniversary of the Ken Pierce Media website.  Thanks to all who’ve found the content of interest and have engaged with it on Social Media. \n \nLike this:Like Loading...
URL:https://www.piercingken.com/event/ken-pierce-media-anniversary-the-internet-2/
LOCATION:NY
CATEGORIES:Special Appearance
END:VEVENT
BEGIN:VEVENT
DTSTART;VALUE=DATE:20220614
DTEND;VALUE=DATE:20220615
DTSTAMP:20260423T140512
CREATED:20220501T133010Z
LAST-MODIFIED:20220507T214357Z
UID:50974-1655164800-1655251199@www.piercingken.com
SUMMARY:Tribeca Festival @ Spring Studios
DESCRIPTION:The Tribeca Festival will takeover New York City from June 8th until June 19th and Spring Studios will be the Official Hub of the event.  To keep pace with releases and information about the event click HERE or follow the main link in this listing or on their respective social media profiles. \n \nLike this:Like Loading...
URL:https://www.piercingken.com/event/tribeca-festival-spring-studios-7/
LOCATION:Spring Studios\, 50 Varick Street\, New York\,\, NY\, 10001\, United States
CATEGORIES:Festival - Fair
END:VEVENT
BEGIN:VEVENT
DTSTART;VALUE=DATE:20220614
DTEND;VALUE=DATE:20220615
DTSTAMP:20260423T140512
CREATED:20220502T123017Z
LAST-MODIFIED:20240411T204033Z
UID:51255-1655164800-1655251199@www.piercingken.com
SUMMARY:Summer Fancy Food Show @ Javits Center
DESCRIPTION:The Specialty Food Association’s “Summer Fancy Food Show” returns to being an in-person event after a two-year absence from the pandemic.  This industry only trade show is the place to learn about the latest and greatest products destined for your grocery stores and kitchens.   \n \nLike this:Like Loading...
URL:https://www.piercingken.com/event/summer-fancy-food-show-javits-center-12/
LOCATION:Jacob K. Javits Convention Center\, 655 W 34th St.\, New York\,\, NY\, 10001\, United States
CATEGORIES:Trade Show
END:VEVENT
BEGIN:VEVENT
DTSTART;VALUE=DATE:20220615
DTEND;VALUE=DATE:20220616
DTSTAMP:20260423T140512
CREATED:20220501T134511Z
LAST-MODIFIED:20220507T214529Z
UID:50976-1655251200-1655337599@www.piercingken.com
SUMMARY:Tribeca Festival @ Spring Studios
DESCRIPTION:The Tribeca Festival will takeover New York City from June 8th until June 19th and Spring Studios will be the Official Hub of the event.  To keep pace with releases and information about the event click HERE or follow the main link in this listing or on their respective social media profiles. \n \nLike this:Like Loading...
URL:https://www.piercingken.com/event/tribeca-festival-spring-studios-8/
LOCATION:Spring Studios\, 50 Varick Street\, New York\,\, NY\, 10001\, United States
CATEGORIES:Festival - Fair
END:VEVENT
BEGIN:VEVENT
DTSTART;VALUE=DATE:20220616
DTEND;VALUE=DATE:20220617
DTSTAMP:20260423T140512
CREATED:20220501T140040Z
LAST-MODIFIED:20250410T030835Z
UID:50975-1655337600-1655423999@www.piercingken.com
SUMMARY:Tribeca Festival @ Spring Studios
DESCRIPTION:The Tribeca Festival will takeover New York City from June 8th until June 19th and Spring Studios will be the Official Hub of the event.  To keep pace with releases and information about the event click HERE or follow the main link in this listing or on their respective social media profiles. \n \nLike this:Like Loading...
URL:https://www.piercingken.com/event/tribeca-festival-spring-studios-9/
LOCATION:Spring Studios\, 50 Varick Street\, New York\,\, NY\, 10001\, United States
CATEGORIES:Festival - Fair
END:VEVENT
BEGIN:VEVENT
DTSTART;VALUE=DATE:20220617
DTEND;VALUE=DATE:20220618
DTSTAMP:20260423T140512
CREATED:20220501T141541Z
LAST-MODIFIED:20220507T224645Z
UID:50979-1655424000-1655510399@www.piercingken.com
SUMMARY:Tribeca Festival @ Spring Studios
DESCRIPTION:The Tribeca Festival will takeover New York City from June 8th until June 19th and Spring Studios will be the Official Hub of the event.  To keep pace with releases and information about the event click HERE or follow the main link in this listing or on their respective social media profiles. \n \nLike this:Like Loading...
URL:https://www.piercingken.com/event/tribeca-festival-spring-studios-10/
LOCATION:Spring Studios\, 50 Varick Street\, New York\,\, NY\, 10001\, United States
CATEGORIES:Festival - Fair
END:VEVENT
BEGIN:VEVENT
DTSTART;VALUE=DATE:20220618
DTEND;VALUE=DATE:20220619
DTSTAMP:20260423T140512
CREATED:20220501T143043Z
LAST-MODIFIED:20220507T225112Z
UID:50978-1655510400-1655596799@www.piercingken.com
SUMMARY:Tribeca Festival @ Spring Studios
DESCRIPTION:The Tribeca Festival will takeover New York City from June 8th until June 19th and Spring Studios will be the Official Hub of the event.  To keep pace with releases and information about the event click HERE or follow the main link in this listing or on their respective social media profiles. \n \nLike this:Like Loading...
URL:https://www.piercingken.com/event/tribeca-festival-spring-studios-11/
LOCATION:Spring Studios\, 50 Varick Street\, New York\,\, NY\, 10001\, United States
CATEGORIES:Festival - Fair
END:VEVENT
BEGIN:VEVENT
DTSTART;VALUE=DATE:20220619
DTEND;VALUE=DATE:20220620
DTSTAMP:20260423T140512
CREATED:20220501T144529Z
LAST-MODIFIED:20220507T225222Z
UID:50977-1655596800-1655683199@www.piercingken.com
SUMMARY:Tribeca Festival @ Spring Studios
DESCRIPTION:The Tribeca Festival will takeover New York City from June 8th until June 19th and Spring Studios will be the Official Hub of the event.  To keep pace with releases and information about the event click HERE or follow the main link in this listing or on their respective social media profiles. \n \nLike this:Like Loading...
URL:https://www.piercingken.com/event/tribeca-festival-spring-studios-12/
LOCATION:Spring Studios\, 50 Varick Street\, New York\,\, NY\, 10001\, United States
CATEGORIES:Festival - Fair
END:VEVENT
BEGIN:VEVENT
DTSTART;VALUE=DATE:20220624
DTEND;VALUE=DATE:20220625
DTSTAMP:20260423T140512
CREATED:20220601T120011Z
LAST-MODIFIED:20220627T035752Z
UID:51462-1656028800-1656115199@www.piercingken.com
SUMMARY:Classic Rewind Weekend @ Showboat Hotel
DESCRIPTION:The Classic Rewind Weekend is the place to be to meet numerous stars of stage and screen and even some musicians.  Don’t miss out if you like this sort of thing.   \n \nLike this:Like Loading...
URL:https://www.piercingken.com/event/classic-rewind-weekend-showboat-hotel/
LOCATION:Showboat Hotel\, 801 Boardwalk\, Atlantic City\, NJ\, 08401\, United States
CATEGORIES:Convention
END:VEVENT
BEGIN:VEVENT
DTSTART;VALUE=DATE:20220625
DTEND;VALUE=DATE:20220626
DTSTAMP:20260423T140512
CREATED:20220601T123010Z
LAST-MODIFIED:20220627T035801Z
UID:51463-1656115200-1656201599@www.piercingken.com
SUMMARY:Classic Rewind Weekend @ Showboat Hotel
DESCRIPTION:The Classic Rewind Weekend is the place to be to meet numerous stars of stage and screen and even some musicians.  Don’t miss out if you like this sort of thing.   \n \nLike this:Like Loading...
URL:https://www.piercingken.com/event/classic-rewind-weekend-showboat-hotel-2/
LOCATION:Showboat Hotel\, 801 Boardwalk\, Atlantic City\, NJ\, 08401\, United States
CATEGORIES:Convention
END:VEVENT
BEGIN:VEVENT
DTSTART;VALUE=DATE:20220626
DTEND;VALUE=DATE:20220627
DTSTAMP:20260423T140512
CREATED:20220601T130010Z
LAST-MODIFIED:20220627T035212Z
UID:51464-1656201600-1656287999@www.piercingken.com
SUMMARY:Classic Rewind Weekend @ Showboat Hotel
DESCRIPTION:The Classic Rewind Weekend is the place to be to meet numerous stars of stage and screen and even some musicians.  Don’t miss out if you like this sort of thing.   \n \nLike this:Like Loading...
URL:https://www.piercingken.com/event/classic-rewind-weekend-showboat-hotel-3/
LOCATION:Showboat Hotel\, 801 Boardwalk\, Atlantic City\, NJ\, 08401\, United States
CATEGORIES:Convention
END:VEVENT
BEGIN:VEVENT
DTSTART;TZID=America/New_York:20220704T120000
DTEND;TZID=America/New_York:20220704T130000
DTSTAMP:20260423T140512
CREATED:20220701T120010Z
LAST-MODIFIED:20220704T151724Z
UID:51549-1656936000-1656939600@www.piercingken.com
SUMMARY:Hot Dog Eating Contest @ Nathan’s Famous Coney Island
DESCRIPTION:Competitive Eaters from everywhere will vie for the Mustard Belt by eating as many Nathan’s Famous hot dogs as they possibly can.  Once again this will be a publicly attended affair and back at the corner of the Nathan’s Famous establishment.  As we always say\, if you attend please order up a couple for us and then visit the beach and boardwalk. \n \nLike this:Like Loading...
URL:https://www.piercingken.com/event/hot-dog-eating-contest-nathans-famous-coney-island-6/
LOCATION:Nathan’s Famous Coney Island\, 1310 Surf Avenue\, Brooklyn\, NY\, 11224\, United States
CATEGORIES:Festival - Fair
END:VEVENT
BEGIN:VEVENT
DTSTART;VALUE=DATE:20220708
DTEND;VALUE=DATE:20220709
DTSTAMP:20260423T140512
CREATED:20220107T130021Z
LAST-MODIFIED:20220921T232737Z
UID:50250-1657238400-1657324799@www.piercingken.com
SUMMARY:BroadwayCon @ New Yorker Hotel
DESCRIPTION:As previously reported HERE\, the BroadwayCon has been rescheduled to this weekend and will take place at BOTH the Manhattan Center and the New Yorker Hotel.   \n \nLike this:Like Loading...
URL:https://www.piercingken.com/event/broadwaycon-new-yorker-hotel/
LOCATION:New Yorker Hotel\, 481 8th Ave\, New York\, NY\, 10001\, United States
CATEGORIES:Convention
END:VEVENT
BEGIN:VEVENT
DTSTART;VALUE=DATE:20220709
DTEND;VALUE=DATE:20220710
DTSTAMP:20260423T140512
CREATED:20220107T131559Z
LAST-MODIFIED:20220921T232714Z
UID:50261-1657324800-1657411199@www.piercingken.com
SUMMARY:BroadwayCon @ New Yorker Hotel
DESCRIPTION:As previously reported HERE\, the BroadwayCon has been rescheduled to this weekend and will take place at BOTH the Manhattan Center and the New Yorker Hotel.   \n \nLike this:Like Loading...
URL:https://www.piercingken.com/event/broadwaycon-new-yorker-hotel-2/
LOCATION:New Yorker Hotel\, 481 8th Ave\, New York\, NY\, 10001\, United States
CATEGORIES:Convention
END:VEVENT
BEGIN:VEVENT
DTSTART;VALUE=DATE:20220710
DTEND;VALUE=DATE:20220711
DTSTAMP:20260423T140512
CREATED:20220107T133047Z
LAST-MODIFIED:20220921T232657Z
UID:50260-1657411200-1657497599@www.piercingken.com
SUMMARY:BroadwayCon @ New Yorker Hotel
DESCRIPTION:As previously reported HERE\, the BroadwayCon has been rescheduled to this weekend and will take place at BOTH the Manhattan Center and the New Yorker Hotel.   \n \nLike this:Like Loading...
URL:https://www.piercingken.com/event/broadwaycon-new-yorker-hotel-3/
LOCATION:New Yorker Hotel\, 481 8th Ave\, New York\, NY\, 10001\, United States
CATEGORIES:Convention
END:VEVENT
BEGIN:VEVENT
DTSTART;VALUE=DATE:20220712
DTEND;VALUE=DATE:20220713
DTSTAMP:20260423T140512
CREATED:20220701T133031Z
LAST-MODIFIED:20240708T215354Z
UID:56078-1657584000-1657670399@www.piercingken.com
SUMMARY:AWS Summit @ Javits Center
DESCRIPTION:AWS Summits are a series of free online and in-person events that bring the cloud computing community together to connect\, collaborate\, and learn about AWS. These events are designed to educate you about AWS products and services and help you develop the skills needed to build\, deploy\, and operate your infrastructure and applications. This year’s Summit will have some health and safety requirements in order for you to attend.  Please refer to the link in this listing for more information.  Know before you go. \n \nLike this:Like Loading...
URL:https://www.piercingken.com/event/aws-summit-javits-center/
LOCATION:Jacob K. Javits Convention Center\, 655 W 34th St.\, New York\,\, NY\, 10001\, United States
CATEGORIES:Convention
END:VEVENT
BEGIN:VEVENT
DTSTART;VALUE=DATE:20220715
DTEND;VALUE=DATE:20220716
DTSTAMP:20260423T140512
CREATED:20220617T120051Z
LAST-MODIFIED:20220719T175559Z
UID:51656-1657843200-1657929599@www.piercingken.com
SUMMARY:New York Asian Film Festival @ Lincoln Center
DESCRIPTION:After a virtual year in 2020 and a hybrid one in 2021\, the New York Asian Film Festival returns to being a fully in-person event at the Lincoln Center for the Performing Arts.  The festival will run from 7/15-7/31 and a number of highlights can be perused in the press release that was posted HERE. \n \nLike this:Like Loading...
URL:https://www.piercingken.com/event/new-york-asian-film-festival-lincoln-center/
LOCATION:Lincoln Center for the Performing Arts\, 10 Lincoln Center Plaza\, New York\, NY\, 10023\, United States
CATEGORIES:Festival - Fair
END:VEVENT
BEGIN:VEVENT
DTSTART;VALUE=DATE:20220716
DTEND;VALUE=DATE:20220717
DTSTAMP:20260423T140512
CREATED:20220617T121523Z
LAST-MODIFIED:20220719T181217Z
UID:51665-1657929600-1658015999@www.piercingken.com
SUMMARY:New York Asian Film Festival @ Lincoln Center
DESCRIPTION:After a virtual year in 2020 and a hybrid one in 2021\, the New York Asian Film Festival returns to being a fully in-person event at the Lincoln Center for the Performing Arts.  The festival will run from 7/15-7/31 and a number of highlights can be perused in the press release that was posted HERE. \n \nLike this:Like Loading...
URL:https://www.piercingken.com/event/new-york-asian-film-festival-lincoln-center-2/
LOCATION:Lincoln Center for the Performing Arts\, 10 Lincoln Center Plaza\, New York\, NY\, 10023\, United States
CATEGORIES:Festival - Fair
END:VEVENT
BEGIN:VEVENT
DTSTART;VALUE=DATE:20220717
DTEND;VALUE=DATE:20220718
DTSTAMP:20260423T140512
CREATED:20220617T123030Z
LAST-MODIFIED:20220719T181424Z
UID:51666-1658016000-1658102399@www.piercingken.com
SUMMARY:New York Asian Film Festival @ Lincoln Center
DESCRIPTION:After a virtual year in 2020 and a hybrid one in 2021\, the New York Asian Film Festival returns to being a fully in-person event at the Lincoln Center for the Performing Arts.  The festival will run from 7/15-7/31 and a number of highlights can be perused in the press release that was posted HERE. \n \nLike this:Like Loading...
URL:https://www.piercingken.com/event/new-york-asian-film-festival-lincoln-center-3/
LOCATION:Lincoln Center for the Performing Arts\, 10 Lincoln Center Plaza\, New York\, NY\, 10023\, United States
CATEGORIES:Festival - Fair
END:VEVENT
BEGIN:VEVENT
DTSTART;VALUE=DATE:20220718
DTEND;VALUE=DATE:20220719
DTSTAMP:20260423T140512
CREATED:20220617T124501Z
LAST-MODIFIED:20220719T183847Z
UID:51667-1658102400-1658188799@www.piercingken.com
SUMMARY:New York Asian Film Festival @ Lincoln Center
DESCRIPTION:After a virtual year in 2020 and a hybrid one in 2021\, the New York Asian Film Festival returns to being a fully in-person event at the Lincoln Center for the Performing Arts.  The festival will run from 7/15-7/31 and a number of highlights can be perused in the press release that was posted HERE. \n \nLike this:Like Loading...
URL:https://www.piercingken.com/event/new-york-asian-film-festival-lincoln-center-4/
LOCATION:Lincoln Center for the Performing Arts\, 10 Lincoln Center Plaza\, New York\, NY\, 10023\, United States
CATEGORIES:Festival - Fair
END:VEVENT
BEGIN:VEVENT
DTSTART;VALUE=DATE:20220719
DTEND;VALUE=DATE:20220720
DTSTAMP:20260423T140512
CREATED:20220617T130012Z
LAST-MODIFIED:20220719T183926Z
UID:51668-1658188800-1658275199@www.piercingken.com
SUMMARY:New York Asian Film Festival @ Lincoln Center
DESCRIPTION:After a virtual year in 2020 and a hybrid one in 2021\, the New York Asian Film Festival returns to being a fully in-person event at the Lincoln Center for the Performing Arts.  The festival will run from 7/15-7/31 and a number of highlights can be perused in the press release that was posted HERE. \n \nLike this:Like Loading...
URL:https://www.piercingken.com/event/new-york-asian-film-festival-lincoln-center-5/
LOCATION:Lincoln Center for the Performing Arts\, 10 Lincoln Center Plaza\, New York\, NY\, 10023\, United States
CATEGORIES:Festival - Fair
END:VEVENT
BEGIN:VEVENT
DTSTART;VALUE=DATE:20220720
DTEND;VALUE=DATE:20220721
DTSTAMP:20260423T140512
CREATED:20220617T131513Z
LAST-MODIFIED:20220719T184214Z
UID:51669-1658275200-1658361599@www.piercingken.com
SUMMARY:New York Asian Film Festival @ Lincoln Center
DESCRIPTION:After a virtual year in 2020 and a hybrid one in 2021\, the New York Asian Film Festival returns to being a fully in-person event at the Lincoln Center for the Performing Arts.  The festival will run from 7/15-7/31 and a number of highlights can be perused in the press release that was posted HERE. \n \nLike this:Like Loading...
URL:https://www.piercingken.com/event/new-york-asian-film-festival-lincoln-center-6/
LOCATION:Lincoln Center for the Performing Arts\, 10 Lincoln Center Plaza\, New York\, NY\, 10023\, United States
CATEGORIES:Festival - Fair
END:VEVENT
BEGIN:VEVENT
DTSTART;TZID=America/New_York:20220720T193000
DTEND;TZID=America/New_York:20220720T213000
DTSTAMP:20260423T140512
CREATED:20220710T120008Z
LAST-MODIFIED:20220711T051205Z
UID:51596-1658345400-1658352600@www.piercingken.com
SUMMARY:Songs from Lourds Lane's "SuperYou" Musical @ Carnegie Hall
DESCRIPTION:NYC Musician Lourds Lane brings songs from the “SuperYou” Musical to life in the Zankel Hall of the famed Carnegie Hall for two exclusive performances.  Come on out and enjoy this sure to be special event. \n \nLike this:Like Loading...
URL:https://www.piercingken.com/event/songs-from-lourds-lanes-superyou-musical-carnegie-hall/
LOCATION:Carnegie Hall\, 881-7th Avenue\, New York\, NY\, 10019\, United States
CATEGORIES:Concert
END:VEVENT
END:VCALENDAR