BEGIN:VCALENDAR
VERSION:2.0
PRODID:-//The Chronicles Of PiercingKen - ECPv6.15.20//NONSGML v1.0//EN
CALSCALE:GREGORIAN
METHOD:PUBLISH
X-WR-CALNAME:The Chronicles Of PiercingKen
X-ORIGINAL-URL:https://www.piercingken.com
X-WR-CALDESC:Events for The Chronicles Of PiercingKen
REFRESH-INTERVAL;VALUE=DURATION:PT1H
X-Robots-Tag:noindex
X-PUBLISHED-TTL:PT1H
BEGIN:VTIMEZONE
TZID:America/New_York
BEGIN:DAYLIGHT
TZOFFSETFROM:-0500
TZOFFSETTO:-0400
TZNAME:EDT
DTSTART:20210314T070000
END:DAYLIGHT
BEGIN:STANDARD
TZOFFSETFROM:-0400
TZOFFSETTO:-0500
TZNAME:EST
DTSTART:20211107T060000
END:STANDARD
BEGIN:DAYLIGHT
TZOFFSETFROM:-0500
TZOFFSETTO:-0400
TZNAME:EDT
DTSTART:20220313T070000
END:DAYLIGHT
BEGIN:STANDARD
TZOFFSETFROM:-0400
TZOFFSETTO:-0500
TZNAME:EST
DTSTART:20221106T060000
END:STANDARD
BEGIN:DAYLIGHT
TZOFFSETFROM:-0500
TZOFFSETTO:-0400
TZNAME:EDT
DTSTART:20230312T070000
END:DAYLIGHT
BEGIN:STANDARD
TZOFFSETFROM:-0400
TZOFFSETTO:-0500
TZNAME:EST
DTSTART:20231105T060000
END:STANDARD
END:VTIMEZONE
BEGIN:VEVENT
DTSTART;VALUE=DATE:20221110
DTEND;VALUE=DATE:20221111
DTSTAMP:20260422T022043
CREATED:20221101T134509Z
LAST-MODIFIED:20240310T015953Z
UID:54862-1668038400-1668124799@www.piercingken.com
SUMMARY:Canstruction New York @ Brookfield Place
DESCRIPTION:The annual Canstruction New York exhibit returns to Brookfield Place and will run for twelve days.  This is the 30th Anniversary of Canstruction and their 15th year presenting it at Brookfield Place.  This is an amazing visual and will maximize your Instagram feed.  Remember to bring along a couple of cans of non-perishable goods to donate because at the end of the exhibit everything goes to New York’s own City Harvest. \n \nLike this:Like Loading...
URL:https://www.piercingken.com/event/canstruction-new-york-brookfield-place-62/
LOCATION:Brookfield Place\, 230 Vesey Street\, New York\, NY\, 10281\, United States
CATEGORIES:Art Fair
END:VEVENT
BEGIN:VEVENT
DTSTART;VALUE=DATE:20221109
DTEND;VALUE=DATE:20221110
DTSTAMP:20260422T022043
CREATED:20221101T133010Z
LAST-MODIFIED:20240310T015933Z
UID:54863-1667952000-1668038399@www.piercingken.com
SUMMARY:Canstruction New York @ Brookfield Place
DESCRIPTION:The annual Canstruction New York exhibit returns to Brookfield Place and will run for twelve days.  This is the 30th Anniversary of Canstruction and their 15th year presenting it at Brookfield Place.  This is an amazing visual and will maximize your Instagram feed.  Remember to bring along a couple of cans of non-perishable goods to donate because at the end of the exhibit everything goes to New York’s own City Harvest. \n \nLike this:Like Loading...
URL:https://www.piercingken.com/event/canstruction-new-york-brookfield-place-61/
LOCATION:Brookfield Place\, 230 Vesey Street\, New York\, NY\, 10281\, United States
CATEGORIES:Art Fair
END:VEVENT
BEGIN:VEVENT
DTSTART;VALUE=DATE:20221108
DTEND;VALUE=DATE:20221109
DTSTAMP:20260422T022043
CREATED:20221101T131522Z
LAST-MODIFIED:20240309T182948Z
UID:54686-1667865600-1667951999@www.piercingken.com
SUMMARY:Canstruction New York @ Brookfield Place
DESCRIPTION:The annual Canstruction New York exhibit returns to Brookfield Place and will run for twelve days.  This is the 30th Anniversary of Canstruction and their 15th year presenting it at Brookfield Place.  This is an amazing visual and will maximize your Instagram feed.  Remember to bring along a couple of cans of non-perishable goods to donate because at the end of the exhibit everything goes to New York’s own City Harvest. \n \nLike this:Like Loading...
URL:https://www.piercingken.com/event/canstruction-new-york-brookfield-place-60/
LOCATION:Brookfield Place\, 230 Vesey Street\, New York\, NY\, 10281\, United States
CATEGORIES:Art Fair
END:VEVENT
BEGIN:VEVENT
DTSTART;VALUE=DATE:20221107
DTEND;VALUE=DATE:20221108
DTSTAMP:20260422T022043
CREATED:20221101T130020Z
LAST-MODIFIED:20240309T182930Z
UID:54697-1667779200-1667865599@www.piercingken.com
SUMMARY:Canstruction New York @ Brookfield Place
DESCRIPTION:The annual Canstruction New York exhibit returns to Brookfield Place and will run for twelve days.  This is the 30th Anniversary of Canstruction and their 15th year presenting it at Brookfield Place.  This is an amazing visual and will maximize your Instagram feed.  Remember to bring along a couple of cans of non-perishable goods to donate because at the end of the exhibit everything goes to New York’s own City Harvest. \n \nLike this:Like Loading...
URL:https://www.piercingken.com/event/canstruction-new-york-brookfield-place-59/
LOCATION:Brookfield Place\, 230 Vesey Street\, New York\, NY\, 10281\, United States
CATEGORIES:Art Fair
END:VEVENT
BEGIN:VEVENT
DTSTART;VALUE=DATE:20221106
DTEND;VALUE=DATE:20221107
DTSTAMP:20260422T022043
CREATED:20221101T124548Z
LAST-MODIFIED:20240309T182914Z
UID:54683-1667692800-1667779199@www.piercingken.com
SUMMARY:Canstruction New York @ Brookfield Place
DESCRIPTION:The annual Canstruction New York exhibit returns to Brookfield Place and will run for twelve days.  This is the 30th Anniversary of Canstruction and their 15th year presenting it at Brookfield Place.  This is an amazing visual and will maximize your Instagram feed.  Remember to bring along a couple of cans of non-perishable goods to donate because at the end of the exhibit everything goes to New York’s own City Harvest. \n \nLike this:Like Loading...
URL:https://www.piercingken.com/event/canstruction-new-york-brookfield-place-58/
LOCATION:Brookfield Place\, 230 Vesey Street\, New York\, NY\, 10281\, United States
CATEGORIES:Art Fair
END:VEVENT
BEGIN:VEVENT
DTSTART;TZID=America/New_York:20221105T120000
DTEND;TZID=America/New_York:20221105T210000
DTSTAMP:20260422T022043
CREATED:20220919T131507Z
LAST-MODIFIED:20221020T235319Z
UID:52232-1667649600-1667682000@www.piercingken.com
SUMMARY:Play NYC @ Chelsea Industrial
DESCRIPTION:Playcrafting’s Play NYC event has returned for its sixth year and will be held today at Chelsea Industrial. If you’re a gamer at heart and want to see some new and amazing developments you’re not going to want to miss this.  The public hours run until 6PM and they’re followed by an Industry only event which runs until 9PM. \n \nLike this:Like Loading...
URL:https://www.piercingken.com/event/play-nyc-chelsea-industrial/
LOCATION:Chelsea Industrial\, 535-549 W 28th St\, New York\, NY\, 10001\, United States
CATEGORIES:Convention
ORGANIZER;CN="Playcrafting":MAILTO:events@playcrafting.com
END:VEVENT
BEGIN:VEVENT
DTSTART;VALUE=DATE:20221105
DTEND;VALUE=DATE:20221106
DTSTAMP:20260422T022043
CREATED:20221101T123046Z
LAST-MODIFIED:20240309T182857Z
UID:54681-1667606400-1667692799@www.piercingken.com
SUMMARY:Canstruction New York @ Brookfield Place
DESCRIPTION:The annual Canstruction New York exhibit returns to Brookfield Place and will run for twelve days.  This is the 30th Anniversary of Canstruction and their 15th year presenting it at Brookfield Place.  This is an amazing visual and will maximize your Instagram feed.  Remember to bring along a couple of cans of non-perishable goods to donate because at the end of the exhibit everything goes to New York’s own City Harvest. \n \nLike this:Like Loading...
URL:https://www.piercingken.com/event/canstruction-new-york-brookfield-place-57/
LOCATION:Brookfield Place\, 230 Vesey Street\, New York\, NY\, 10281\, United States
CATEGORIES:Art Fair
END:VEVENT
BEGIN:VEVENT
DTSTART;VALUE=DATE:20221104
DTEND;VALUE=DATE:20221105
DTSTAMP:20260422T022043
CREATED:20221101T121550Z
LAST-MODIFIED:20240309T182846Z
UID:54680-1667520000-1667606399@www.piercingken.com
SUMMARY:Canstruction New York @ Brookfield Place
DESCRIPTION:The annual Canstruction New York exhibit returns to Brookfield Place and will run for twelve days.  This is the 30th Anniversary of Canstruction and their 15th year presenting it at Brookfield Place.  This is an amazing visual and will maximize your Instagram feed.  Remember to bring along a couple of cans of non-perishable goods to donate because at the end of the exhibit everything goes to New York’s own City Harvest. \n \nLike this:Like Loading...
URL:https://www.piercingken.com/event/canstruction-new-york-brookfield-place-56/
LOCATION:Brookfield Place\, 230 Vesey Street\, New York\, NY\, 10281\, United States
CATEGORIES:Art Fair
END:VEVENT
BEGIN:VEVENT
DTSTART;VALUE=DATE:20221103
DTEND;VALUE=DATE:20221104
DTSTAMP:20260422T022043
CREATED:20221101T120053Z
LAST-MODIFIED:20240309T182829Z
UID:54679-1667433600-1667519999@www.piercingken.com
SUMMARY:Canstruction New York @ Brookfield Place
DESCRIPTION:The annual Canstruction New York exhibit returns to Brookfield Place and will run for twelve days.  This is the 30th Anniversary of Canstruction and their 15th year presenting it at Brookfield Place.  This is an amazing visual and will maximize your Instagram feed.  Remember to bring along a couple of cans of non-perishable goods to donate because at the end of the exhibit everything goes to New York’s own City Harvest. \n \nLike this:Like Loading...
URL:https://www.piercingken.com/event/canstruction-new-york-brookfield-place-55/
LOCATION:Brookfield Place\, 230 Vesey Street\, New York\, NY\, 10281\, United States
CATEGORIES:Art Fair
END:VEVENT
BEGIN:VEVENT
DTSTART;VALUE=DATE:20221030
DTEND;VALUE=DATE:20221031
DTSTAMP:20260422T022043
CREATED:20221010T130000Z
LAST-MODIFIED:20221018T030728Z
UID:52215-1667088000-1667174399@www.piercingken.com
SUMMARY:NY International Travel Show @ Javits Center
DESCRIPTION:The New York International Travel Show debuts at the Javits Center for three days and you can learn more about the event that is the successor to the now sunset New York Times Travel Show by clicking HERE.  Saturday is open to the General Public. \n \nLike this:Like Loading...
URL:https://www.piercingken.com/event/ny-international-travel-show-javits-center-3/
LOCATION:Jacob K. Javits Convention Center\, 655 W 34th St.\, New York\,\, NY\, 10001\, United States
CATEGORIES:Convention
END:VEVENT
BEGIN:VEVENT
DTSTART;VALUE=DATE:20221030
DTEND;VALUE=DATE:20221031
DTSTAMP:20260422T022043
CREATED:20221001T124517Z
LAST-MODIFIED:20250905T175913Z
UID:59437-1667088000-1667174399@www.piercingken.com
SUMMARY:IFPDA Print Fair @ Javits Center
DESCRIPTION:Like this:Like Loading...
URL:https://www.piercingken.com/event/ifpda-print-fair-javits-center-4/
LOCATION:NY
CATEGORIES:Art Fair
END:VEVENT
BEGIN:VEVENT
DTSTART;VALUE=DATE:20221029
DTEND;VALUE=DATE:20221030
DTSTAMP:20260422T022043
CREATED:20221010T123052Z
LAST-MODIFIED:20221018T030309Z
UID:52214-1667001600-1667087999@www.piercingken.com
SUMMARY:NY International Travel Show @ Javits Center
DESCRIPTION:The New York International Travel Show debuts at the Javits Center for three days and you can learn more about the event that is the successor to the now sunset New York Times Travel Show by clicking HERE.  Saturday is open to the General Public. \n \nLike this:Like Loading...
URL:https://www.piercingken.com/event/ny-international-travel-show-javits-center-2/
LOCATION:Jacob K. Javits Convention Center\, 655 W 34th St.\, New York\,\, NY\, 10001\, United States
CATEGORIES:Convention
END:VEVENT
BEGIN:VEVENT
DTSTART;VALUE=DATE:20221029
DTEND;VALUE=DATE:20221030
DTSTAMP:20260422T022043
CREATED:20221001T123024Z
LAST-MODIFIED:20250905T175900Z
UID:59436-1667001600-1667087999@www.piercingken.com
SUMMARY:IFPDA Print Fair @ Javits Center
DESCRIPTION:Like this:Like Loading...
URL:https://www.piercingken.com/event/ifpda-print-fair-javits-center-3/
LOCATION:NY
CATEGORIES:Art Fair
END:VEVENT
BEGIN:VEVENT
DTSTART;VALUE=DATE:20221028
DTEND;VALUE=DATE:20221029
DTSTAMP:20260422T022043
CREATED:20221010T120044Z
LAST-MODIFIED:20221018T030217Z
UID:52213-1666915200-1667001599@www.piercingken.com
SUMMARY:NY International Travel Show @ Javits Center
DESCRIPTION:The New York International Travel Show debuts at the Javits Center for three days and you can learn more about the event that is the successor to the now sunset New York Times Travel Show by clicking HERE.  Today is the Media and Travel Professionals Day.  The Saturday and Sunday sessions are open to the general public. \n \nLike this:Like Loading...
URL:https://www.piercingken.com/event/ny-international-travel-show-javits-center/
LOCATION:Jacob K. Javits Convention Center\, 655 W 34th St.\, New York\,\, NY\, 10001\, United States
CATEGORIES:Convention
END:VEVENT
BEGIN:VEVENT
DTSTART;VALUE=DATE:20221028
DTEND;VALUE=DATE:20221029
DTSTAMP:20260422T022043
CREATED:20221001T121531Z
LAST-MODIFIED:20250905T175748Z
UID:59435-1666915200-1667001599@www.piercingken.com
SUMMARY:IFPDA Print Fair @ Javits Center
DESCRIPTION:Like this:Like Loading...
URL:https://www.piercingken.com/event/ifpda-print-fair-javits-center-2/
LOCATION:Jacob K. Javits Convention Center\, 655 W 34th St.\, New York\,\, NY\, 10001\, United States
CATEGORIES:Art Fair
END:VEVENT
BEGIN:VEVENT
DTSTART;VALUE=DATE:20221027
DTEND;VALUE=DATE:20221028
DTSTAMP:20260422T022043
CREATED:20221001T120038Z
LAST-MODIFIED:20250905T175726Z
UID:59434-1666828800-1666915199@www.piercingken.com
SUMMARY:IFPDA Print Fair @ Javits Center
DESCRIPTION:Like this:Like Loading...
URL:https://www.piercingken.com/event/ifpda-print-fair-javits-center/
LOCATION:Jacob K. Javits Convention Center\, 655 W 34th St.\, New York\,\, NY\, 10001\, United States
CATEGORIES:Art Fair
END:VEVENT
BEGIN:VEVENT
DTSTART;VALUE=DATE:20221023
DTEND;VALUE=DATE:20221024
DTSTAMP:20260422T022043
CREATED:20221001T123003Z
LAST-MODIFIED:20241015T162030Z
UID:56972-1666483200-1666569599@www.piercingken.com
SUMMARY:eXXXotica Expo @ New Jersey Convention and Exposition Center
DESCRIPTION:The 2022 eXXXotica Expo is here and will be the place to meet your favorite adult performers and webcam models along with so much more adult-oriented fun. Come on out if you are daring enough and of course are over the age of 18.  ID will be necessary for sure. \n \nLike this:Like Loading...
URL:https://www.piercingken.com/event/exxxotica-expo-new-jersey-convention-and-exposition-center-15/
LOCATION:New Jersey Convention and Exposition Center\, 97 Sunfield Ave\, Edison\, NY\, 08837\, United States
CATEGORIES:Convention
END:VEVENT
BEGIN:VEVENT
DTSTART;VALUE=DATE:20221022
DTEND;VALUE=DATE:20221023
DTSTAMP:20260422T022043
CREATED:20221001T121556Z
LAST-MODIFIED:20241015T161753Z
UID:56971-1666396800-1666483199@www.piercingken.com
SUMMARY:eXXXotica Expo @ New Jersey Convention and Exposition Center
DESCRIPTION:The 2022 eXXXotica Expo is here and will be the place to meet your favorite adult performers and webcam models along with so much more adult-oriented fun. Come on out if you are daring enough and of course are over the age of 18.  ID will be necessary for sure. \n \nLike this:Like Loading...
URL:https://www.piercingken.com/event/exxxotica-expo-new-jersey-convention-and-exposition-center-14/
LOCATION:New Jersey Convention and Exposition Center\, 97 Sunfield Ave\, Edison\, NY\, 08837\, United States
CATEGORIES:Convention
END:VEVENT
BEGIN:VEVENT
DTSTART;VALUE=DATE:20221021
DTEND;VALUE=DATE:20221022
DTSTAMP:20260422T022043
CREATED:20221001T120047Z
LAST-MODIFIED:20241015T161744Z
UID:56970-1666310400-1666396799@www.piercingken.com
SUMMARY:eXXXotica Expo @ New Jersey Convention and Exposition Center
DESCRIPTION:The 2022 eXXXotica Expo is here and will be the place to meet your favorite adult performers and webcam models along with so much more adult-oriented fun. Come on out if you are daring enough and of course are over the age of 18.  ID will be necessary for sure. \n \nLike this:Like Loading...
URL:https://www.piercingken.com/event/exxxotica-expo-new-jersey-convention-and-exposition-center-13/
LOCATION:New Jersey Convention and Exposition Center\, 97 Sunfield Ave\, Edison\, NY\, 08837\, United States
CATEGORIES:Convention
END:VEVENT
BEGIN:VEVENT
DTSTART;VALUE=DATE:20221016
DTEND;VALUE=DATE:20221017
DTSTAMP:20260422T022043
CREATED:20221002T130056Z
LAST-MODIFIED:20221016T020322Z
UID:52197-1665878400-1665964799@www.piercingken.com
SUMMARY:BravoCon @ Javits Center
DESCRIPTION:BravoCon is back! The three-day party will take place at the Javits Center in New York City and feature panels\, live performances\, and exclusive content for ticket holders. \n \nLike this:Like Loading...
URL:https://www.piercingken.com/event/bravocon-javits-center-3/
LOCATION:Jacob K. Javits Convention Center\, 655 W 34th St.\, New York\,\, NY\, 10001\, United States
CATEGORIES:Convention
END:VEVENT
BEGIN:VEVENT
DTSTART;VALUE=DATE:20221016
DTEND;VALUE=DATE:20221017
DTSTAMP:20260422T022043
CREATED:20220811T160030Z
LAST-MODIFIED:20220818T230003Z
UID:51822-1665878400-1665964799@www.piercingken.com
SUMMARY:New York Film Festival @ Film at Lincoln Center
DESCRIPTION:This year’s New York Film Festival will be held at Film at Lincoln Center and select other locations across NYC.  The slate of films for the 60th annual festival can be found in their Press Release that was posted HERE.  Keep up with their website and social media for the other locations. \n \nLike this:Like Loading...
URL:https://www.piercingken.com/event/new-york-film-festival-film-at-lincoln-center-17/
LOCATION:Lincoln Center for the Performing Arts\, 10 Lincoln Center Plaza\, New York\, NY\, 10023\, United States
CATEGORIES:Festival - Fair
END:VEVENT
BEGIN:VEVENT
DTSTART;VALUE=DATE:20221015
DTEND;VALUE=DATE:20221016
DTSTAMP:20260422T022043
CREATED:20220811T154510Z
LAST-MODIFIED:20220818T225757Z
UID:51810-1665792000-1665878399@www.piercingken.com
SUMMARY:New York Film Festival @ Film at Lincoln Center
DESCRIPTION:This year’s New York Film Festival will be held at Film at Lincoln Center and select other locations across NYC.  The slate of films for the 60th annual festival can be found in their Press Release that was posted HERE.  Keep up with their website and social media for the other locations. \n \nLike this:Like Loading...
URL:https://www.piercingken.com/event/new-york-film-festival-film-at-lincoln-center-16/
LOCATION:Lincoln Center for the Performing Arts\, 10 Lincoln Center Plaza\, New York\, NY\, 10023\, United States
CATEGORIES:Festival - Fair
END:VEVENT
BEGIN:VEVENT
DTSTART;VALUE=DATE:20221015
DTEND;VALUE=DATE:20221016
DTSTAMP:20260422T022043
CREATED:20221002T123051Z
LAST-MODIFIED:20221016T023313Z
UID:52196-1665792000-1665878399@www.piercingken.com
SUMMARY:BravoCon @ Javits Center
DESCRIPTION:BravoCon is back! The three-day party will take place at the Javits Center in New York City and feature panels\, live performances\, and exclusive content for ticket holders.  There are several tiers to this event with the General Access being the cheapest option.  This is the one listed in this entry. \n \nLike this:Like Loading...
URL:https://www.piercingken.com/event/bravocon-javits-center-2/
LOCATION:Jacob K. Javits Convention Center\, 655 W 34th St.\, New York\,\, NY\, 10001\, United States
CATEGORIES:Convention
END:VEVENT
BEGIN:VEVENT
DTSTART;VALUE=DATE:20221014
DTEND;VALUE=DATE:20221015
DTSTAMP:20260422T022043
CREATED:20221002T120047Z
LAST-MODIFIED:20221016T023301Z
UID:52195-1665705600-1665791999@www.piercingken.com
SUMMARY:BravoCon @ Javits Center
DESCRIPTION:BravoCon is back! The three-day party will take place at the Javits Center in New York City and feature panels\, live performances\, and exclusive content for ticket holders.  There are several tiers to this event with the General Access being the cheapest option.  This is the one listed in this entry. \n \nLike this:Like Loading...
URL:https://www.piercingken.com/event/bravocon-javits-center/
LOCATION:Jacob K. Javits Convention Center\, 655 W 34th St.\, New York\,\, NY\, 10001\, United States
CATEGORIES:Convention
END:VEVENT
BEGIN:VEVENT
DTSTART;VALUE=DATE:20221014
DTEND;VALUE=DATE:20221015
DTSTAMP:20260422T022043
CREATED:20221001T123024Z
LAST-MODIFIED:20221012T015241Z
UID:52170-1665705600-1665791999@www.piercingken.com
SUMMARY:Smashing Pumpkins @ UBS Arena
DESCRIPTION:The Smashing Pumpkins will play a wide variety of classics and new material and be joined by Jane’s Addiction as well.  Don’t miss this one. \n \nLike this:Like Loading...
URL:https://www.piercingken.com/event/smashing-pumpkins-ubs-arena/
LOCATION:UBS Arena\, 2150 Hempstead Turnpike\, Elmont\, NY\, 11003\, United States
CATEGORIES:Concert
END:VEVENT
BEGIN:VEVENT
DTSTART;VALUE=DATE:20221014
DTEND;VALUE=DATE:20221015
DTSTAMP:20260422T022043
CREATED:20220915T124501Z
LAST-MODIFIED:20221012T225057Z
UID:52177-1665705600-1665791999@www.piercingken.com
SUMMARY:Mondo.NYC @ Williamsburg Hotel
DESCRIPTION:The Mondo.NYC is the annual Music\, Arts & Technology Business Conference & Showcase Festival and it’s taking over the Williamsburg Hotel for the next three days.  This is the first fully in-person event since 2019 so don’t miss out if the topics lined out on their site interest you. \n \nLike this:Like Loading...
URL:https://www.piercingken.com/event/mondo-nyc-williamsburg-hotel-8/
LOCATION:Williamsburg Hotel\, 96 Wythe Avenue\, Brooklyn\, NY\, 11249\, United States
CATEGORIES:Convention
END:VEVENT
BEGIN:VEVENT
DTSTART;VALUE=DATE:20221014
DTEND;VALUE=DATE:20221015
DTSTAMP:20260422T022043
CREATED:20220811T153016Z
LAST-MODIFIED:20220818T225641Z
UID:51806-1665705600-1665791999@www.piercingken.com
SUMMARY:New York Film Festival @ Film at Lincoln Center
DESCRIPTION:This year’s New York Film Festival will be held at Film at Lincoln Center and select other locations across NYC.  The slate of films for the 60th annual festival can be found in their Press Release that was posted HERE.  Keep up with their website and social media for the other locations. \n \nLike this:Like Loading...
URL:https://www.piercingken.com/event/new-york-film-festival-film-at-lincoln-center-15/
LOCATION:Lincoln Center for the Performing Arts\, 10 Lincoln Center Plaza\, New York\, NY\, 10023\, United States
CATEGORIES:Festival - Fair
END:VEVENT
BEGIN:VEVENT
DTSTART;VALUE=DATE:20221013
DTEND;VALUE=DATE:20221014
DTSTAMP:20260422T022043
CREATED:20220915T123046Z
LAST-MODIFIED:20221012T224939Z
UID:52176-1665619200-1665705599@www.piercingken.com
SUMMARY:Mondo.NYC @ Williamsburg Hotel
DESCRIPTION:The Mondo.NYC is the annual Music\, Arts & Technology Business Conference & Showcase Festival and it’s taking over the Williamsburg Hotel for the next three days.  This is the first fully in-person event since 2019 so don’t miss out if the topics lined out on their site interest you. \n \nLike this:Like Loading...
URL:https://www.piercingken.com/event/mondo-nyc-williamsburg-hotel-7/
LOCATION:Williamsburg Hotel\, 96 Wythe Avenue\, Brooklyn\, NY\, 11249\, United States
CATEGORIES:Convention
END:VEVENT
BEGIN:VEVENT
DTSTART;VALUE=DATE:20221013
DTEND;VALUE=DATE:20221014
DTSTAMP:20260422T022043
CREATED:20220811T151532Z
LAST-MODIFIED:20220818T225229Z
UID:51807-1665619200-1665705599@www.piercingken.com
SUMMARY:New York Film Festival @ Film at Lincoln Center
DESCRIPTION:This year’s New York Film Festival will be held at Film at Lincoln Center and select other locations across NYC.  The slate of films for the 60th annual festival can be found in their Press Release that was posted HERE.  Keep up with their website and social media for the other locations. \n \nLike this:Like Loading...
URL:https://www.piercingken.com/event/new-york-film-festival-film-at-lincoln-center-14/
LOCATION:Lincoln Center for the Performing Arts\, 10 Lincoln Center Plaza\, New York\, NY\, 10023\, United States
CATEGORIES:Festival - Fair
END:VEVENT
BEGIN:VEVENT
DTSTART;VALUE=DATE:20221012
DTEND;VALUE=DATE:20221013
DTSTAMP:20260422T022043
CREATED:20220915T121531Z
LAST-MODIFIED:20221012T222049Z
UID:52175-1665532800-1665619199@www.piercingken.com
SUMMARY:Mondo.NYC @ Williamsburg Hotel
DESCRIPTION:The Mondo.NYC is the annual Music\, Arts & Technology Business Conference & Showcase Festival and it’s taking over the Williamsburg Hotel for the next three days.  This is the first fully in-person event since 2019 so don’t miss out if the topics lined out on their site interest you.  \n \nLike this:Like Loading...
URL:https://www.piercingken.com/event/mondo-nyc-williamsburg-hotel-6/
LOCATION:Williamsburg Hotel\, 96 Wythe Avenue\, Brooklyn\, NY\, 11249\, United States
CATEGORIES:Convention
END:VEVENT
END:VCALENDAR