BEGIN:VCALENDAR
VERSION:2.0
PRODID:-//The Chronicles Of PiercingKen - ECPv6.15.20//NONSGML v1.0//EN
CALSCALE:GREGORIAN
METHOD:PUBLISH
X-ORIGINAL-URL:https://www.piercingken.com
X-WR-CALDESC:Events for The Chronicles Of PiercingKen
REFRESH-INTERVAL;VALUE=DURATION:PT1H
X-Robots-Tag:noindex
X-PUBLISHED-TTL:PT1H
BEGIN:VTIMEZONE
TZID:America/New_York
BEGIN:DAYLIGHT
TZOFFSETFROM:-0500
TZOFFSETTO:-0400
TZNAME:EDT
DTSTART:20210314T070000
END:DAYLIGHT
BEGIN:STANDARD
TZOFFSETFROM:-0400
TZOFFSETTO:-0500
TZNAME:EST
DTSTART:20211107T060000
END:STANDARD
BEGIN:DAYLIGHT
TZOFFSETFROM:-0500
TZOFFSETTO:-0400
TZNAME:EDT
DTSTART:20220313T070000
END:DAYLIGHT
BEGIN:STANDARD
TZOFFSETFROM:-0400
TZOFFSETTO:-0500
TZNAME:EST
DTSTART:20221106T060000
END:STANDARD
BEGIN:DAYLIGHT
TZOFFSETFROM:-0500
TZOFFSETTO:-0400
TZNAME:EDT
DTSTART:20230312T070000
END:DAYLIGHT
BEGIN:STANDARD
TZOFFSETFROM:-0400
TZOFFSETTO:-0500
TZNAME:EST
DTSTART:20231105T060000
END:STANDARD
END:VTIMEZONE
BEGIN:VEVENT
DTSTART;TZID=America/New_York:20220924T100000
DTEND;TZID=America/New_York:20220924T180000
DTSTAMP:20260422T004728
CREATED:20220903T120047Z
LAST-MODIFIED:20220919T161434Z
UID:52014-1664013600-1664042400@www.piercingken.com
SUMMARY:NYC Hot Sauce Expo @ Meadowlands Expo Center
DESCRIPTION:The NYC Hot Sauce Expo has moved to New Jersey for this year’s event based on the closure of the Brooklyn Expo Center (as discussed HERE).  This is STILL the only place to properly get fired up and try some of the best hot sauces available today.  Lots of fun competitions and even wrestling this time around.  Don’t miss out. \n \nLike this:Like Loading...
URL:https://www.piercingken.com/event/nyc-hot-sauce-expo-meadowlands-expo-center/
LOCATION:Meadowlands Exposition Center\, 355 Plaza Drive\, Secaucus\, NJ\, 07094\, United States
CATEGORIES:Festival - Fair
END:VEVENT
BEGIN:VEVENT
DTSTART;VALUE=DATE:20220925
DTEND;VALUE=DATE:20220926
DTSTAMP:20260422T004728
CREATED:20220821T124526Z
LAST-MODIFIED:20240926T024634Z
UID:51877-1664064000-1664150399@www.piercingken.com
SUMMARY:Affordable Art Fair NYC @ Metropolitan Pavilion
DESCRIPTION:The Affordable Art Fair returns to the Metropolitan Pavilion for its Fall event and will span four days.  If you’re looking to enhance your living space or office and have the money to spend you’re going to want to come out and see what these amazing artists have displayed. \n \nLike this:Like Loading...
URL:https://www.piercingken.com/event/affordable-art-fair-metropolitan-pavilion-nyc-29/
LOCATION:Metropolitan Pavilion\, 125 W 18th St.\, New York\,\, NY\, 10011\, United States
CATEGORIES:Art Fair
END:VEVENT
BEGIN:VEVENT
DTSTART;TZID=America/New_York:20220925T100000
DTEND;TZID=America/New_York:20220925T180000
DTSTAMP:20260422T004728
CREATED:20220903T121557Z
LAST-MODIFIED:20220919T162234Z
UID:52015-1664100000-1664128800@www.piercingken.com
SUMMARY:NYC Hot Sauce Expo @ Meadowlands Expo Center
DESCRIPTION:The NYC Hot Sauce Expo has moved to New Jersey for this year’s event based on the closure of the Brooklyn Expo Center (as discussed HERE).  This is STILL the only place to properly get fired up and try some of the best hot sauces available today.  Lots of fun competitions and even wrestling this time around.  Don’t miss out. \n \nLike this:Like Loading...
URL:https://www.piercingken.com/event/nyc-hot-sauce-expo-meadowlands-expo-center-2/
LOCATION:Meadowlands Exposition Center\, 355 Plaza Drive\, Secaucus\, NJ\, 07094\, United States
CATEGORIES:Festival - Fair
END:VEVENT
BEGIN:VEVENT
DTSTART;VALUE=DATE:20220929
DTEND;VALUE=DATE:20220930
DTSTAMP:20260422T004728
CREATED:20220701T120030Z
LAST-MODIFIED:20230207T004546Z
UID:51754-1664409600-1664495999@www.piercingken.com
SUMMARY:POSTPONED: Create NYC @ Duggal Greenhouse
DESCRIPTION:Based on logistics and planning issues\, the organizers of the debut edition of Create NYC have decided to postpone this happening until 2023.  More about their decision can be found in the press release posted HERE.  Please adjust your calendars accordingly and stay tuned to resources like this one for the very latest listings and changes in upcoming events. \n \nSpawned from the original Photoplus Expo\, a brand-new conference comes into being.  The Create NYC event will be interesting to many and take place at the spacious Duggal Greenhouse in Brooklyn\, NYC.   \nLike this:Like Loading...
URL:https://www.piercingken.com/event/postponed-create-nyc-duggal-greenhouse/
LOCATION:Duggal Greenhouse\, 268\, 63 Flushing Avenue\, Brooklyn\, 11205\, United States
CATEGORIES:Convention
END:VEVENT
BEGIN:VEVENT
DTSTART;VALUE=DATE:20220929
DTEND;VALUE=DATE:20220930
DTSTAMP:20260422T004728
CREATED:20220901T131534Z
LAST-MODIFIED:20220915T011231Z
UID:51968-1664409600-1664495999@www.piercingken.com
SUMMARY:White Label World Expo @ Javits Center
DESCRIPTION:The White Label World Expo has returned to New York for a pair of expo days at the famed Javits Center.  Hit the website in this listing to learn about the attending exhibitors and to be up to date on any safety protocols that might be in place. \n \nLike this:Like Loading...
URL:https://www.piercingken.com/event/white-label-world-expo-javits-center-3/
LOCATION:Jacob K. Javits Convention Center\, 655 W 34th St.\, New York\,\, NY\, 10001\, United States
CATEGORIES:Convention
END:VEVENT
BEGIN:VEVENT
DTSTART;VALUE=DATE:20220930
DTEND;VALUE=DATE:20221001
DTSTAMP:20260422T004728
CREATED:20220701T121534Z
LAST-MODIFIED:20220818T142741Z
UID:51755-1664496000-1664582399@www.piercingken.com
SUMMARY:POSTPONED: Create NYC @ Duggal Greenhouse
DESCRIPTION:Based on logistics and planning issues\, the organizers of the debut edition of Create NYC have decided to postpone this happening until 2023.  More about their decision can be found in the press release posted HERE.  Please adjust your calendars accordingly and stay tuned to resources like this one for the very latest listings and changes in upcoming events. \n \nSpawned from the original Photoplus Expo\, a brand-new conference comes into being.  The Create NYC event will be interesting to many and take place at the spacious Duggal Greenhouse in Brooklyn\, NYC.   \nLike this:Like Loading...
URL:https://www.piercingken.com/event/postponed-create-nyc-duggal-greenhouse-2/
LOCATION:Duggal Greenhouse\, 268\, 63 Flushing Avenue\, Brooklyn\, 11205\, United States
CATEGORIES:Convention
END:VEVENT
BEGIN:VEVENT
DTSTART;VALUE=DATE:20220930
DTEND;VALUE=DATE:20221001
DTSTAMP:20260422T004728
CREATED:20220811T120006Z
LAST-MODIFIED:20220818T164809Z
UID:51783-1664496000-1664582399@www.piercingken.com
SUMMARY:New York Film Festival @ Film at Lincoln Center
DESCRIPTION:This year’s New York Film Festival will be held at Film at Lincoln Center and select other locations across NYC.  The slate of films for the 60th annual festival can be found in their Press Release that was posted HERE.  Keep up with their website and social media for the other locations. \n \nLike this:Like Loading...
URL:https://www.piercingken.com/event/new-york-film-festival-film-at-lincoln-center/
LOCATION:Lincoln Center for the Performing Arts\, 10 Lincoln Center Plaza\, New York\, NY\, 10023\, United States
CATEGORIES:Festival - Fair
END:VEVENT
BEGIN:VEVENT
DTSTART;VALUE=DATE:20220930
DTEND;VALUE=DATE:20221001
DTSTAMP:20260422T004728
CREATED:20220901T133036Z
LAST-MODIFIED:20220915T011344Z
UID:51989-1664496000-1664582399@www.piercingken.com
SUMMARY:White Label World Expo @ Javits Center
DESCRIPTION:The White Label World Expo has returned to New York for a pair of expo days at the famed Javits Center.  Hit the website in this listing to learn about the attending exhibitors and to be up to date on any safety protocols that might be in place. \n \nLike this:Like Loading...
URL:https://www.piercingken.com/event/white-label-world-expo-javits-center-4/
LOCATION:Jacob K. Javits Convention Center\, 655 W 34th St.\, New York\,\, NY\, 10001\, United States
CATEGORIES:Convention
END:VEVENT
BEGIN:VEVENT
DTSTART;VALUE=DATE:20221001
DTEND;VALUE=DATE:20221002
DTSTAMP:20260422T004728
CREATED:20220701T123038Z
LAST-MODIFIED:20230207T004449Z
UID:51756-1664582400-1664668799@www.piercingken.com
SUMMARY:POSTPONED: Create NYC @ Duggal Greenhouse
DESCRIPTION:Based on logistics and planning issues\, the organizers of the debut edition of Create NYC have decided to postpone this happening until 2023.  More about their decision can be found in the press release posted HERE.  Please adjust your calendars accordingly and stay tuned to resources like this one for the very latest listings and changes in upcoming events. \n \nSpawned from the original Photoplus Expo\, a brand-new conference comes into being.  The Create NYC event will be interesting to many and take place at the spacious Duggal Greenhouse in Brooklyn\, NYC.   \nLike this:Like Loading...
URL:https://www.piercingken.com/event/postponed-create-nyc-duggal-greenhouse-3/
LOCATION:Duggal Greenhouse\, 268\, 63 Flushing Avenue\, Brooklyn\, 11205\, United States
CATEGORIES:Convention
END:VEVENT
BEGIN:VEVENT
DTSTART;VALUE=DATE:20221001
DTEND;VALUE=DATE:20221002
DTSTAMP:20260422T004728
CREATED:20220811T121519Z
LAST-MODIFIED:20220818T165347Z
UID:51784-1664582400-1664668799@www.piercingken.com
SUMMARY:New York Film Festival @ Film at Lincoln Center
DESCRIPTION:This year’s New York Film Festival will be held at Film at Lincoln Center and select other locations across NYC.  The slate of films for the 60th annual festival can be found in their Press Release that was posted HERE.  Keep up with their website and social media for the other locations. \n \nLike this:Like Loading...
URL:https://www.piercingken.com/event/new-york-film-festival-film-at-lincoln-center-2/
LOCATION:Lincoln Center for the Performing Arts\, 10 Lincoln Center Plaza\, New York\, NY\, 10023\, United States
CATEGORIES:Festival - Fair
END:VEVENT
BEGIN:VEVENT
DTSTART;TZID=America/New_York:20221001T110000
DTEND;TZID=America/New_York:20221001T180000
DTSTAMP:20260422T004728
CREATED:20220921T160039Z
LAST-MODIFIED:20220922T024330Z
UID:52088-1664622000-1664647200@www.piercingken.com
SUMMARY:Sex Expo @ Metropolitan Pavilion
DESCRIPTION:The Sex Expo returns to NYC as an in-person event and will be the place to help you enhance your love life and promote sexual wellness.    \n \nLike this:Like Loading...
URL:https://www.piercingken.com/event/sex-expo-metropolitan-pavilion/
LOCATION:Metropolitan Pavilion\, 125 W 18th St.\, New York\,\, NY\, 10011\, United States
CATEGORIES:Convention
END:VEVENT
BEGIN:VEVENT
DTSTART;VALUE=DATE:20221002
DTEND;VALUE=DATE:20221003
DTSTAMP:20260422T004728
CREATED:20220811T123056Z
LAST-MODIFIED:20220818T165843Z
UID:51785-1664668800-1664755199@www.piercingken.com
SUMMARY:New York Film Festival @ Film at Lincoln Center
DESCRIPTION:This year’s New York Film Festival will be held at Film at Lincoln Center and select other locations across NYC.  The slate of films for the 60th annual festival can be found in their Press Release that was posted HERE.  Keep up with their website and social media for the other locations. \n \nLike this:Like Loading...
URL:https://www.piercingken.com/event/new-york-film-festival-film-at-lincoln-center-3/
LOCATION:Lincoln Center for the Performing Arts\, 10 Lincoln Center Plaza\, New York\, NY\, 10023\, United States
CATEGORIES:Festival - Fair
END:VEVENT
BEGIN:VEVENT
DTSTART;TZID=America/New_York:20221002T100000
DTEND;TZID=America/New_York:20221002T170000
DTSTAMP:20260422T004728
CREATED:20220920T130047Z
LAST-MODIFIED:20230106T053258Z
UID:52133-1664704800-1664730000@www.piercingken.com
SUMMARY:Brooklyn Book Festival @ Brooklyn Commons
DESCRIPTION:The Brooklyn Book Festival brings their Marketplace/Festival Day to Brooklyn Commons which is the space formerly known as Metrotech Center.   Get on out there and find something new to read. \n \nLike this:Like Loading...
URL:https://www.piercingken.com/event/brooklyn-book-festival-brooklyn-commons/
LOCATION:Brooklyn Commons\, 351 Jay Street\, Brooklyn\, NY\, 11201\, United States
CATEGORIES:Festival - Fair
END:VEVENT
BEGIN:VEVENT
DTSTART;TZID=America/New_York:20221002T110000
DTEND;TZID=America/New_York:20221002T180000
DTSTAMP:20260422T004728
CREATED:20220921T163047Z
LAST-MODIFIED:20220922T024412Z
UID:52089-1664708400-1664733600@www.piercingken.com
SUMMARY:Sex Expo @ Metropolitan Pavilion
DESCRIPTION:The Sex Expo returns to NYC as an in-person event and will be the place to help you enhance your love life and promote sexual wellness.    \n \nLike this:Like Loading...
URL:https://www.piercingken.com/event/sex-expo-metropolitan-pavilion-2/
LOCATION:Metropolitan Pavilion\, 125 W 18th St.\, New York\,\, NY\, 10011\, United States
CATEGORIES:Convention
END:VEVENT
BEGIN:VEVENT
DTSTART;VALUE=DATE:20221003
DTEND;VALUE=DATE:20221004
DTSTAMP:20260422T004728
CREATED:20220811T124526Z
LAST-MODIFIED:20220818T171547Z
UID:51786-1664755200-1664841599@www.piercingken.com
SUMMARY:New York Film Festival @ Film at Lincoln Center
DESCRIPTION:This year’s New York Film Festival will be held at Film at Lincoln Center and select other locations across NYC.  The slate of films for the 60th annual festival can be found in their Press Release that was posted HERE.  Keep up with their website and social media for the other locations. \n \nLike this:Like Loading...
URL:https://www.piercingken.com/event/new-york-film-festival-film-at-lincoln-center-4/
LOCATION:Lincoln Center for the Performing Arts\, 10 Lincoln Center Plaza\, New York\, NY\, 10023\, United States
CATEGORIES:Festival - Fair
END:VEVENT
BEGIN:VEVENT
DTSTART;VALUE=DATE:20221004
DTEND;VALUE=DATE:20221005
DTSTAMP:20260422T004728
CREATED:20220811T130018Z
LAST-MODIFIED:20220818T173140Z
UID:51787-1664841600-1664927999@www.piercingken.com
SUMMARY:New York Film Festival @ Film at Lincoln Center
DESCRIPTION:This year’s New York Film Festival will be held at Film at Lincoln Center and select other locations across NYC.  The slate of films for the 60th annual festival can be found in their Press Release that was posted HERE.  Keep up with their website and social media for the other locations. \n \nLike this:Like Loading...
URL:https://www.piercingken.com/event/new-york-film-festival-film-at-lincoln-center-5/
LOCATION:Lincoln Center for the Performing Arts\, 10 Lincoln Center Plaza\, New York\, NY\, 10023\, United States
CATEGORIES:Festival - Fair
END:VEVENT
BEGIN:VEVENT
DTSTART;VALUE=DATE:20221005
DTEND;VALUE=DATE:20221006
DTSTAMP:20260422T004728
CREATED:20220811T131528Z
LAST-MODIFIED:20220818T181044Z
UID:51788-1664928000-1665014399@www.piercingken.com
SUMMARY:New York Film Festival @ Film at Lincoln Center
DESCRIPTION:This year’s New York Film Festival will be held at Film at Lincoln Center and select other locations across NYC.  The slate of films for the 60th annual festival can be found in their Press Release that was posted HERE.  Keep up with their website and social media for the other locations. \n \nLike this:Like Loading...
URL:https://www.piercingken.com/event/new-york-film-festival-film-at-lincoln-center-6/
LOCATION:Lincoln Center for the Performing Arts\, 10 Lincoln Center Plaza\, New York\, NY\, 10023\, United States
CATEGORIES:Festival - Fair
END:VEVENT
BEGIN:VEVENT
DTSTART;VALUE=DATE:20221006
DTEND;VALUE=DATE:20221007
DTSTAMP:20260422T004728
CREATED:20220409T120028Z
LAST-MODIFIED:20220409T135850Z
UID:50777-1665014400-1665100799@www.piercingken.com
SUMMARY:New York Comic Con @ Jacob Javits Center
DESCRIPTION:It’s time my geek-minded friends\, the New York Comic Con has arrived at the Javits Center and its the mega-event of the year if you’re a fan of comic books\, science fiction\, films and all sorts of cosplaying.  Don’t miss out on all of the exciting and fun stuff to do. \n \nLike this:Like Loading...
URL:https://www.piercingken.com/event/new-york-comic-con-jacob-javits-center-5/
LOCATION:Jacob K. Javits Convention Center\, 655 W 34th St.\, New York\,\, NY\, 10001\, United States
CATEGORIES:Convention
END:VEVENT
BEGIN:VEVENT
DTSTART;VALUE=DATE:20221006
DTEND;VALUE=DATE:20221007
DTSTAMP:20260422T004728
CREATED:20220811T133014Z
LAST-MODIFIED:20220818T181130Z
UID:51799-1665014400-1665100799@www.piercingken.com
SUMMARY:New York Film Festival @ Film at Lincoln Center
DESCRIPTION:This year’s New York Film Festival will be held at Film at Lincoln Center and select other locations across NYC.  The slate of films for the 60th annual festival can be found in their Press Release that was posted HERE.  Keep up with their website and social media for the other locations. \n \nLike this:Like Loading...
URL:https://www.piercingken.com/event/new-york-film-festival-film-at-lincoln-center-7/
LOCATION:Lincoln Center for the Performing Arts\, 10 Lincoln Center Plaza\, New York\, NY\, 10023\, United States
CATEGORIES:Festival - Fair
END:VEVENT
BEGIN:VEVENT
DTSTART;VALUE=DATE:20221007
DTEND;VALUE=DATE:20221008
DTSTAMP:20260422T004728
CREATED:20220409T121534Z
LAST-MODIFIED:20220409T140025Z
UID:50778-1665100800-1665187199@www.piercingken.com
SUMMARY:New York Comic Con @ Jacob Javits Center
DESCRIPTION:It’s time my geek-minded friends\, the New York Comic Con has arrived at the Javits Center and its the mega-event of the year if you’re a fan of comic books\, science fiction\, films and all sorts of cosplaying.  Don’t miss out on all of the exciting and fun stuff to do. \n \nLike this:Like Loading...
URL:https://www.piercingken.com/event/new-york-comic-con-jacob-javits-center-6/
LOCATION:Jacob K. Javits Convention Center\, 655 W 34th St.\, New York\,\, NY\, 10001\, United States
CATEGORIES:Convention
END:VEVENT
BEGIN:VEVENT
DTSTART;VALUE=DATE:20221007
DTEND;VALUE=DATE:20221008
DTSTAMP:20260422T004728
CREATED:20220707T193048Z
LAST-MODIFIED:20220915T165208Z
UID:51643-1665100800-1665187199@www.piercingken.com
SUMMARY:New York Coffee Festival @ Metropolitan Pavilion
DESCRIPTION:The New York Coffee Festival returns to being an in-person affair and its the place to be for all of your caffeinated indulgences.  In addition to some amazing coffee presenters\, there are snacks and other beverages to purchase and cool accessories.  There are special prices for children and some VIP level access outside the normal convention price listed. For more information refer to the initial event announcement posted HERE. \n \nLike this:Like Loading...
URL:https://www.piercingken.com/event/new-york-coffee-festival-metropolitan-pavilion-2/
LOCATION:Metropolitan Pavilion\, 125 W 18th St.\, New York\,\, NY\, 10011\, United States
CATEGORIES:Festival - Fair
END:VEVENT
BEGIN:VEVENT
DTSTART;VALUE=DATE:20221007
DTEND;VALUE=DATE:20221008
DTSTAMP:20260422T004728
CREATED:20220811T134524Z
LAST-MODIFIED:20220818T183539Z
UID:51800-1665100800-1665187199@www.piercingken.com
SUMMARY:New York Film Festival @ Film at Lincoln Center
DESCRIPTION:This year’s New York Film Festival will be held at Film at Lincoln Center and select other locations across NYC.  The slate of films for the 60th annual festival can be found in their Press Release that was posted HERE.  Keep up with their website and social media for the other locations. \n \nLike this:Like Loading...
URL:https://www.piercingken.com/event/new-york-film-festival-film-at-lincoln-center-8/
LOCATION:Lincoln Center for the Performing Arts\, 10 Lincoln Center Plaza\, New York\, NY\, 10023\, United States
CATEGORIES:Festival - Fair
END:VEVENT
BEGIN:VEVENT
DTSTART;VALUE=DATE:20221008
DTEND;VALUE=DATE:20221009
DTSTAMP:20260422T004728
CREATED:20220409T123047Z
LAST-MODIFIED:20220409T140338Z
UID:50779-1665187200-1665273599@www.piercingken.com
SUMMARY:New York Comic Con @ Jacob Javits Center
DESCRIPTION:It’s time my geek-minded friends\, the New York Comic Con has arrived at the Javits Center and its the mega-event of the year if you’re a fan of comic books\, science fiction\, films and all sorts of cosplaying.  Don’t miss out on all of the exciting and fun stuff to do. \n \nLike this:Like Loading...
URL:https://www.piercingken.com/event/new-york-comic-con-jacob-javits-center-7/
LOCATION:Jacob K. Javits Convention Center\, 655 W 34th St.\, New York\,\, NY\, 10001\, United States
CATEGORIES:Convention
END:VEVENT
BEGIN:VEVENT
DTSTART;VALUE=DATE:20221008
DTEND;VALUE=DATE:20221009
DTSTAMP:20260422T004728
CREATED:20220707T200006Z
LAST-MODIFIED:20220915T165738Z
UID:51644-1665187200-1665273599@www.piercingken.com
SUMMARY:New York Coffee Festival @ Metropolitan Pavilion
DESCRIPTION:The New York Coffee Festival returns to being an in-person affair and its the place to be for all of your caffeinated indulgences.  In addition to some amazing coffee presenters\, there are snacks and other beverages to purchase and cool accessories.  There are special prices for children and some VIP level access outside the normal convention price listed. For more information refer to the initial event announcement posted HERE. \n \nLike this:Like Loading...
URL:https://www.piercingken.com/event/new-york-coffee-festival-metropolitan-pavilion-3/
LOCATION:Metropolitan Pavilion\, 125 W 18th St.\, New York\,\, NY\, 10011\, United States
CATEGORIES:Festival - Fair
END:VEVENT
BEGIN:VEVENT
DTSTART;VALUE=DATE:20221008
DTEND;VALUE=DATE:20221009
DTSTAMP:20260422T004728
CREATED:20220811T140033Z
LAST-MODIFIED:20220818T184054Z
UID:51801-1665187200-1665273599@www.piercingken.com
SUMMARY:New York Film Festival @ Film at Lincoln Center
DESCRIPTION:This year’s New York Film Festival will be held at Film at Lincoln Center and select other locations across NYC.  The slate of films for the 60th annual festival can be found in their Press Release that was posted HERE.  Keep up with their website and social media for the other locations. \n \nLike this:Like Loading...
URL:https://www.piercingken.com/event/new-york-film-festival-film-at-lincoln-center-9/
LOCATION:Lincoln Center for the Performing Arts\, 10 Lincoln Center Plaza\, New York\, NY\, 10023\, United States
CATEGORIES:Festival - Fair
END:VEVENT
BEGIN:VEVENT
DTSTART;VALUE=DATE:20221009
DTEND;VALUE=DATE:20221010
DTSTAMP:20260422T004728
CREATED:20220409T124555Z
LAST-MODIFIED:20220409T140510Z
UID:50780-1665273600-1665359999@www.piercingken.com
SUMMARY:New York Comic Con @ Jacob Javits Center
DESCRIPTION:It’s time my geek-minded friends\, the New York Comic Con has arrived at the Javits Center and its the mega-event of the year if you’re a fan of comic books\, science fiction\, films and all sorts of cosplaying.  Don’t miss out on all of the exciting and fun stuff to do. \n \nLike this:Like Loading...
URL:https://www.piercingken.com/event/new-york-comic-con-jacob-javits-center-8/
LOCATION:Jacob K. Javits Convention Center\, 655 W 34th St.\, New York\,\, NY\, 10001\, United States
CATEGORIES:Convention
END:VEVENT
BEGIN:VEVENT
DTSTART;VALUE=DATE:20221009
DTEND;VALUE=DATE:20221010
DTSTAMP:20260422T004728
CREATED:20220707T203027Z
LAST-MODIFIED:20220915T165919Z
UID:51642-1665273600-1665359999@www.piercingken.com
SUMMARY:New York Coffee Festival @ Metropolitan Pavilion
DESCRIPTION:The New York Coffee Festival returns to being an in-person affair and its the place to be for all of your caffeinated indulgences.  In addition to some amazing coffee presenters\, there are snacks and other beverages to purchase and cool accessories.  There are special prices for children and some VIP level access outside the normal convention price listed. For more information refer to the initial event announcement posted HERE. \n \nLike this:Like Loading...
URL:https://www.piercingken.com/event/new-york-coffee-festival-metropolitan-pavilion-4/
LOCATION:Metropolitan Pavilion\, 125 W 18th St.\, New York\,\, NY\, 10011\, United States
CATEGORIES:Festival - Fair
END:VEVENT
BEGIN:VEVENT
DTSTART;VALUE=DATE:20221009
DTEND;VALUE=DATE:20221010
DTSTAMP:20260422T004728
CREATED:20220811T141503Z
LAST-MODIFIED:20220818T200216Z
UID:51803-1665273600-1665359999@www.piercingken.com
SUMMARY:New York Film Festival @ Film at Lincoln Center
DESCRIPTION:This year’s New York Film Festival will be held at Film at Lincoln Center and select other locations across NYC.  The slate of films for the 60th annual festival can be found in their Press Release that was posted HERE.  Keep up with their website and social media for the other locations. \n \nLike this:Like Loading...
URL:https://www.piercingken.com/event/new-york-film-festival-film-at-lincoln-center-10/
LOCATION:Lincoln Center for the Performing Arts\, 10 Lincoln Center Plaza\, New York\, NY\, 10023\, United States
CATEGORIES:Festival - Fair
END:VEVENT
BEGIN:VEVENT
DTSTART;VALUE=DATE:20221010
DTEND;VALUE=DATE:20221011
DTSTAMP:20260422T004728
CREATED:20220811T143003Z
LAST-MODIFIED:20220818T200506Z
UID:51802-1665360000-1665446399@www.piercingken.com
SUMMARY:New York Film Festival @ Film at Lincoln Center
DESCRIPTION:This year’s New York Film Festival will be held at Film at Lincoln Center and select other locations across NYC.  The slate of films for the 60th annual festival can be found in their Press Release that was posted HERE.  Keep up with their website and social media for the other locations. \n \nLike this:Like Loading...
URL:https://www.piercingken.com/event/new-york-film-festival-film-at-lincoln-center-11/
LOCATION:Lincoln Center for the Performing Arts\, 10 Lincoln Center Plaza\, New York\, NY\, 10023\, United States
CATEGORIES:Festival - Fair
END:VEVENT
BEGIN:VEVENT
DTSTART;VALUE=DATE:20221011
DTEND;VALUE=DATE:20221012
DTSTAMP:20260422T004728
CREATED:20220811T144520Z
LAST-MODIFIED:20220818T220713Z
UID:51809-1665446400-1665532799@www.piercingken.com
SUMMARY:New York Film Festival @ Film at Lincoln Center
DESCRIPTION:This year’s New York Film Festival will be held at Film at Lincoln Center and select other locations across NYC.  The slate of films for the 60th annual festival can be found in their Press Release that was posted HERE.  Keep up with their website and social media for the other locations. \n \nLike this:Like Loading...
URL:https://www.piercingken.com/event/new-york-film-festival-film-at-lincoln-center-12/
LOCATION:Lincoln Center for the Performing Arts\, 10 Lincoln Center Plaza\, New York\, NY\, 10023\, United States
CATEGORIES:Festival - Fair
END:VEVENT
END:VCALENDAR