BEGIN:VCALENDAR
VERSION:2.0
PRODID:-//The Chronicles Of PiercingKen - ECPv6.15.20//NONSGML v1.0//EN
CALSCALE:GREGORIAN
METHOD:PUBLISH
X-WR-CALNAME:The Chronicles Of PiercingKen
X-ORIGINAL-URL:https://www.piercingken.com
X-WR-CALDESC:Events for The Chronicles Of PiercingKen
REFRESH-INTERVAL;VALUE=DURATION:PT1H
X-Robots-Tag:noindex
X-PUBLISHED-TTL:PT1H
BEGIN:VTIMEZONE
TZID:America/New_York
BEGIN:DAYLIGHT
TZOFFSETFROM:-0500
TZOFFSETTO:-0400
TZNAME:EDT
DTSTART:20250309T070000
END:DAYLIGHT
BEGIN:STANDARD
TZOFFSETFROM:-0400
TZOFFSETTO:-0500
TZNAME:EST
DTSTART:20251102T060000
END:STANDARD
BEGIN:DAYLIGHT
TZOFFSETFROM:-0500
TZOFFSETTO:-0400
TZNAME:EDT
DTSTART:20260308T070000
END:DAYLIGHT
BEGIN:STANDARD
TZOFFSETFROM:-0400
TZOFFSETTO:-0500
TZNAME:EST
DTSTART:20261101T060000
END:STANDARD
BEGIN:DAYLIGHT
TZOFFSETFROM:-0500
TZOFFSETTO:-0400
TZNAME:EDT
DTSTART:20270314T070000
END:DAYLIGHT
BEGIN:STANDARD
TZOFFSETFROM:-0400
TZOFFSETTO:-0500
TZNAME:EST
DTSTART:20271107T060000
END:STANDARD
END:VTIMEZONE
BEGIN:VEVENT
DTSTART;VALUE=DATE:20260609
DTEND;VALUE=DATE:20260610
DTSTAMP:20260419T110453
CREATED:20260313T120040Z
LAST-MODIFIED:20260314T005922Z
UID:62066-1780963200-1781049599@www.piercingken.com
SUMMARY:Bar Convent Brooklyn @ Industry City
DESCRIPTION:The Bar Convent Brooklyn returns to Industry City and is the premier two-day trade show and educational event for the bar and beverage industry.  Since its a trade show\, the general public may not attend but can watch the reveals on their official site and social media profiles. \n \nLike this:Like Loading...
URL:https://www.piercingken.com/event/bar-convent-brooklyn-industry-city-3/
LOCATION:Industry City\, 220-36th Street\, Brooklyn\, NY\, 11232\, United States
CATEGORIES:Trade Show
END:VEVENT
BEGIN:VEVENT
DTSTART;VALUE=DATE:20260610
DTEND;VALUE=DATE:20260611
DTSTAMP:20260419T110453
CREATED:20260313T121541Z
LAST-MODIFIED:20260314T005934Z
UID:62067-1781049600-1781135999@www.piercingken.com
SUMMARY:Bar Convent Brooklyn @ Industry City
DESCRIPTION:The Bar Convent Brooklyn returns to Industry City and is the premier two-day trade show and educational event for the bar and beverage industry.  Since its a trade show\, the general public may not attend but can watch the reveals on their official site and social media profiles. \n \nLike this:Like Loading...
URL:https://www.piercingken.com/event/bar-convent-brooklyn-industry-city-4/
LOCATION:Industry City\, 220-36th Street\, Brooklyn\, NY\, 11232\, United States
CATEGORIES:Trade Show
END:VEVENT
END:VCALENDAR