BEGIN:VCALENDAR
VERSION:2.0
PRODID:-//The Chronicles Of PiercingKen - ECPv6.15.20//NONSGML v1.0//EN
CALSCALE:GREGORIAN
METHOD:PUBLISH
X-ORIGINAL-URL:https://www.piercingken.com
X-WR-CALDESC:Events for The Chronicles Of PiercingKen
REFRESH-INTERVAL;VALUE=DURATION:PT1H
X-Robots-Tag:noindex
X-PUBLISHED-TTL:PT1H
BEGIN:VTIMEZONE
TZID:America/New_York
BEGIN:DAYLIGHT
TZOFFSETFROM:-0500
TZOFFSETTO:-0400
TZNAME:EDT
DTSTART:20250309T070000
END:DAYLIGHT
BEGIN:STANDARD
TZOFFSETFROM:-0400
TZOFFSETTO:-0500
TZNAME:EST
DTSTART:20251102T060000
END:STANDARD
BEGIN:DAYLIGHT
TZOFFSETFROM:-0500
TZOFFSETTO:-0400
TZNAME:EDT
DTSTART:20260308T070000
END:DAYLIGHT
BEGIN:STANDARD
TZOFFSETFROM:-0400
TZOFFSETTO:-0500
TZNAME:EST
DTSTART:20261101T060000
END:STANDARD
BEGIN:DAYLIGHT
TZOFFSETFROM:-0500
TZOFFSETTO:-0400
TZNAME:EDT
DTSTART:20270314T070000
END:DAYLIGHT
BEGIN:STANDARD
TZOFFSETFROM:-0400
TZOFFSETTO:-0500
TZNAME:EST
DTSTART:20271107T060000
END:STANDARD
END:VTIMEZONE
BEGIN:VEVENT
DTSTART;VALUE=DATE:20260123
DTEND;VALUE=DATE:20260124
DTSTAMP:20260421T153749
CREATED:20250927T120015Z
LAST-MODIFIED:20250927T182934Z
UID:59665-1769126400-1769212799@www.piercingken.com
SUMMARY:BroadwayCon @ Sheraton New York Times Square
DESCRIPTION:BroadwayCon returns for its 2026 extravaganza and will be in the Sheraton New York Times Square this year.  If you love all things Broadway\, then this is the convention for you.  Tons of discussions\, amazing Broadway-centric vendors and inspiring panels and performances.  Don’t miss out.   \n \nLike this:Like Loading...
URL:https://www.piercingken.com/event/broadwaycon-sheraton-new-york-times-square/
LOCATION:Sheraton Times Square\, 811-7th Ave\, New York\, NY\, 10019\, United States
CATEGORIES:Convention
END:VEVENT
BEGIN:VEVENT
DTSTART;VALUE=DATE:20260124
DTEND;VALUE=DATE:20260125
DTSTAMP:20260421T153749
CREATED:20250927T121521Z
LAST-MODIFIED:20250927T183154Z
UID:59666-1769212800-1769299199@www.piercingken.com
SUMMARY:BroadwayCon @ Sheraton New York Times Square
DESCRIPTION:BroadwayCon returns for its 2026 extravaganza and will be in the Sheraton New York Times Square this year.  If you love all things Broadway\, then this is the convention for you.  Tons of discussions\, amazing Broadway-centric vendors and inspiring panels and performances.  Don’t miss out.   \n \nLike this:Like Loading...
URL:https://www.piercingken.com/event/broadwaycon-sheraton-new-york-times-square-2/
LOCATION:Sheraton Times Square\, 811-7th Ave\, New York\, NY\, 10019\, United States
CATEGORIES:Convention
END:VEVENT
BEGIN:VEVENT
DTSTART;VALUE=DATE:20260125
DTEND;VALUE=DATE:20260126
DTSTAMP:20260421T153749
CREATED:20250927T123028Z
LAST-MODIFIED:20250927T183125Z
UID:59667-1769299200-1769385599@www.piercingken.com
SUMMARY:BroadwayCon @ Sheraton New York Times Square
DESCRIPTION:BroadwayCon returns for its 2026 extravaganza and will be in the Sheraton New York Times Square this year.  If you love all things Broadway\, then this is the convention for you.  Tons of discussions\, amazing Broadway-centric vendors and inspiring panels and performances.  Don’t miss out.   \n \nLike this:Like Loading...
URL:https://www.piercingken.com/event/broadwaycon-sheraton-new-york-times-square-3/
LOCATION:Sheraton Times Square\, 811-7th Ave\, New York\, NY\, 10019\, United States
CATEGORIES:Convention
END:VEVENT
END:VCALENDAR