BEGIN:VCALENDAR
VERSION:2.0
PRODID:-//The Chronicles Of PiercingKen - ECPv6.15.20//NONSGML v1.0//EN
CALSCALE:GREGORIAN
METHOD:PUBLISH
X-ORIGINAL-URL:https://www.piercingken.com
X-WR-CALDESC:Events for The Chronicles Of PiercingKen
REFRESH-INTERVAL;VALUE=DURATION:PT1H
X-Robots-Tag:noindex
X-PUBLISHED-TTL:PT1H
BEGIN:VTIMEZONE
TZID:America/New_York
BEGIN:DAYLIGHT
TZOFFSETFROM:-0500
TZOFFSETTO:-0400
TZNAME:EDT
DTSTART:20220313T070000
END:DAYLIGHT
BEGIN:STANDARD
TZOFFSETFROM:-0400
TZOFFSETTO:-0500
TZNAME:EST
DTSTART:20221106T060000
END:STANDARD
BEGIN:DAYLIGHT
TZOFFSETFROM:-0500
TZOFFSETTO:-0400
TZNAME:EDT
DTSTART:20230312T070000
END:DAYLIGHT
BEGIN:STANDARD
TZOFFSETFROM:-0400
TZOFFSETTO:-0500
TZNAME:EST
DTSTART:20231105T060000
END:STANDARD
BEGIN:DAYLIGHT
TZOFFSETFROM:-0500
TZOFFSETTO:-0400
TZNAME:EDT
DTSTART:20240310T070000
END:DAYLIGHT
BEGIN:STANDARD
TZOFFSETFROM:-0400
TZOFFSETTO:-0500
TZNAME:EST
DTSTART:20241103T060000
END:STANDARD
END:VTIMEZONE
BEGIN:VEVENT
DTSTART;VALUE=DATE:20231001
DTEND;VALUE=DATE:20231002
DTSTAMP:20260422T070943
CREATED:20230901T121509Z
LAST-MODIFIED:20250207T031324Z
UID:58093-1696118400-1696204799@www.piercingken.com
SUMMARY:Toy Fair @ Javits Center
DESCRIPTION:After a pause of more than three and a half years due to the pandemic\, Toy Fair is back and will take over the Javits Center for four days in the Fall and will showcase the latest and greatest toys and games.  This industry only event is not open to the general public so you’re going to want to follow your favorite toy companies and this websites Pop Culture section and our Social Networks listed on the Official Linktree to see some of the finds as fast as we do.  Let us play….. \n \nLike this:Like Loading...
URL:https://www.piercingken.com/event/toy-fair-javits-center-18/
LOCATION:Jacob K. Javits Convention Center\, 655 W 34th St.\, New York\,\, NY\, 10001\, United States
CATEGORIES:Trade Show
END:VEVENT
END:VCALENDAR